• using R Under development (unstable) (2025-01-24 r87627)
  • using platform: x86_64-apple-darwin20
  • R was compiled by     Apple clang version 14.0.0 (clang-1400.0.29.202)     GNU Fortran (GCC) 14.2.0
  • running under: macOS Ventura 13.3.1
  • using session charset: UTF-8
  • checking for file ‘UsingR/DESCRIPTION’ ... OK
  • this is package ‘UsingR’ version ‘2.0-7’
  • checking package namespace information ... OK
  • checking package dependencies ... OK
  • checking if this is a source package ... OK
  • checking if there is a namespace ... OK
  • checking for executable files ... OK
  • checking for hidden files and directories ... OK
  • checking for portable file names ... OK
  • checking for sufficient/correct file permissions ... OK
  • checking whether package ‘UsingR’ can be installed ... [6s/7s] OK See the install log for details.
  • checking installed package size ... OK
  • checking package directory ... OK
  • checking DESCRIPTION meta-information ... OK
  • checking top-level files ... OK
  • checking for left-over files ... OK
  • checking index information ... OK
  • checking package subdirectories ... OK
  • checking code files for non-ASCII characters ... OK
  • checking R files for syntax errors ... OK
  • checking whether the package can be loaded ... [1s/1s] OK
  • checking whether the package can be loaded with stated dependencies ... [1s/1s] OK
  • checking whether the package can be unloaded cleanly ... [1s/1s] OK
  • checking whether the namespace can be loaded with stated dependencies ... [1s/1s] OK
  • checking whether the namespace can be unloaded cleanly ... [1s/1s] OK
  • checking loading without being on the library search path ... [1s/1s] OK
  • checking dependencies in R code ... OK
  • checking S3 generic/method consistency ... OK
  • checking replacement functions ... OK
  • checking foreign function calls ... OK
  • checking R code for possible problems ... [4s/6s] OK
  • checking Rd files ... [1s/1s] NOTE checkRd: (-1) aosat.Rd:20: Escaped LaTeX specials: \_ \_ \_ checkRd: (-1) aosat.Rd:21: Escaped LaTeX specials: \_ checkRd: (-1) arctic.oscillations.Rd:19: Escaped LaTeX specials: \_ \_ \_ checkRd: (-1) arctic.oscillations.Rd:20: Escaped LaTeX specials: \_ checkRd: (-1) babies.Rd:28: Escaped LaTeX specials: \& checkRd: (-1) babies.Rd:41: Escaped LaTeX specials: \$ checkRd: (-1) cabinet.Rd:25: Escaped LaTeX specials: \$ checkRd: (-1) cabinet.Rd:43: Escaped LaTeX specials: \$ checkRd: (-1) cabinet.Rd:48: Escaped LaTeX specials: \$ checkRd: (-1) exec.pay.Rd:5: Escaped LaTeX specials: \$ checkRd: (-1) sp500.excess.Rd:4: Escaped LaTeX specials: \& checkRd: (-1) sp500.excess.Rd:6: Escaped LaTeX specials: \&
  • checking Rd metadata ... OK
  • checking Rd cross-references ... OK
  • checking for missing documentation entries ... OK
  • checking for code/documentation mismatches ... OK
  • checking Rd \usage sections ... OK
  • checking Rd contents ... OK
  • checking for unstated dependencies in examples ... OK
  • checking contents of ‘data’ directory ... OK
  • checking data for non-ASCII characters ... [1s/1s] OK
  • checking LazyData ... OK
  • checking data for ASCII and uncompressed saves ... OK
  • checking examples ... [3s/4s] OK
  • checking PDF version of manual ... [9s/12s] OK
  • DONE Status: 1 NOTE
  • using check arguments '--no-clean-on-error '