- using R version 4.5.1 Patched (2025-06-30 r88369)
- using platform: x86_64-pc-linux-gnu
- R was compiled by
gcc-14 (Debian 14.2.0-19) 14.2.0
GNU Fortran (Debian 14.2.0-19) 14.2.0
- running under: Debian GNU/Linux 13 (trixie)
- using session charset: UTF-8
- checking for file ‘lsirm12pl/DESCRIPTION’ ... OK
- checking extension type ... Package
- this is package ‘lsirm12pl’ version ‘1.3.4’
- package encoding: UTF-8
- checking package namespace information ... OK
- checking package dependencies ... OK
- checking if this is a source package ... OK
- checking if there is a namespace ... OK
- checking for executable files ... OK
- checking for hidden files and directories ... OK
- checking for portable file names ... OK
- checking for sufficient/correct file permissions ... OK
- checking serialization versions ... OK
- checking whether package ‘lsirm12pl’ can be installed ... OK
See the install log for details.
- used C++ compiler: ‘g++-14 (Debian 14.2.0-19) 14.2.0’
- checking package directory ... OK
- checking for future file timestamps ... OK
- checking DESCRIPTION meta-information ... OK
- checking top-level files ... OK
- checking for left-over files ... OK
- checking index information ... OK
- checking package subdirectories ... OK
- checking code files for non-ASCII characters ... OK
- checking R files for syntax errors ... OK
- checking whether the package can be loaded ... [6s/8s] OK
- checking whether the package can be loaded with stated dependencies ... [5s/7s] OK
- checking whether the package can be unloaded cleanly ... [5s/6s] OK
- checking whether the namespace can be loaded with stated dependencies ... [5s/6s] OK
- checking whether the namespace can be unloaded cleanly ... [6s/9s] OK
- checking loading without being on the library search path ... [6s/8s] OK
- checking use of S3 registration ... OK
- checking dependencies in R code ... OK
- checking S3 generic/method consistency ... OK
- checking replacement functions ... OK
- checking foreign function calls ... OK
- checking R code for possible problems ... [53s/73s] OK
- checking Rd files ... [1s/1s] OK
- checking Rd metadata ... OK
- checking Rd line widths ... OK
- checking Rd cross-references ... OK
- checking for missing documentation entries ... OK
- checking for code/documentation mismatches ... OK
- checking Rd \usage sections ... OK
- checking Rd contents ... OK
- checking for unstated dependencies in examples ... OK
- checking contents of ‘data’ directory ... OK
- checking data for non-ASCII characters ... [0s/0s] OK
- checking LazyData ... OK
- checking data for ASCII and uncompressed saves ... OK
- checking line endings in C/C++/Fortran sources/headers ... OK
- checking line endings in Makefiles ... OK
- checking compilation flags in Makevars ... OK
- checking for GNU extensions in Makefiles ... OK
- checking for portable use of $(BLAS_LIBS) and $(LAPACK_LIBS) ... OK
- checking use of PKG_*FLAGS in Makefiles ... OK
- checking use of SHLIB_OPENMP_*FLAGS in Makefiles ... OK
- checking pragmas in C/C++ headers and code ... OK
- checking compilation flags used ... OK
- checking compiled code ... OK
- checking examples ... [101s/157s] OK
Examples with CPU (user + system) or elapsed time > 5s
user system elapsed
lsirm2pl_normal_mcar 4.774 0.950 8.850
lsirm1pl_normal_mar_ss 4.779 0.885 9.277
lsirm2pl_normal_fixed_gamma_mcar 4.592 0.946 7.921
lsirm2pl_normal_mar 4.600 0.932 9.299
lsirm1pl_normal_fixed_gamma_mar 4.541 0.989 8.323
lsirm2pl_normal_mar_ss 4.542 0.937 7.894
lsirm2pl_normal_mcar_ss 4.496 0.921 8.537
lsirm1pl_normal_mar 4.378 1.002 9.028
lsirm1pl_normal_mcar_ss 4.398 0.914 8.638
lsirm2pl_normal_ss 4.269 0.988 8.349
lsirm1pl_normal_mcar 4.250 0.990 7.227
lsirm2pl_normal_fixed_gamma_mar 4.208 1.016 8.154
lsirm2pl_normal_o 4.313 0.859 6.887
lsirm1pl_normal_ss 4.186 0.927 7.794
lsirm2pl_normal_fixed_gamma 4.144 0.887 8.209
lsirm1pl_normal_fixed_gamma_mcar 4.065 0.930 8.152
lsirm1pl_normal_o 3.937 1.008 7.716
lsirm1pl_normal_fixed_gamma 4.014 0.917 7.099
- checking PDF version of manual ... [9s/13s] OK
- checking HTML version of manual ... [6s/10s] OK
- checking for non-standard things in the check directory ... OK
- DONE
Status: OK