• using R version 4.4.0 (2024-04-24)
  • using platform: x86_64-apple-darwin20
  • R was compiled by     Apple clang version 14.0.0 (clang-1400.0.29.202)     GNU Fortran (GCC) 12.2.0
  • running under: macOS Ventura 13.3.1
  • using session charset: UTF-8
  • checking for file ‘klausuR/DESCRIPTION’ ... OK
  • checking extension type ... Package
  • this is package ‘klausuR’ version ‘0.12-14’
  • package encoding: UTF-8
  • checking package namespace information ... OK
  • checking package dependencies ... NOTE Package which this enhances but not available for checking: ‘rkward’
  • checking if this is a source package ... OK
  • checking if there is a namespace ... OK
  • checking for executable files ... OK
  • checking for hidden files and directories ... OK
  • checking for portable file names ... OK
  • checking for sufficient/correct file permissions ... OK
  • checking whether package ‘klausuR’ can be installed ... [4s/4s] OK See the install log for details.
  • checking installed package size ... OK
  • checking package directory ... OK
  • checking DESCRIPTION meta-information ... OK
  • checking top-level files ... OK
  • checking for left-over files ... OK
  • checking index information ... OK
  • checking package subdirectories ... OK
  • checking code files for non-ASCII characters ... OK
  • checking R files for syntax errors ... OK
  • checking whether the package can be loaded ... [0s/0s] OK
  • checking whether the package can be loaded with stated dependencies ... [0s/0s] OK
  • checking whether the package can be unloaded cleanly ... [0s/0s] OK
  • checking whether the namespace can be loaded with stated dependencies ... [0s/0s] OK
  • checking whether the namespace can be unloaded cleanly ... [0s/0s] OK
  • checking loading without being on the library search path ... [0s/0s] OK
  • checking dependencies in R code ... OK
  • checking S3 generic/method consistency ... OK
  • checking replacement functions ... OK
  • checking foreign function calls ... OK
  • checking R code for possible problems ... [5s/6s] OK
  • checking Rd files ... [0s/1s] NOTE checkRd: (-1) klausuR.answ-class.Rd:17: Lost braces in \itemize; meant \describe ? checkRd: (-1) klausuR.answ-class.Rd:18-22: Lost braces in \itemize; meant \describe ? checkRd: (-1) klausuR.answ-class.Rd:23-24: Lost braces in \itemize; meant \describe ? checkRd: (-1) klausuR.answ-class.Rd:34: Lost braces in \itemize; meant \describe ? checkRd: (-1) klausuR.answ-class.Rd:35: Lost braces in \itemize; meant \describe ? checkRd: (-1) klausuR.answ-class.Rd:36-37: Lost braces in \itemize; meant \describe ? checkRd: (-1) klausur.Rd:107-109: Lost braces in \itemize; meant \describe ? checkRd: (-1) klausur.Rd:110-111: Lost braces in \itemize; meant \describe ? checkRd: (-1) klausur.Rd:112-113: Lost braces in \itemize; meant \describe ? checkRd: (-1) klausur.Rd:114-116: Lost braces in \itemize; meant \describe ? checkRd: (-1) klausur.Rd:117-118: Lost braces in \itemize; meant \describe ? checkRd: (-1) klausur.Rd:119-120: Lost braces in \itemize; meant \describe ? checkRd: (-1) klausur.Rd:121-123: Lost braces in \itemize; meant \describe ? checkRd: (-1) klausur.Rd:124-126: Lost braces in \itemize; meant \describe ? checkRd: (-1) klausur.Rd:147: Lost braces in \itemize; meant \describe ? checkRd: (-1) klausur.Rd:148: Lost braces in \itemize; meant \describe ? checkRd: (-1) klausur.Rd:149: Lost braces in \itemize; meant \describe ? checkRd: (-1) klausur.Rd:150: Lost braces in \itemize; meant \describe ? checkRd: (-1) klausur.Rd:151: Lost braces in \itemize; meant \describe ? checkRd: (-1) klausur.Rd:152-155: Lost braces in \itemize; meant \describe ?
  • checking Rd metadata ... OK
  • checking Rd cross-references ... OK
  • checking for missing documentation entries ... OK
  • checking for code/documentation mismatches ... OK
  • checking Rd \usage sections ... OK
  • checking Rd contents ... OK
  • checking for unstated dependencies in examples ... OK
  • checking contents of ‘data’ directory ... OK
  • checking data for non-ASCII characters ... [0s/0s] OK
  • checking data for ASCII and uncompressed saves ... OK
  • checking examples ... [2s/2s] OK
  • checking PDF version of manual ... [6s/6s] OK
  • DONE Status: 2 NOTEs
  • using check arguments '--no-clean-on-error '