- using R Under development (unstable) (2025-10-22 r88968)
 
- using platform: x86_64-pc-linux-gnu
 
- R was compiled by
    clang version 21.1.4
    flang version 21.1.4
 
- running under: Fedora Linux 42 (Workstation Edition)
 
- using session charset: UTF-8
 
- using option ‘--no-stop-on-test-error’
 
- checking for file ‘terra/DESCRIPTION’ ... OK
 
- checking extension type ... Package
 
- this is package ‘terra’ version ‘1.8-70’
 
- package encoding: UTF-8
 
- checking package namespace information ... OK
 
- checking package dependencies ... OK
 
- checking if this is a source package ... OK
 
- checking if there is a namespace ... OK
 
- checking for executable files ... OK
 
- checking for hidden files and directories ... OK
 
- checking for portable file names ... OK
 
- checking for sufficient/correct file permissions ... OK
 
- checking whether package ‘terra’ can be installed ... [15m/14m] OK
See the install log for details.
 
- used C compiler: ‘clang version 21.1.4’
 
- used C++ compiler: ‘clang version 21.1.4’
 
- checking C++ specification ... OK
 
- checking installed package size ... INFO
  installed size is 11.8Mb
  sub-directories of 1Mb or more:
    R      2.5Mb
    libs   7.6Mb
 
- checking package directory ... OK
 
- checking DESCRIPTION meta-information ... OK
 
- checking top-level files ... OK
 
- checking for left-over files ... OK
 
- checking index information ... OK
 
- checking package subdirectories ... OK
 
- checking code files for non-ASCII characters ... OK
 
- checking R files for syntax errors ... OK
 
- checking whether the package can be loaded ... [11s/13s] OK
 
- checking whether the package can be loaded with stated dependencies ... [12s/15s] OK
 
- checking whether the package can be unloaded cleanly ... [12s/14s] OK
 
- checking whether the namespace can be loaded with stated dependencies ... [12s/14s] OK
 
- checking whether the namespace can be unloaded cleanly ... [13s/17s] OK
 
- checking loading without being on the library search path ... [12s/16s] OK
 
- checking whether startup messages can be suppressed ... [12s/15s] OK
 
- checking use of S3 registration ... OK
 
- checking dependencies in R code ... OK
 
- checking S3 generic/method consistency ... OK
 
- checking replacement functions ... OK
 
- checking foreign function calls ... OK
 
- checking R code for possible problems ... [178s/214s] OK
 
- checking Rd files ... NOTE
checkRd: (-1) terra-package.Rd:307-317: Only 2 columns allowed in this table (row 9 has 1)
 
- checking Rd metadata ... OK
 
- checking Rd line widths ... OK
 
- checking Rd cross-references ... OK
 
- checking for missing documentation entries ... OK
 
- checking for code/documentation mismatches ... OK
 
- checking Rd \usage sections ... OK
 
- checking Rd contents ... OK
 
- checking for unstated dependencies in examples ... OK
 
- checking line endings in shell scripts ... OK
 
- checking line endings in C/C++/Fortran sources/headers ... OK
 
- checking line endings in Makefiles ... OK
 
- checking compilation flags in Makevars ... OK
 
- checking for GNU extensions in Makefiles ... OK
 
- checking for portable use of $(BLAS_LIBS) and $(LAPACK_LIBS) ... OK
 
- checking use of PKG_*FLAGS in Makefiles ... OK
 
- checking use of SHLIB_OPENMP_*FLAGS in Makefiles ... OK
 
- checking pragmas in C/C++ headers and code ... OK
 
- checking compilation flags used ... OK
 
- checking compiled code ... OK
 
- checking examples ... [80s/103s] OK
 
- checking for unstated dependencies in ‘tests’ ... OK
 
- checking tests ... [24s/29s] OK
  Running ‘tinytest.R’ [24s/28s]
 
- checking PDF version of manual ... [31s/38s] OK
 
- checking HTML version of manual ... [20s/30s] OK
 
- checking for non-standard things in the check directory ... OK
 
- checking for detritus in the temp directory ... OK
 
- DONE
 
Status: 1 NOTE