- using R Under development (unstable) (2022-05-13 r82357)
- using platform: x86_64-pc-linux-gnu (64-bit)
- using session charset: UTF-8
- using option ‘--no-stop-on-test-error’
- checking for file ‘mapfit/DESCRIPTION’ ... OK
- checking extension type ... Package
- this is package ‘mapfit’ version ‘0.9.7’
- package encoding: UTF-8
- checking package namespace information ... OK
- checking package dependencies ... OK
- checking if this is a source package ... OK
- checking if there is a namespace ... OK
- checking for executable files ... OK
- checking for hidden files and directories ... OK
- checking for portable file names ... OK
- checking for sufficient/correct file permissions ... OK
- checking whether package ‘mapfit’ can be installed ... [140s/152s] OK
- checking installed package size ... OK
- checking package directory ... OK
- checking DESCRIPTION meta-information ... OK
- checking top-level files ... OK
- checking for left-over files ... OK
- checking index information ... OK
- checking package subdirectories ... OK
- checking R files for non-ASCII characters ... OK
- checking R files for syntax errors ... OK
- checking whether the package can be loaded ... OK
- checking whether the package can be loaded with stated dependencies ... OK
- checking whether the package can be unloaded cleanly ... OK
- checking whether the namespace can be loaded with stated dependencies ... OK
- checking whether the namespace can be unloaded cleanly ... OK
- checking loading without being on the library search path ... OK
- checking use of S3 registration ... OK
- checking dependencies in R code ... OK
- checking S3 generic/method consistency ... OK
- checking replacement functions ... OK
- checking foreign function calls ... OK
- checking R code for possible problems ... [26s/31s] NOTE
cf1.sample: no visible global function definition for ‘rexp’
cf1.sample: no visible global function definition for ‘rmultinom’
dherlang : <anonymous> : <anonymous>: no visible global function
definition for ‘dgamma’
erhmm.param.kmeans: no visible global function definition for ‘kmeans’
erhmm.param.kmeans: no visible global function definition for ‘var’
erhmm.param.kmeans: no visible global function definition for ‘runif’
gmmpp.param.kmeans: no visible global function definition for ‘kmeans’
gmmpp.param.kmeans: no visible global function definition for ‘runif’
herlang.param.kmeans: no visible global function definition for
‘kmeans’
herlang.param.kmeans: no visible global function definition for ‘var’
map.param.kmeans: no visible global function definition for ‘kmeans’
map.param.kmeans: no visible global function definition for ‘runif’
ph.param.random: no visible global function definition for ‘runif’
ph.sample: no visible global function definition for ‘rmultinom’
ph.sample: no visible global function definition for ‘rexp’
pherlang : <anonymous> : <anonymous>: no visible global function
definition for ‘pgamma’
rherlang: no visible global function definition for ‘rmultinom’
rherlang : <anonymous>: no visible global function definition for
‘rgamma’
Undefined global functions or variables:
dgamma kmeans pgamma rexp rgamma rmultinom runif var
Consider adding
importFrom("stats", "dgamma", "kmeans", "pgamma", "rexp", "rgamma",
"rmultinom", "runif", "var")
to your NAMESPACE file.
- checking Rd files ... OK
- checking Rd metadata ... OK
- checking Rd line widths ... OK
- checking Rd cross-references ... OK
- checking for missing documentation entries ... OK
- checking for code/documentation mismatches ... OK
- checking Rd \usage sections ... OK
- checking Rd contents ... OK
- checking for unstated dependencies in examples ... OK
- checking contents of ‘data’ directory ... OK
- checking data for non-ASCII characters ... OK
- checking data for ASCII and uncompressed saves ... OK
- checking line endings in C/C++/Fortran sources/headers ... OK
- checking line endings in Makefiles ... OK
- checking compilation flags in Makevars ... OK
- checking for GNU extensions in Makefiles ... OK
- checking for portable use of $(BLAS_LIBS) and $(LAPACK_LIBS) ... OK
- checking use of PKG_*FLAGS in Makefiles ... OK
- checking use of SHLIB_OPENMP_*FLAGS in Makefiles ... OK
- checking pragmas in C/C++ headers and code ... OK
- checking compilation flags used ... OK
- checking compiled code ... NOTE
File ‘mapfit/libs/mapfit.so’:
Found no call to: ‘R_useDynamicSymbols’
It is good practice to register native routines and to disable symbol
search.
See ‘Writing portable packages’ in the ‘Writing R Extensions’ manual.
- checking examples ... [14s/16s] OK
- checking PDF version of manual ... OK
- checking for non-standard things in the check directory ... OK
- checking for detritus in the temp directory ... OK
- DONE
Status: 2 NOTEs