- using R version 4.3.2 (2023-10-31 ucrt)
- using platform: x86_64-w64-mingw32 (64-bit)
- R was compiled by
gcc.exe (GCC) 12.3.0
GNU Fortran (GCC) 12.3.0
- running under: Windows Server 2022 x64 (build 20348)
- using session charset: UTF-8
- checking for file 'vars/DESCRIPTION' ... OK
- checking extension type ... Package
- this is package 'vars' version '1.6-0'
- checking package namespace information ... OK
- checking package dependencies ... OK
- checking if this is a source package ... OK
- checking if there is a namespace ... OK
- checking for hidden files and directories ... OK
- checking for portable file names ... OK
- checking whether package 'vars' can be installed ... OK
See the install log for details.
- checking installed package size ... OK
- checking package directory ... OK
- checking DESCRIPTION meta-information ... OK
- checking top-level files ... OK
- checking for left-over files ... OK
- checking index information ... OK
- checking package subdirectories ... OK
- checking R files for non-ASCII characters ... OK
- checking R files for syntax errors ... OK
- checking whether the package can be loaded ... [1s] OK
- checking whether the package can be loaded with stated dependencies ... [1s] OK
- checking whether the package can be unloaded cleanly ... [1s] OK
- checking whether the namespace can be loaded with stated dependencies ... [1s] OK
- checking whether the namespace can be unloaded cleanly ... [1s] OK
- checking loading without being on the library search path ... [1s] OK
- checking use of S3 registration ... OK
- checking dependencies in R code ... OK
- checking S3 generic/method consistency ... OK
- checking replacement functions ... OK
- checking foreign function calls ... OK
- checking R code for possible problems ... [15s] OK
- checking Rd files ... [1s] OK
- checking Rd metadata ... OK
- checking Rd cross-references ... OK
- checking for missing documentation entries ... OK
- checking for code/documentation mismatches ... OK
- checking Rd \usage sections ... OK
- checking Rd contents ... OK
- checking for unstated dependencies in examples ... OK
- checking contents of 'data' directory ... OK
- checking data for non-ASCII characters ... [0s] OK
- checking LazyData ... OK
- checking data for ASCII and uncompressed saves ... OK
- checking examples ... [3s] OK
- checking for unstated dependencies in 'tests' ... OK
- checking tests ... [3s] OK
Running 'CheckCausality.R' [1s]
Comparing 'CheckCausality.Rout' to 'CheckCausality.Rout.save' ...1a2,17
> R version 2.14.0 (2011-10-31)
> Copyright (C) 2011 The R Foundation for Statistical Computing
> ISBN 3-900051-07-0
> Platform: i486-pc-linux-gnu (32-bit)
>
> R ist freie Software und kommt OHNE JEGLICHE GARANTIE.
> Sie sind eingeladen, es unter bestimmten Bedingungen weiter zu verbreiten.
> Tippen Sie 'license()' or 'licence()' für Details dazu.
>
> R ist ein Gemeinschaftsprojekt mit vielen Beitragenden.
> Tippen Sie 'contributors()' für mehr Information und 'citation()',
> um zu erfahren, wie R oder R packages in Publikationen zitiert werden können.
>
> Tippen Sie 'demo()' für einige Demos, 'help()' für on-line Hilfe, oder
> 'help.start()' für eine HTML Browserschnittstelle zur Hilfe.
> Tippen Sie 'q()', um R zu verlassen.
6a23,25
> Lade nötiges Paket: MASS
> Lade nötiges Paket: strucchange
> Lade nötiges Paket: zoo
8c27
< Attaching package: 'zoo'
---
> Attache Paket: 'zoo'
10c29
< The following objects are masked from 'package:base':
---
> The following object(s) are masked from 'package:base':
13a33,35
> Lade nötiges Paket: sandwich
> Lade nötiges Paket: urca
> Lade nötiges Paket: lmtest
32c54
< Chi-squared = 26.019, df = 3, p-value = 9.452e-06
---
> Chi-squared = 26.0187, df = 3, p-value = 9.452e-06
35c57
< Warning message:
---
> Warnmeldung:
54c76
< Chi-squared = 26.019, df = 3, p-value = 9.452e-06
---
> Chi-squared = 26.0187, df = 3, p-value = 9.452e-06
71c93
< Chi-squared = 0.29751, df = 3, p-value = 0.9605
---
> Chi-squared = 0.2975, df = 3, p-value = 0.9605
105c127
< Chi-squared = 26.277, df = 3, p-value = 8.344e-06
---
> Chi-squared = 26.2773, df = 3, p-value = 8.344e-06
123c145
< Chi-squared = 26.265, df = 4, p-value = 2.798e-05
---
> Chi-squared = 26.2651, df = 4, p-value = 2.798e-05
140c162
< Chi-squared = 26.265, df = 4, p-value = 2.798e-05
---
> Chi-squared = 26.2651, df = 4, p-value = 2.798e-05
157c179
< Chi-squared = 26.277, df = 3, p-value = 8.344e-06
---
> Chi-squared = 26.2773, df = 3, p-value = 8.344e-06
176c198
< Chi-squared = 29.665, df = 3, p-value = 1.623e-06
---
> Chi-squared = 29.6646, df = 3, p-value = 1.623e-06
227c249
< Chi-squared = 29.608, df = 3, p-value = 1.668e-06
---
> Chi-squared = 29.6082, df = 3, p-value = 1.668e-06
245c267
< Chi-squared = 29.601, df = 4, p-value = 5.902e-06
---
> Chi-squared = 29.6006, df = 4, p-value = 5.902e-06
262c284
< Chi-squared = 26.265, df = 4, p-value = 2.798e-05
---
> Chi-squared = 26.2651, df = 4, p-value = 2.798e-05
279c301
< Chi-squared = 26.277, df = 3, p-value = 8.344e-06
---
> Chi-squared = 26.2773, df = 3, p-value = 8.344e-06
284c306
< Warning message:
---
> Warnmeldung:
303c325
< Chi-squared = 11.261, df = 2, p-value = 0.003587
---
> Chi-squared = 11.2607, df = 2, p-value = 0.003587
306c328
< Warning message:
---
> Warnmeldung:
325c347
< Chi-squared = 11.261, df = 2, p-value = 0.003587
---
> Chi-squared = 11.2607, df = 2, p-value = 0.003587
369c391
< F-Test = 33.769, df1 = 2, df2 = 237, p-value = 1.248e-13
---
> F-Test = 33.7688, df1 = 2, df2 = 237, p-value = 1.248e-13
386c408
< F-Test = 33.769, df1 = 2, df2 = 237, p-value = 1.248e-13
---
> F-Test = 33.7688, df1 = 2, df2 = 237, p-value = 1.248e-13
Running 'ExamplesTest.R' [2s]
Comparing 'ExamplesTest.Rout' to 'ExamplesTest.Rout.save' ...1a2,19
> R version 2.14.0 (2011-10-31)
> Copyright (C) 2011 The R Foundation for Statistical Computing
> ISBN 3-900051-07-0
> Platform: i486-pc-linux-gnu (32-bit)
>
> R ist freie Software und kommt OHNE JEGLICHE GARANTIE.
> Sie sind eingeladen, es unter bestimmten Bedingungen weiter zu verbreiten.
> Tippen Sie 'license()' or 'licence()' für Details dazu.
>
> R ist ein Gemeinschaftsprojekt mit vielen Beitragenden.
> Tippen Sie 'contributors()' für mehr Information und 'citation()',
> um zu erfahren, wie R oder R packages in Publikationen zitiert werden können.
>
> Tippen Sie 'demo()' für einige Demos, 'help()' für on-line Hilfe, oder
> 'help.start()' für eine HTML Browserschnittstelle zur Hilfe.
> Tippen Sie 'q()', um R zu verlassen.
>
> [Vorher gesicherter Workspace wiederhergestellt]
3a22,24
> Lade nötiges Paket: MASS
> Lade nötiges Paket: strucchange
> Lade nötiges Paket: zoo
5c26
< Attaching package: 'zoo'
---
> Attache Paket: 'zoo'
7c28
< The following objects are masked from 'package:base':
---
> The following object(s) are masked from 'package:base':
10a32,34
> Lade nötiges Paket: sandwich
> Lade nötiges Paket: urca
> Lade nötiges Paket: lmtest
46c70
< Chi-squared = 538.89, df = 500, p-value = 0.1112
---
> Chi-squared = 538.8897, df = 500, p-value = 0.1112
110c134
< Chi-squared = 26.068, df = 3, p-value = 9.228e-06
---
> Chi-squared = 26.0685, df = 3, p-value = 9.228e-06
121c145
< F-Test = 3.3923, df1 = 6, df2 = 292, p-value = 0.002994
---
> F-Test = 6.4593, df1 = 6, df2 = 292, p-value = 2.072e-06
129c153
< Chi-squared = 26.068, df = 3, p-value = 9.228e-06
---
> Chi-squared = 26.0685, df = 3, p-value = 9.228e-06
483c507
< Chi-squared = 231.59, df = 224, p-value = 0.3497
---
> Chi-squared = 231.5907, df = 224, p-value = 0.3497
580,581c604
< SVEC> vecm <- ca.jo(Canada[, c("prod", "e", "U", "rw")], type = "trace",
< SVEC+ ecdet = "trend", K = 3, spec = "transitory")
---
> SVEC> vecm <- ca.jo(Canada[, c("prod", "e", "U", "rw")], type = "trace", ecdet = "trend", K = 3, spec = "transitory")
715c738
< -0.005180947 0.052676565 -0.127708256 -33.188338774
---
> -0.005180947 0.052676565 -0.127708256 -33.188338773
- checking PDF version of manual ... [15s] OK
- checking HTML version of manual ... [7s] OK
- DONE
Status: OK