- using R version 4.5.2 (2025-10-31 ucrt)
 
- using platform: x86_64-w64-mingw32
 
- R was compiled by
    gcc.exe (GCC) 14.3.0
    GNU Fortran (GCC) 14.3.0
 
- running under: Windows Server 2022 x64 (build 20348)
 
- using session charset: UTF-8
 
- checking for file 'progressr/DESCRIPTION' ... OK
 
- this is package 'progressr' version '0.17.0'
 
- package encoding: UTF-8
 
- checking package namespace information ... OK
 
- checking package dependencies ... OK
 
- checking if this is a source package ... OK
 
- checking if there is a namespace ... OK
 
- checking for hidden files and directories ... OK
 
- checking for portable file names ... OK
 
- checking whether package 'progressr' can be installed ... OK
See the install log for details.
 
- checking installed package size ... OK
 
- checking package directory ... OK
 
- checking 'build' directory ... OK
 
- checking DESCRIPTION meta-information ... OK
 
- checking top-level files ... OK
 
- checking for left-over files ... OK
 
- checking index information ... OK
 
- checking package subdirectories ... OK
 
- checking code files for non-ASCII characters ... OK
 
- checking R files for syntax errors ... OK
 
- checking whether the package can be loaded ... [0s] OK
 
- checking whether the package can be loaded with stated dependencies ... [0s] OK
 
- checking whether the package can be unloaded cleanly ... [0s] OK
 
- checking whether the namespace can be loaded with stated dependencies ... [0s] OK
 
- checking whether the namespace can be unloaded cleanly ... [0s] OK
 
- checking loading without being on the library search path ... [0s] OK
 
- checking whether startup messages can be suppressed ... [0s] OK
 
- checking use of S3 registration ... OK
 
- checking dependencies in R code ... OK
 
- checking S3 generic/method consistency ... OK
 
- checking replacement functions ... OK
 
- checking foreign function calls ... OK
 
- checking R code for possible problems ... [7s] OK
 
- checking Rd files ... [1s] OK
 
- checking Rd metadata ... OK
 
- checking Rd cross-references ... OK
 
- checking for missing documentation entries ... OK
 
- checking for code/documentation mismatches ... OK
 
- checking Rd \usage sections ... OK
 
- checking Rd contents ... OK
 
- checking for unstated dependencies in examples ... OK
 
- checking line endings in Makefiles ... OK
 
- checking for GNU extensions in Makefiles ... OK
 
- checking include directives in Makefiles ... OK
 
- checking installed files from 'inst/doc' ... OK
 
- checking files in 'vignettes' ... OK
 
- checking examples ... [4s] OK
 
- checking for unstated dependencies in 'tests' ... OK
 
- checking tests ... [142s] OK
  Running 'test-debug.R' [7s]
  Running 'test-demo.R' [4s]
  Running 'test-exceptions.R' [1s]
  Running 'test-globals,relay.R' [3s]
  Running 'test-handler_cli.R' [1s]
  Running 'test-handler_filesize.R' [1s]
  Running 'test-handler_make_progression.R' [1s]
  Running 'test-handler_pbmcapply.R' [1s]
  Running 'test-handler_progress.R' [1s]
  Running 'test-handler_rstudio.R' [1s]
  Running 'test-handler_shiny.R' [1s]
  Running 'test-handler_tkprogressbar.R' [1s]
  Running 'test-handler_txtprogressbar.R' [1s]
  Running 'test-handlers.R' [1s]
  Running 'test-progress_aggregator.R' [1s]
  Running 'test-progression.R' [1s]
  Running 'test-progressor.R' [1s]
  Running 'test-utils.R' [1s]
  Running 'test-with_progress,delay.R' [1s]
  Running 'test-with_progress,relay.R' [4s]
  Running 'test-with_progress.R' [7s]
  Running 'test-without_progress.R' [1s]
  Running 'test-zzz,doFuture.R' [30s]
  Running 'test-zzz,foreach_do.R' [1s]
  Running 'test-zzz,furrr.R' [31s]
  Running 'test-zzz,future.apply.R' [30s]
  Running 'test-zzz,plyr.R' [1s]
  Running 'test-zzz,purrr.R' [1s]
  Running 'test-zzz,shiny.R' [1s]
 
- checking for unstated dependencies in vignettes ... OK
 
- checking package vignettes ... OK
 
- checking re-building of vignette outputs ... [3s] OK
 
- checking PDF version of manual ... [20s] OK
 
- checking HTML version of manual ... [6s] OK
 
- DONE
 
Status: OK