- using R version 4.5.2 (2025-10-31 ucrt)
 
- using platform: x86_64-w64-mingw32
 
- R was compiled by
    gcc.exe (GCC) 14.3.0
    GNU Fortran (GCC) 14.3.0
 
- running under: Windows Server 2022 x64 (build 20348)
 
- using session charset: UTF-8
 
- checking for file 'bayeslist/DESCRIPTION' ... OK
 
- this is package 'bayeslist' version '0.0.1.5'
 
- package encoding: UTF-8
 
- checking package namespace information ... OK
 
- checking package dependencies ... OK
 
- checking if this is a source package ... OK
 
- checking if there is a namespace ... OK
 
- checking for hidden files and directories ... OK
 
- checking for portable file names ... OK
 
- checking whether package 'bayeslist' can be installed ... OK
See the install log for details.
 
- used C++ compiler: 'g++.exe (GCC) 14.3.0'
 
- checking C++ specification ... OK
 
- checking installed package size ... INFO
  installed size is 18.3Mb
  sub-directories of 1Mb or more:
    libs  17.6Mb
 
- checking package directory ... OK
 
- checking DESCRIPTION meta-information ... OK
 
- checking top-level files ... OK
 
- checking for left-over files ... OK
 
- checking index information ... OK
 
- checking package subdirectories ... OK
 
- checking code files for non-ASCII characters ... OK
 
- checking R files for syntax errors ... OK
 
- checking whether the package can be loaded ... [6s] OK
 
- checking whether the package can be loaded with stated dependencies ... [5s] OK
 
- checking whether the package can be unloaded cleanly ... [6s] OK
 
- checking whether the namespace can be loaded with stated dependencies ... [5s] OK
 
- checking whether the namespace can be unloaded cleanly ... [5s] OK
 
- checking loading without being on the library search path ... [9s] OK
 
- checking use of S3 registration ... OK
 
- checking dependencies in R code ... OK
 
- checking S3 generic/method consistency ... OK
 
- checking replacement functions ... OK
 
- checking foreign function calls ... OK
 
- checking R code for possible problems ... [17s] OK
 
- checking Rd files ... [1s] OK
 
- checking Rd metadata ... OK
 
- checking Rd cross-references ... OK
 
- checking for missing documentation entries ... OK
 
- checking for code/documentation mismatches ... OK
 
- checking Rd \usage sections ... OK
 
- checking Rd contents ... OK
 
- checking for unstated dependencies in examples ... OK
 
- checking contents of 'data' directory ... OK
 
- checking data for non-ASCII characters ... [0s] OK
 
- checking LazyData ... OK
 
- checking data for ASCII and uncompressed saves ... OK
 
- checking line endings in shell scripts ... OK
 
- checking line endings in C/C++/Fortran sources/headers ... OK
 
- checking line endings in Makefiles ... OK
 
- checking compilation flags in Makevars ... OK
 
- checking for GNU extensions in Makefiles ... INFO
GNU make is a SystemRequirements.
 
- checking for portable use of $(BLAS_LIBS) and $(LAPACK_LIBS) ... OK
 
- checking use of PKG_*FLAGS in Makefiles ... OK
 
- checking pragmas in C/C++ headers and code ... OK
 
- checking compiled code ... OK
 
- checking examples ... [13s] OK
 
- checking PDF version of manual ... [19s] OK
 
- checking HTML version of manual ... [3s] OK
 
- DONE
 
Status: OK