- using R version 4.5.2 (2025-10-31 ucrt)
 
- using platform: x86_64-w64-mingw32
 
- R was compiled by
    gcc.exe (GCC) 14.3.0
    GNU Fortran (GCC) 14.3.0
 
- running under: Windows Server 2022 x64 (build 20348)
 
- using session charset: UTF-8
 
- checking for file 'SouthParkRshiny/DESCRIPTION' ... OK
 
- this is package 'SouthParkRshiny' version '1.0.0'
 
- package encoding: UTF-8
 
- checking package namespace information ... OK
 
- checking package dependencies ... INFO
Package suggested but not available for checking: 'gridlayout'
 
- checking if this is a source package ... OK
 
- checking if there is a namespace ... OK
 
- checking for hidden files and directories ... OK
 
- checking for portable file names ... OK
 
- checking whether package 'SouthParkRshiny' can be installed ... OK
See the install log for details.
 
- checking installed package size ... OK
 
- checking package directory ... OK
 
- checking DESCRIPTION meta-information ... NOTE
  Missing dependency on R >= 4.1.0 because package code uses the pipe
  |> or function shorthand \(...) syntax added in R 4.1.0.
  File(s) using such syntax:
    'SouthPark_Script_Data.Rd' 'app_server.R'
 
- checking top-level files ... OK
 
- checking for left-over files ... OK
 
- checking index information ... OK
 
- checking package subdirectories ... OK
 
- checking code files for non-ASCII characters ... OK
 
- checking R files for syntax errors ... OK
 
- checking whether the package can be loaded ... [2s] OK
 
- checking whether the package can be loaded with stated dependencies ... [2s] OK
 
- checking whether the package can be unloaded cleanly ... [2s] OK
 
- checking whether the namespace can be loaded with stated dependencies ... [2s] OK
 
- checking whether the namespace can be unloaded cleanly ... [2s] OK
 
- checking loading without being on the library search path ... [2s] OK
 
- checking use of S3 registration ... OK
 
- checking dependencies in R code ... OK
 
- checking S3 generic/method consistency ... OK
 
- checking replacement functions ... OK
 
- checking foreign function calls ... OK
 
- checking R code for possible problems ... [5s] OK
 
- checking Rd files ... [0s] OK
 
- checking Rd metadata ... OK
 
- checking Rd cross-references ... OK
 
- checking for missing documentation entries ... OK
 
- checking for code/documentation mismatches ... OK
 
- checking Rd \usage sections ... OK
 
- checking Rd contents ... OK
 
- checking for unstated dependencies in examples ... OK
 
- checking contents of 'data' directory ... OK
 
- checking data for non-ASCII characters ... [3s] OK
 
- checking LazyData ... OK
 
- checking data for ASCII and uncompressed saves ... OK
 
- checking examples ... [5s] OK
 
- checking PDF version of manual ... [26s] OK
 
- checking HTML version of manual ... [2s] OK
 
- DONE
 
Status: 1 NOTE