- using R version 4.4.0 (2024-04-24 ucrt)
- using platform: x86_64-w64-mingw32
- R was compiled by
gcc.exe (GCC) 13.2.0
GNU Fortran (GCC) 13.2.0
- running under: Windows Server 2022 x64 (build 20348)
- using session charset: UTF-8
- checking for file 'RavenR/DESCRIPTION' ... OK
- checking extension type ... Package
- this is package 'RavenR' version '2.2.0'
- package encoding: UTF-8
- checking package namespace information ... OK
- checking package dependencies ... OK
- checking if this is a source package ... OK
- checking if there is a namespace ... OK
- checking for hidden files and directories ... OK
- checking for portable file names ... OK
- checking whether package 'RavenR' can be installed ... OK
See the install log for details.
- used C++ compiler: 'g++.exe (GCC) 13.2.0'
- checking installed package size ... OK
- checking package directory ... OK
- checking 'build' directory ... OK
- checking DESCRIPTION meta-information ... OK
- checking top-level files ... OK
- checking for left-over files ... OK
- checking index information ... OK
- checking package subdirectories ... OK
- checking code files for non-ASCII characters ... OK
- checking R files for syntax errors ... OK
- checking whether the package can be loaded ... [2s] OK
- checking whether the package can be loaded with stated dependencies ... [2s] OK
- checking whether the package can be unloaded cleanly ... [2s] OK
- checking whether the namespace can be loaded with stated dependencies ... [2s] OK
- checking whether the namespace can be unloaded cleanly ... [2s] OK
- checking loading without being on the library search path ... [2s] OK
- checking use of S3 registration ... OK
- checking dependencies in R code ... OK
- checking S3 generic/method consistency ... OK
- checking replacement functions ... OK
- checking foreign function calls ... OK
- checking R code for possible problems ... [14s] OK
- checking Rd files ... [2s] NOTE
checkRd: (-1) rvn_dist_lonlat.Rd:14: Lost braces; missing escapes or markup?
14 | \item{method}{calculation method as either \code{haversine} (default) or {vincentysphere}}
| ^
checkRd: (-1) rvn_gen_obsweights.Rd:29: Lost braces
29 | {wts}{returns numeric vector of weights}
| ^
checkRd: (-1) rvn_hyd_dygraph.Rd:27: Lost braces
27 | {res}{ a list of plot handles to dygraph plots}
| ^
checkRd: (-1) rvn_hydrograph_data.Rd:19: Lost braces in \itemize; meant \describe ?
checkRd: (-1) rvn_hydrograph_data.Rd:20: Lost braces in \itemize; meant \describe ?
checkRd: (-1) rvn_hydrograph_data.Rd:21: Lost braces in \itemize; meant \describe ?
checkRd: (-1) rvn_hydrograph_data.Rd:22: Lost braces in \itemize; meant \describe ?
checkRd: (-1) rvn_hydrograph_data.Rd:23: Lost braces in \itemize; meant \describe ?
checkRd: (-1) rvn_rvh_query.Rd:17: Lost braces
17 | {rvh}{rvh object in same format, but queried to condition and all features (SBtable, HRUtable, SBnetwork) updated.}
| ^
checkRd: (-1) rvn_rvh_subbasin_visnetwork_plot.Rd:15: Lost braces
15 | {p1}{returns visNetwork plot object}
| ^
checkRd: (-1) rvn_rvi_process_ggplot.Rd:40: Lost braces
40 | {p1}{returns ggplot object. Also generates a .pdf file in working directory if pdfplot argument is not NULL.}
| ^
- checking Rd metadata ... OK
- checking Rd cross-references ... OK
- checking for missing documentation entries ... OK
- checking for code/documentation mismatches ... OK
- checking Rd \usage sections ... OK
- checking Rd contents ... OK
- checking for unstated dependencies in examples ... OK
- checking contents of 'data' directory ... OK
- checking data for non-ASCII characters ... [0s] OK
- checking LazyData ... OK
- checking data for ASCII and uncompressed saves ... OK
- checking line endings in C/C++/Fortran sources/headers ... OK
- checking pragmas in C/C++ headers and code ... OK
- checking compiled code ... OK
- checking installed files from 'inst/doc' ... OK
- checking files in 'vignettes' ... OK
- checking examples ... [39s] OK
- checking for unstated dependencies in vignettes ... OK
- checking package vignettes ... OK
- checking re-building of vignette outputs ... [13s] OK
- checking PDF version of manual ... [24s] OK
- checking HTML version of manual ... [15s] OK
- DONE
Status: 1 NOTE