- using R version 4.5.2 (2025-10-31 ucrt)
 
- using platform: x86_64-w64-mingw32
 
- R was compiled by
    gcc.exe (GCC) 14.3.0
    GNU Fortran (GCC) 14.3.0
 
- running under: Windows Server 2022 x64 (build 20348)
 
- using session charset: UTF-8
 
- checking for file 'EpiModel/DESCRIPTION' ... OK
 
- this is package 'EpiModel' version '2.5.0'
 
- package encoding: UTF-8
 
- checking package namespace information ... OK
 
- checking package dependencies ... OK
 
- checking if this is a source package ... OK
 
- checking if there is a namespace ... OK
 
- checking for hidden files and directories ... OK
 
- checking for portable file names ... OK
 
- checking whether package 'EpiModel' can be installed ... OK
See the install log for details.
 
- used C compiler: 'gcc.exe (GCC) 14.3.0'
 
- used C++ compiler: 'g++.exe (GCC) 14.3.0'
 
- checking installed package size ... INFO
  installed size is  5.1Mb
  sub-directories of 1Mb or more:
    doc   2.8Mb
 
- checking package directory ... OK
 
- checking 'build' directory ... OK
 
- checking DESCRIPTION meta-information ... OK
 
- checking top-level files ... OK
 
- checking for left-over files ... OK
 
- checking index information ... OK
 
- checking package subdirectories ... OK
 
- checking code files for non-ASCII characters ... OK
 
- checking R files for syntax errors ... OK
 
- checking whether the package can be loaded ... [4s] OK
 
- checking whether the package can be loaded with stated dependencies ... [4s] OK
 
- checking whether the package can be unloaded cleanly ... [3s] OK
 
- checking whether the namespace can be loaded with stated dependencies ... [3s] OK
 
- checking whether the namespace can be unloaded cleanly ... [3s] OK
 
- checking loading without being on the library search path ... [3s] OK
 
- checking use of S3 registration ... OK
 
- checking dependencies in R code ... OK
 
- checking S3 generic/method consistency ... OK
 
- checking replacement functions ... OK
 
- checking foreign function calls ... OK
 
- checking R code for possible problems ... [24s] OK
 
- checking Rd files ... [3s] OK
 
- checking Rd metadata ... OK
 
- checking Rd cross-references ... OK
 
- checking for missing documentation entries ... OK
 
- checking for code/documentation mismatches ... OK
 
- checking Rd \usage sections ... OK
 
- checking Rd contents ... OK
 
- checking for unstated dependencies in examples ... OK
 
- checking line endings in C/C++/Fortran sources/headers ... OK
 
- checking pragmas in C/C++ headers and code ... OK
 
- checking compiled code ... OK
 
- checking installed files from 'inst/doc' ... OK
 
- checking files in 'vignettes' ... OK
 
- checking examples ... [40s] OK
 
- checking for unstated dependencies in 'tests' ... OK
 
- checking tests ... [295s] OK
  Running 'test-all.R' [295s]
 
- checking for unstated dependencies in vignettes ... OK
 
- checking package vignettes ... OK
 
- checking re-building of vignette outputs ... [40s] OK
 
- checking PDF version of manual ... [34s] OK
 
- checking HTML version of manual ... [31s] OK
 
- DONE
 
Status: OK