- using R version 4.0.0 Patched (2020-05-10 r78402)
- using platform: x86_64-apple-darwin17.0 (64-bit)
- using session charset: UTF-8
- checking for file ‘planor/DESCRIPTION’ ... OK
- checking extension type ... Package
- this is package ‘planor’ version ‘1.5-3’
- package encoding: UTF-8
- checking package namespace information ... OK
- checking package dependencies ... OK
- checking if this is a source package ... OK
- checking if there is a namespace ... OK
- checking for executable files ... OK
- checking for hidden files and directories ... OK
- checking for portable file names ... OK
- checking for sufficient/correct file permissions ... OK
- checking whether package ‘planor’ can be installed ... [39s/50s] OK
- checking installed package size ... NOTE
installed size is 5.2Mb
sub-directories of 1Mb or more:
doc 2.1Mb
libs 2.5Mb
- checking package directory ... OK
- checking DESCRIPTION meta-information ... OK
- checking top-level files ... OK
- checking for left-over files ... OK
- checking index information ... OK
- checking package subdirectories ... OK
- checking R files for non-ASCII characters ... OK
- checking R files for syntax errors ... OK
- checking whether the package can be loaded ... OK
- checking whether the package can be loaded with stated dependencies ... OK
- checking whether the package can be unloaded cleanly ... OK
- checking whether the namespace can be loaded with stated dependencies ... OK
- checking whether the namespace can be unloaded cleanly ... OK
- checking loading without being on the library search path ... OK
- checking dependencies in R code ... OK
- checking S3 generic/method consistency ... OK
- checking replacement functions ... OK
- checking foreign function calls ... OK
- checking R code for possible problems ... [6s/10s] OK
- checking Rd files ... OK
- checking Rd metadata ... OK
- checking Rd cross-references ... OK
- checking for missing documentation entries ... OK
- checking for code/documentation mismatches ... OK
- checking Rd \usage sections ... OK
- checking Rd contents ... OK
- checking for unstated dependencies in examples ... OK
- checking line endings in C/C++/Fortran sources/headers ... OK
- checking line endings in Makefiles ... OK
- checking compilation flags in Makevars ... OK
- checking for GNU extensions in Makefiles ... OK
- checking for portable use of $(BLAS_LIBS) and $(LAPACK_LIBS) ... OK
- checking use of PKG_*FLAGS in Makefiles ... OK
- checking compiled code ... OK
- checking sizes of PDF files under ‘inst/doc’ ... OK
- checking installed files from ‘inst/doc’ ... OK
- checking examples ... [3s/5s] OK
- checking for unstated dependencies in ‘tests’ ... OK
- checking tests ... [20s/28s] OK
Running ‘HM2.R’ [1s/2s]
Comparing ‘HM2.Rout’ to ‘HM2.Rout.save’ ... OK
Running ‘Kobi0.R’ [1s/1s]
Comparing ‘Kobi0.Rout’ to ‘Kobi0.Rout.save’ ... OK
Running ‘Kobi1.R’ [1s/1s]
Comparing ‘Kobi1.Rout’ to ‘Kobi1.Rout.save’ ... OK
Running ‘Kobi2.R’ [1s/1s]
Comparing ‘Kobi2.Rout’ to ‘Kobi2.Rout.save’ ... OK
Running ‘Kobi3.R’ [1s/2s]
Comparing ‘Kobi3.Rout’ to ‘Kobi3.Rout.save’ ... OK
Running ‘KobiRecursive.R’ [1s/1s]
Comparing ‘KobiRecursive.Rout’ to ‘KobiRecursive.Rout.save’ ... OK
Running ‘NewKobi1.R’ [1s/1s]
Comparing ‘NewKobi1.Rout’ to ‘NewKobi1.Rout.save’ ... OK
Running ‘Touzeau2.R’ [2s/3s]
Comparing ‘Touzeau2.Rout’ to ‘Touzeau2.Rout.save’ ... OK
Running ‘exsimple.R’ [1s/1s]
Comparing ‘exsimple.Rout’ to ‘exsimple.Rout.save’ ... OK
Running ‘generate.R’ [1s/1s]
Comparing ‘generate.Rout’ to ‘generate.Rout.save’ ... OK
Running ‘haies.R’ [2s/2s]
Comparing ‘haies.Rout’ to ‘haies.Rout.save’ ... OK
Running ‘hmsym.R’ [2s/3s]
Comparing ‘hmsym.Rout’ to ‘hmsym.Rout.save’ ... OK
Running ‘hmtestsRandomize.R’ [1s/1s]
Comparing ‘hmtestsRandomize.Rout’ to ‘hmtestsRandomize.Rout.save’ ... OK
Running ‘mixkey.R’ [1s/1s]
Comparing ‘mixkey.Rout’ to ‘mixkey.Rout.save’ ... OK
Running ‘noineligible.R’ [1s/1s]
Comparing ‘noineligible.Rout’ to ‘noineligible.Rout.save’ ... OK
Running ‘planor-stefano2.R’ [1s/2s]
Comparing ‘planor-stefano2.Rout’ to ‘planor-stefano2.Rout.save’ ... OK
Running ‘planor-stefano2.random.R’ [1s/2s]
Comparing ‘planor-stefano2.random.Rout’ to ‘planor-stefano2.random.Rout.save’ ... OK
Running ‘robot.R’ [1s/1s]
Comparing ‘robot.Rout’ to ‘robot.Rout.save’ ... OK
- checking PDF version of manual ... OK
- DONE
Status: 1 NOTE