- using R version 4.0.0 Patched (2020-05-10 r78402)
- using platform: x86_64-apple-darwin17.0 (64-bit)
- using session charset: UTF-8
- checking for file ‘parcor/DESCRIPTION’ ... OK
- checking extension type ... Package
- this is package ‘parcor’ version ‘0.2-6’
- checking package namespace information ... OK
- checking package dependencies ... OK
- checking if this is a source package ... OK
- checking if there is a namespace ... OK
- checking for executable files ... OK
- checking for hidden files and directories ... OK
- checking for portable file names ... OK
- checking for sufficient/correct file permissions ... OK
- checking whether package ‘parcor’ can be installed ... [7s/10s] OK
- checking installed package size ... OK
- checking package directory ... OK
- checking DESCRIPTION meta-information ... OK
- checking top-level files ... OK
- checking for left-over files ... OK
- checking index information ... OK
- checking package subdirectories ... OK
- checking R files for non-ASCII characters ... OK
- checking R files for syntax errors ... OK
- checking whether the package can be loaded ... OK
- checking whether the package can be loaded with stated dependencies ... OK
- checking whether the package can be unloaded cleanly ... OK
- checking whether the namespace can be loaded with stated dependencies ... OK
- checking whether the namespace can be unloaded cleanly ... OK
- checking loading without being on the library search path ... OK
- checking dependencies in R code ... OK
- checking S3 generic/method consistency ... OK
- checking replacement functions ... OK
- checking foreign function calls ... OK
- checking R code for possible problems ... [6s/8s] NOTE
adalasso: no visible global function definition for ‘predict’
lm.ridge.univariate: no visible global function definition for ‘sd’
mylars: no visible global function definition for ‘predict’
mylars: no visible binding for global variable ‘var’
performance.pcor: no visible global function definition for
‘ggm.test.edges’
performance.pcor: no visible global function definition for ‘var’
ridge.cv: no visible global function definition for ‘coef’
Undefined global functions or variables:
coef ggm.test.edges predict sd var
Consider adding
importFrom("stats", "coef", "predict", "sd", "var")
to your NAMESPACE file.
- checking Rd files ... OK
- checking Rd metadata ... OK
- checking Rd cross-references ... OK
- checking for missing documentation entries ... OK
- checking for code/documentation mismatches ... OK
- checking Rd \usage sections ... OK
- checking Rd contents ... OK
- checking for unstated dependencies in examples ... OK
- checking examples ... [7s/10s] OK
- checking PDF version of manual ... OK
- DONE
Status: 1 NOTE