• using R version 3.6.0 (2019-04-26)
  • using platform: x86_64-apple-darwin15.6.0 (64-bit)
  • using session charset: UTF-8
  • checking for file ‘mlt/DESCRIPTION’ ... OK
  • this is package ‘mlt’ version ‘1.0-7’
  • package encoding: UTF-8
  • checking package namespace information ... OK
  • checking package dependencies ... OK
  • checking if this is a source package ... OK
  • checking if there is a namespace ... OK
  • checking for executable files ... OK
  • checking for hidden files and directories ... OK
  • checking for portable file names ... OK
  • checking for sufficient/correct file permissions ... OK
  • checking whether package ‘mlt’ can be installed ... [8s/8s] OK
  • checking installed package size ... OK
  • checking package directory ... OK
  • checking DESCRIPTION meta-information ... OK
  • checking top-level files ... OK
  • checking for left-over files ... OK
  • checking index information ... OK
  • checking package subdirectories ... OK
  • checking R files for non-ASCII characters ... OK
  • checking R files for syntax errors ... OK
  • checking whether the package can be loaded ... OK
  • checking whether the package can be loaded with stated dependencies ... OK
  • checking whether the package can be unloaded cleanly ... OK
  • checking whether the namespace can be loaded with stated dependencies ... OK
  • checking whether the namespace can be unloaded cleanly ... OK
  • checking loading without being on the library search path ... OK
  • checking dependencies in R code ... OK
  • checking S3 generic/method consistency ... OK
  • checking replacement functions ... OK
  • checking foreign function calls ... OK
  • checking R code for possible problems ... [9s/9s] OK
  • checking Rd files ... OK
  • checking Rd metadata ... OK
  • checking Rd cross-references ... OK
  • checking for missing documentation entries ... OK
  • checking for code/documentation mismatches ... OK
  • checking Rd \usage sections ... OK
  • checking Rd contents ... OK
  • checking for unstated dependencies in examples ... OK
  • checking line endings in shell scripts ... OK
  • checking examples ... [2s/2s] OK
  • checking for unstated dependencies in ‘tests’ ... OK
  • checking tests ... [34s/34s] OK
      Running ‘2sample.R’ [2s/2s]
      Comparing ‘2sample.Rout’ to ‘2sample.Rout.save’ ... OK
      Running ‘Cox-Ex.R’ [4s/4s]
      Comparing ‘Cox-Ex.Rout’ to ‘Cox-Ex.Rout.save’ ...54c54
    < -0.1178082 0.1944438 0.7590059 0.9091408 0.9091408 1.6572209 0.7425516
    ---
    > -0.1178082 0.1944438 0.7590058 0.9091408 0.9091408 1.6572210 0.7425515
    56c56
    < 1.0379602
    ---
    > 1.0379601
    91c91
    < 0.4378950 0.6470638 1.0503801 1.0503800 1.0503801 1.7944431 0.4891114 0.6649977
    ---
    > 0.4378917 0.6470606 1.0503774 1.0503774 1.0503774 1.7944348 0.4891169 0.6650021
    109c109
    < -0.1213140 0.1465680 0.7861004 0.8485818
    ---
    > -0.1210797 0.1468304 0.7852533 0.8488801
    111c111
    < 0.8485818 1.6373034 0.7464652 0.7985241
    ---
    > 0.8488801 1.6373746 0.7462537 0.7982918
    113c113
    < 0.7786154 0.7161340 0.7161340 2.7391250
    ---
    > 0.7795823 0.7159555 0.7159556 2.7244656
    115c115
    < 1.0903185 1.1584563 0.5189239 1.7161519
    ---
    > 1.0901616 1.1582839 0.5198610 1.7059024
    117c117
    < 1.7161521 30.0993233
    ---
    > 1.7059056 30.5442363
      Running ‘bugfixes.R’ [3s/3s]
      Comparing ‘bugfixes.Rout’ to ‘bugfixes.Rout.save’ ...23,32c23,32
    < -2.43 -2.4279809
    < -1.92 -1.7822070
    < -1.4 -1.1664948
    < -0.89 -0.6070583
    < -0.375 -0.1117719
    < 0.139 0.3298296
    < 0.654 0.7465507
    < 1.17 1.1855353
    < 1.68 1.7122668
    < 2.2 2.4105681
    ---
    > -2.43 -2.4279556
    > -1.92 -1.7822417
    > -1.4 -1.1665552
    > -0.89 -0.6071155
    > -0.375 -0.1117967
    > 0.139 0.3298724
    > 0.654 0.7467080
    > 1.17 1.1858717
    > 1.68 1.7128702
    > 2.2 2.4115555
      Running ‘dpq-Ex.R’ [2s/2s]
      Comparing ‘dpq-Ex.Rout’ to ‘dpq-Ex.Rout.save’ ... OK
      Running ‘glm-Ex.R’ [3s/3s]
      Comparing ‘glm-Ex.Rout’ to ‘glm-Ex.Rout.save’ ... OK
      Running ‘lm-Ex.R’ [3s/3s]
      Comparing ‘lm-Ex.Rout’ to ‘lm-Ex.Rout.save’ ... OK
      Running ‘polr-Ex.R’ [2s/2s]
      Comparing ‘polr-Ex.Rout’ to ‘polr-Ex.Rout.save’ ... OK
      Running ‘predict-Ex.R’ [4s/4s]
      Comparing ‘predict-Ex.Rout’ to ‘predict-Ex.Rout.save’ ... OK
      Running ‘subset.R’ [6s/6s]
      Comparing ‘subset.Rout’ to ‘subset.Rout.save’ ... OK
      Running ‘surv-Ex.R’ [2s/2s]
      Comparing ‘surv-Ex.Rout’ to ‘surv-Ex.Rout.save’ ... OK
  • checking PDF version of manual ... OK
  • DONE
    Status: OK