- using R version 4.0.0 (2020-04-24)
- using platform: x86_64-apple-darwin17.0 (64-bit)
- using session charset: UTF-8
- checking for file ‘kernDeepStackNet/DESCRIPTION’ ... OK
- this is package ‘kernDeepStackNet’ version ‘2.0.2’
- checking package namespace information ... OK
- checking package dependencies ... OK
- checking if this is a source package ... OK
- checking if there is a namespace ... OK
- checking for executable files ... OK
- checking for hidden files and directories ... OK
- checking for portable file names ... OK
- checking for sufficient/correct file permissions ... OK
- checking whether package ‘kernDeepStackNet’ can be installed ... [32s/49s] OK
- checking installed package size ... NOTE
installed size is 6.1Mb
sub-directories of 1Mb or more:
libs 5.7Mb
- checking package directory ... OK
- checking DESCRIPTION meta-information ... OK
- checking top-level files ... OK
- checking for left-over files ... OK
- checking index information ... OK
- checking package subdirectories ... OK
- checking R files for non-ASCII characters ... OK
- checking R files for syntax errors ... OK
- checking whether the package can be loaded ... OK
- checking whether the package can be loaded with stated dependencies ... OK
- checking whether the package can be unloaded cleanly ... OK
- checking whether the namespace can be loaded with stated dependencies ... OK
- checking whether the namespace can be unloaded cleanly ... OK
- checking loading without being on the library search path ... OK
- checking dependencies in R code ... OK
- checking S3 generic/method consistency ... OK
- checking replacement functions ... OK
- checking foreign function calls ... OK
- checking R code for possible problems ... [11s/16s] OK
- checking Rd files ... OK
- checking Rd metadata ... OK
- checking Rd cross-references ... OK
- checking for missing documentation entries ... OK
- checking for code/documentation mismatches ... OK
- checking Rd \usage sections ... OK
- checking Rd contents ... OK
- checking for unstated dependencies in examples ... OK
- checking line endings in C/C++/Fortran sources/headers ... OK
- checking compiled code ... OK
- checking examples ... [14s/20s] OK
- checking for unstated dependencies in ‘tests’ ... OK
- checking tests ... [20s/28s] OK
Running ‘KDSNdirectOpt_tests_optimize_1D_multi_KDSN.R’ [6s/9s]
Running ‘KDSNestimation_tests_fit_k_DSN_rft.R’ [4s/6s]
Running ‘KDSNestimation_tests_randomFourierTrans.R’ [3s/4s]
Running ‘KDSNestimation_tests_robust_standard.R’ [3s/5s]
Running ‘KDSNrcpp.R’ [3s/4s]
- checking PDF version of manual ... OK
- DONE
Status: 1 NOTE