- using R version 4.0.0 (2020-04-24)
- using platform: x86_64-apple-darwin17.0 (64-bit)
- using session charset: UTF-8
- checking for file ‘ProgGUIinR/DESCRIPTION’ ... OK
- this is package ‘ProgGUIinR’ version ‘0.0-4’
- checking package namespace information ... OK
- checking package dependencies ... NOTE
Package suggested but not available for checking: ‘qtbase’
- checking if this is a source package ... OK
- checking if there is a namespace ... OK
- checking for executable files ... OK
- checking for hidden files and directories ... OK
- checking for portable file names ... OK
- checking for sufficient/correct file permissions ... OK
- checking whether package ‘ProgGUIinR’ can be installed ... [4s/6s] OK
- checking installed package size ... OK
- checking package directory ... OK
- checking DESCRIPTION meta-information ... NOTE
Malformed Description field: should contain one or more complete sentences.
- checking top-level files ... OK
- checking for left-over files ... OK
- checking index information ... OK
- checking package subdirectories ... OK
- checking R files for non-ASCII characters ... OK
- checking R files for syntax errors ... OK
- checking whether the package can be loaded ... OK
- checking whether the package can be loaded with stated dependencies ... OK
- checking whether the package can be unloaded cleanly ... OK
- checking whether the namespace can be loaded with stated dependencies ... OK
- checking whether the namespace can be unloaded cleanly ... OK
- checking loading without being on the library search path ... OK
- checking dependencies in R code ... OK
- checking S3 generic/method consistency ... OK
- checking replacement functions ... OK
- checking foreign function calls ... OK
- checking R code for possible problems ... [4s/6s] NOTE
browseRGtk2Files: no visible global function definition for ‘gtkWindow’
browseRGtk2Files: no visible global function definition for ‘gtkVBox’
browseRGtk2Files: no visible global function definition for
‘gtkToolbar’
browseRGtk2Files: no visible global function definition for ‘gtkHPaned’
browseRGtk2Files: no visible global function definition for ‘gtkFrame’
browseRGtk2Files: no visible global function definition for
‘gtkTextView’
browseRGtk2Files: no visible global function definition for
‘gtkScrolledWindow’
browseRGtk2Files: no visible global function definition for
‘gtkStatusbar’
browseRGtk2Files: no visible global function definition for
‘rGtkDataFrame’
browseRGtk2Files: no visible global function definition for
‘gtkTreeView’
browseRGtk2Files: no visible global function definition for
‘gtkTreeViewColumn’
browseRGtk2Files: no visible global function definition for
‘gtkCellRendererText’
browseRGtk2Files: no visible binding for global variable ‘PangoStyle’
browseRGtk2Files: no visible global function definition for ‘gtkAction’
browseRGtk2Files: no visible global function definition for
‘gSignalConnect’
browseRGtk2Files: no visible global function definition for
‘gtkToolButton’
browseRGtk2Files: no visible global function definition for
‘gtkSeparatorToolItem’
browseTclTkFiles : addScrollbars: no visible global function definition
for ‘ttkscrollbar’
browseTclTkFiles : addScrollbars : <anonymous>: no visible global
function definition for ‘tkxview’
browseTclTkFiles : addScrollbars: no visible global function definition
for ‘tkconfigure’
browseTclTkFiles : addScrollbars : <anonymous>: no visible global
function definition for ‘tkset’
browseTclTkFiles : addScrollbars: no visible global function definition
for ‘tkgrid’
browseTclTkFiles : addScrollbars: no visible global function definition
for ‘tkgrid.columnconfigure’
browseTclTkFiles : addScrollbars: no visible global function definition
for ‘tkgrid.rowconfigure’
browseTclTkFiles: no visible global function definition for
‘tktoplevel’
browseTclTkFiles: no visible global function definition for
‘tkwm.title’
browseTclTkFiles: no visible global function definition for ‘ttkframe’
browseTclTkFiles: no visible global function definition for ‘tkpack’
browseTclTkFiles: no visible global function definition for ‘tkmenu’
browseTclTkFiles: no visible global function definition for
‘tkconfigure’
browseTclTkFiles: no visible global function definition for
‘ttkpanedwindow’
browseTclTkFiles: no visible global function definition for ‘tcl’
browseTclTkFiles: no visible global function definition for
‘ttktreeview’
browseTclTkFiles: no visible global function definition for ‘tktext’
browseTclTkFiles: no visible global function definition for ‘ttklabel’
browseTclTkFiles: no visible global function definition for
‘tktag.configure’
browseTclTkFiles : showFileInTextBuffer: no visible global function
definition for ‘tkdelete’
browseTclTkFiles : showFileInTextBuffer: no visible global function
definition for ‘tkinsert’
browseTclTkFiles : showFileInTextBuffer: no visible global function
definition for ‘tksee’
browseTclTkFiles: no visible global function definition for ‘tkbind’
browseTclTkFiles : <anonymous>: no visible global function definition
for ‘tcl’
browseTclTkFiles : evalBuffer: no visible global function definition
for ‘tclvalue’
browseTclTkFiles : evalBuffer: no visible global function definition
for ‘tkget’
browseTclTkFiles : evalRegion: no visible global function definition
for ‘tclvalue’
browseTclTkFiles : evalRegion: no visible global function definition
for ‘tkget’
browseTclTkFiles : evalSelection: no visible global function definition
for ‘tclvalue’
browseTclTkFiles : evalSelection: no visible global function definition
for ‘tkget’
browseTclTkFiles : evalLine: no visible global function definition for
‘tclvalue’
browseTclTkFiles : evalLine: no visible global function definition for
‘tkget’
browseTclTkFiles: no visible global function definition for ‘ttkbutton’
browseTclTkFiles : <anonymous>: no visible global function definition
for ‘tclvalue’
browseTclTkFiles : <anonymous>: no visible global function definition
for ‘tkget’
browseTclTkFiles : <anonymous>: no visible global function definition
for ‘tkconfigure’
browseTclTkFiles : tagRegion: no visible global function definition for
‘tktag.configure’
browseTclTkFiles : tagRegion: no visible global function definition for
‘tktag.remove’
browseTclTkFiles : tagRegion : getLine: no visible global function
definition for ‘tclvalue’
browseTclTkFiles : tagRegion : getLine: no visible global function
definition for ‘tkget’
browseTclTkFiles : tagRegion : getPosFromIndex: no visible global
function definition for ‘tclvalue’
browseTclTkFiles : tagRegion : getPosFromIndex: no visible global
function definition for ‘tcl’
browseTclTkFiles : tagRegion: no visible global function definition for
‘tktag.add’
browsegWidgetsFiles: no visible global function definition for
‘gwindow’
browsegWidgetsFiles: no visible global function definition for
‘gstatusbar’
browsegWidgetsFiles: no visible global function definition for
‘gpanedgroup’
browsegWidgetsFiles: no visible global function definition for ‘gframe’
browsegWidgetsFiles: no visible global function definition for ‘gtable’
browsegWidgetsFiles : <anonymous>: no visible global function
definition for ‘svalue’
browsegWidgetsFiles : <anonymous>: no visible global function
definition for ‘svalue<-’
browsegWidgetsFiles : <anonymous>: no visible global function
definition for ‘gtext’
browsegWidgetsFiles: no visible global function definition for ‘ggroup’
browsegWidgetsFiles: no visible global function definition for
‘addSpring’
browsegWidgetsFiles: no visible global function definition for
‘gbutton’
browsegWidgetsFiles: no visible global function definition for
‘gnotebook’
browsegWidgetsFiles: no visible global function definition for
‘visible<-’
browsegWidgetsFiles: no visible global function definition for
‘svalue<-’
showGtkWidgetInfo: no visible global function definition for ‘gtkEntry’
showGtkWidgetInfo: no visible global function definition for
‘gtkNotebook’
showGtkWidgetInfo: no visible global function definition for
‘gtkTextBuffer’
showGtkWidgetInfo: no visible global function definition for
‘gtkWindow’
showGtkWidgetInfo: no visible global function definition for
‘gtkVBoxNew’
showGtkWidgetInfo: no visible global function definition for
‘gtkStatusbar’
showGtkWidgetInfo: no visible global function definition for
‘gtkHBoxNew’
showGtkWidgetInfo: no visible global function definition for ‘gtkHBox’
showGtkWidgetInfo: no visible global function definition for ‘gtkLabel’
showGtkWidgetInfo : <anonymous>: no visible global function definition
for ‘gtkTextView’
showGtkWidgetInfo : <anonymous>: no visible global function definition
for ‘gtkScrolledWindow’
showGtkWidgetInfo : <anonymous>: no visible global function definition
for ‘gtkLabel’
showGtkWidgetInfo: no visible global function definition for ‘gtkVBox’
showGtkWidgetInfo: no visible global function definition for
‘gtkEntryCompletionNew’
showGtkWidgetInfo: no visible global function definition for
‘gtkListStore’
showGtkWidgetInfo: no visible global function definition for
‘gtkTextView’
showGtkWidgetInfo: no visible global function definition for
‘gtkScrolledWindow’
showGtkWidgetInfo : getSignalText: no visible global function
definition for ‘gtkTypeGetSignals’
showGtkWidgetInfo : getMethodsText: no visible global function
definition for ‘apropos’
showGtkWidgetInfo : possibleMethods: no visible global function
definition for ‘apropos’
showGtkWidgetInfo : getMethodForObject: no visible global function
definition for ‘help’
showGtkWidgetInfo: no visible global function definition for
‘gSignalConnect’
Undefined global functions or variables:
PangoStyle addSpring apropos gSignalConnect gbutton gframe ggroup
gnotebook gpanedgroup gstatusbar gtable gtext gtkAction
gtkCellRendererText gtkEntry gtkEntryCompletionNew gtkFrame gtkHBox
gtkHBoxNew gtkHPaned gtkLabel gtkListStore gtkNotebook
gtkScrolledWindow gtkSeparatorToolItem gtkStatusbar gtkTextBuffer
gtkTextView gtkToolButton gtkToolbar gtkTreeView gtkTreeViewColumn
gtkTypeGetSignals gtkVBox gtkVBoxNew gtkWindow gwindow help
rGtkDataFrame svalue svalue<- tcl tclvalue tkbind tkconfigure
tkdelete tkget tkgrid tkgrid.columnconfigure tkgrid.rowconfigure
tkinsert tkmenu tkpack tksee tkset tktag.add tktag.configure
tktag.remove tktext tktoplevel tkwm.title tkxview ttkbutton ttkframe
ttklabel ttkpanedwindow ttkscrollbar ttktreeview visible<-
Consider adding
importFrom("utils", "apropos", "help")
to your NAMESPACE file.
- checking Rd files ... OK
- checking Rd metadata ... OK
- checking Rd cross-references ... OK
- checking for missing documentation entries ... OK
- checking for code/documentation mismatches ... OK
- checking Rd \usage sections ... OK
- checking Rd contents ... OK
- checking for unstated dependencies in examples ... OK
- checking examples ... [1s/1s] OK
- checking PDF version of manual ... OK
- DONE
Status: 3 NOTEs