• using R version 3.6.0 beta (2019-04-15 r76395)
  • using platform: x86_64-apple-darwin15.6.0 (64-bit)
  • using session charset: UTF-8
  • checking for file ‘FRCC/DESCRIPTION’ ... OK
  • checking extension type ... Package
  • this is package ‘FRCC’ version ‘1.0’
  • checking package namespace information ... OK
  • checking package dependencies ... OK
  • checking if this is a source package ... OK
  • checking if there is a namespace ... OK
  • checking for executable files ... OK
  • checking for hidden files and directories ... OK
  • checking for portable file names ... OK
  • checking for sufficient/correct file permissions ... OK
  • checking whether package ‘FRCC’ can be installed ... [3s/5s] OK
  • checking installed package size ... OK
  • checking package directory ... OK
  • checking DESCRIPTION meta-information ... OK
  • checking top-level files ... OK
  • checking for left-over files ... OK
  • checking index information ... OK
  • checking package subdirectories ... OK
  • checking R files for non-ASCII characters ... OK
  • checking R files for syntax errors ... OK
  • checking whether the package can be loaded ... OK
  • checking whether the package can be loaded with stated dependencies ... OK
  • checking whether the package can be unloaded cleanly ... OK
  • checking whether the namespace can be loaded with stated dependencies ... OK
  • checking whether the namespace can be unloaded cleanly ... OK
  • checking loading without being on the library search path ... OK
  • checking dependencies in R code ... NOTE
    'library' or 'require' calls to packages already attached by Depends:
      ‘CCP’ ‘MASS’ ‘calibrate’ ‘corpcor’
      Please remove these calls from your code.
    Packages in Depends field not imported from:
      ‘CCP’ ‘MASS’ ‘calibrate’ ‘corpcor’
      These packages need to be imported from (in the NAMESPACE file)
      for when this namespace is loaded but not attached.
  • checking S3 generic/method consistency ... OK
  • checking replacement functions ... OK
  • checking foreign function calls ... OK
  • checking R code for possible problems ... [3s/6s] NOTE
    custom.draw.circle: no visible global function definition for ‘lines’
    frcc: no visible binding for global variable ‘sd’
    frcc: no visible global function definition for ‘cor.shrink’
    frcc: no visible global function definition for ‘cor’
    frcc: no visible global function definition for ‘p.asym’
    generate_multivariate_normal_sample: no visible global function
      definition for ‘mvrnorm’
    plot_units: no visible binding for global variable ‘sd’
    plot_units: no visible global function definition for ‘plot’
    plot_units: no visible global function definition for ‘points’
    plot_units: no visible global function definition for ‘textxy’
    plot_variables: no visible global function definition for ‘plot’
    plot_variables: no visible global function definition for ‘points’
    plot_variables: no visible global function definition for ‘textxy’
    plot_variables: no visible global function definition for ‘segments’
    Undefined global functions or variables:
      cor cor.shrink lines mvrnorm p.asym plot points sd segments textxy
    Consider adding
      importFrom("graphics", "lines", "plot", "points", "segments")
      importFrom("stats", "cor", "sd")
    to your NAMESPACE file.
  • checking Rd files ... OK
  • checking Rd metadata ... OK
  • checking Rd cross-references ... OK
  • checking for missing documentation entries ... OK
  • checking for code/documentation mismatches ... OK
  • checking Rd \usage sections ... OK
  • checking Rd contents ... OK
  • checking for unstated dependencies in examples ... OK
  • checking contents of ‘data’ directory ... OK
  • checking data for non-ASCII characters ... OK
  • checking data for ASCII and uncompressed saves ... OK
  • checking examples ... [8s/20s] OK
  • checking PDF version of manual ... OK
  • DONE
    Status: 2 NOTEs