• using R version 4.0.0 (2020-04-24)
  • using platform: x86_64-apple-darwin17.0 (64-bit)
  • using session charset: UTF-8
  • checking for file ‘ENmisc/DESCRIPTION’ ... OK
  • checking extension type ... Package
  • this is package ‘ENmisc’ version ‘1.2-7’
  • checking package namespace information ... OK
  • checking package dependencies ... OK
  • checking if this is a source package ... OK
  • checking if there is a namespace ... OK
  • checking for executable files ... OK
  • checking for hidden files and directories ... OK
  • checking for portable file names ... OK
  • checking for sufficient/correct file permissions ... OK
  • checking whether package ‘ENmisc’ can be installed ... [9s/12s] OK
  • checking installed package size ... OK
  • checking package directory ... OK
  • checking DESCRIPTION meta-information ... OK
  • checking top-level files ... OK
  • checking for left-over files ... OK
  • checking index information ... OK
  • checking package subdirectories ... OK
  • checking R files for non-ASCII characters ... OK
  • checking R files for syntax errors ... OK
  • checking whether the package can be loaded ... OK
  • checking whether the package can be loaded with stated dependencies ... OK
  • checking whether the package can be unloaded cleanly ... OK
  • checking whether the namespace can be loaded with stated dependencies ... OK
  • checking whether the namespace can be unloaded cleanly ... OK
  • checking loading without being on the library search path ... OK
  • checking dependencies in R code ... NOTE
    'library' or 'require' call to ‘RColorBrewer’ which was already attached by Depends.
      Please remove these calls from your code.
    'library' or 'require' calls in package code:
      ‘Rcmdr’ ‘gWidgets’ ‘gWidgetstcltk’
      Please use :: or requireNamespace() instead.
      See section 'Suggested packages' in the 'Writing R Extensions' manual.
    Packages in Depends field not imported from:
      ‘Hmisc’ ‘RColorBrewer’ ‘vcd’
      These packages need to be imported from (in the NAMESPACE file)
      for when this namespace is loaded but not attached.
  • checking S3 generic/method consistency ... OK
  • checking replacement functions ... OK
  • checking foreign function calls ... OK
  • checking R code for possible problems ... [6s/7s] NOTE
    CommanderWindowP: no visible global function definition for
      ‘CommanderWindow’
    aperm.structable: no visible global function definition for
      ‘structable’
    brewer.pal.ext: no visible global function definition for ‘brewer.pal’
    errorMessage: no visible global function definition for ‘Message’
    errorMessage: no visible global function definition for ‘gmessage’
    make_modal: no visible global function definition for ‘is’
    make_modal: no visible global function definition for ‘tkwait.window’
    margin.table.structable: no visible global function definition for
      ‘structable’
    mosaicPermDialogHelper: no visible global function definition for
      ‘visible<-’
    mosaicPermDialogHelper : updatedisplay: no visible global function
      definition for ‘enabled<-’
    mosaicPermDialogHelper : updatedisplay: no visible global function
      definition for ‘svalue’
    mosaicPermDialogHelper : updatedisplay: no visible global function
      definition for ‘svalue<-’
    mosaicPermDialogHelper : plotmosaic: no visible global function
      definition for ‘svalue’
    mosaicPermDialogHelper : plotmosaic: no visible global function
      definition for ‘svalue<-’
    mosaicPermDialogHelper : checkbuttonhandler : <anonymous>: no visible
      global function definition for ‘svalue’
    mosaicPermDialogHelper : keepMarginHandler: no visible global function
      definition for ‘svalue’
    mosaicPermDialogHelper : hideButton: no visible global function
      definition for ‘delete’
    mosaicPermDialogHelper : showButton: no visible global function
      definition for ‘add’
    mosaicPermDialogHelper : plottypebuttonhandler: no visible global
      function definition for ‘svalue’
    mosaicPermDialogHelper : plottypebuttonhandler: no visible global
      function definition for ‘svalue<-’
    mosaicPermDialogHelper : plottypebuttonhandler: no visible global
      function definition for ‘enabled<-’
    mosaicPermDialogHelper : OKbuttonhandler: no visible global function
      definition for ‘doItAndPrint’
    mosaicPermDialogHelper : resulttypebuttonhandler: no visible global
      function definition for ‘svalue’
    mosaicPermDialogHelper: no visible global function definition for
      ‘gbasicdialog’
    mosaicPermDialogHelper: no visible global function definition for
      ‘ggroup’
    mosaicPermDialogHelper: no visible global function definition for
      ‘addSpring’
    mosaicPermDialogHelper: no visible global function definition for
      ‘glayout’
    mosaicPermDialogHelper: no visible global function definition for
      ‘glabel’
    mosaicPermDialogHelper: no visible global function definition for
      ‘gbutton’
    mosaicPermDialogHelper: no visible global function definition for
      ‘gcheckbox’
    mosaicPermDialogHelper: no visible global function definition for
      ‘svalue<-’
    mosaicPermDialogHelper: no visible global function definition for
      ‘gframe’
    mosaicPermDialogHelper: no visible global function definition for
      ‘gradio’
    mosaicPermDialogHelper: no visible global function definition for
      ‘addHandlerClicked’
    mosaicPermDialogHelper: no visible global function definition for
      ‘addSpace’
    mosaicPermDialogHelper: no visible global function definition for
      ‘gseparator’
    mosaicPermDialogHelper: no visible global function definition for
      ‘gedit’
    mosaicPermDialogHelper: no visible global function definition for
      ‘size<-’
    mosaicPermDialogHelper: no visible global function definition for
      ‘editable<-’
    mosaicPermDialogHelper: no visible global function definition for
      ‘svalue’
    mosaicPermDialogHelper: no visible global function definition for
      ‘visible’
    mosaicPermDialogHelper: no visible global function definition for
      ‘dispose’
    mosaicSelectDialog : dotable: no visible global function definition for
      ‘svalue’
    mosaicSelectDialog: no visible global function definition for ‘gwindow’
    mosaicSelectDialog: no visible global function definition for ‘ggroup’
    mosaicSelectDialog: no visible global function definition for ‘glabel’
    mosaicSelectDialog: no visible global function definition for
      ‘gcombobox’
    mosaicSelectDialog : doOKbutton: no visible global function definition
      for ‘svalue’
    mosaicSelectDialog : doOKbutton: no visible global function definition
      for ‘dispose’
    mosaicSelectDialog: no visible global function definition for
      ‘addSpace’
    mosaicSelectDialog: no visible global function definition for ‘gbutton’
    mosaicSelectDialog: no visible global function definition for ‘focus<-’
    mosaicSelectDialog: no visible global function definition for
      ‘visible<-’
    mosaicableObjectAndNamestring: no visible global function definition
      for ‘structable’
    raise: no visible global function definition for ‘tkraise’
    raise: no visible global function definition for ‘getToolkitWidget’
    setMosaicPalette: no visible binding for global variable
      ‘brewer.pal.info’
    structableExpression: no visible global function definition for
      ‘is.structable’
    vecArg: no visible global function definition for ‘capture.output’
    warnMessage: no visible global function definition for ‘Message’
    warnMessage: no visible global function definition for ‘gmessage’
    Undefined global functions or variables:
      CommanderWindow Message add addHandlerClicked addSpace addSpring
      brewer.pal brewer.pal.info capture.output delete dispose doItAndPrint
      editable<- enabled<- focus<- gbasicdialog gbutton gcheckbox gcombobox
      gedit getToolkitWidget gframe ggroup glabel glayout gmessage gradio
      gseparator gwindow is is.structable size<- structable svalue svalue<-
      tkraise tkwait.window visible visible<-
    Consider adding
      importFrom("methods", "is")
      importFrom("utils", "capture.output")
    to your NAMESPACE file (and ensure that your DESCRIPTION Imports field
    contains 'methods').
  • checking Rd files ... OK
  • checking Rd metadata ... OK
  • checking Rd cross-references ... OK
  • checking for missing documentation entries ... OK
  • checking for code/documentation mismatches ... OK
  • checking Rd \usage sections ... OK
  • checking Rd contents ... OK
  • checking for unstated dependencies in examples ... OK
  • checking examples ... [2s/3s] OK
  • checking PDF version of manual ... OK
  • DONE
    Status: 2 NOTEs