• using R Under development (unstable) (2025-01-24 r87627)
  • using platform: x86_64-apple-darwin20
  • R was compiled by     Apple clang version 14.0.0 (clang-1400.0.29.202)     GNU Fortran (GCC) 14.2.0
  • running under: macOS Ventura 13.3.1
  • using session charset: UTF-8
  • checking for file ‘webreadr/DESCRIPTION’ ... OK
  • checking extension type ... Package
  • this is package ‘webreadr’ version ‘0.4.0’
  • checking package namespace information ... OK
  • checking package dependencies ... INFO Packages suggested but not available for checking: 'iptools', 'rgeolocate'
  • checking if this is a source package ... OK
  • checking if there is a namespace ... OK
  • checking for executable files ... OK
  • checking for hidden files and directories ... OK
  • checking for portable file names ... OK
  • checking for sufficient/correct file permissions ... OK
  • checking whether package ‘webreadr’ can be installed ... [10s/10s] OK See the install log for details.
  • used C++ compiler: ‘Apple clang version 14.0.3 (clang-1403.0.22.14.1)’
  • used SDK: ‘MacOSX11.3.sdk’
  • checking installed package size ... OK
  • checking package directory ... OK
  • checking ‘build’ directory ... OK
  • checking DESCRIPTION meta-information ... OK
  • checking top-level files ... OK
  • checking for left-over files ... OK
  • checking index information ... OK
  • checking package subdirectories ... OK
  • checking code files for non-ASCII characters ... OK
  • checking R files for syntax errors ... OK
  • checking whether the package can be loaded ... [1s/1s] OK
  • checking whether the package can be loaded with stated dependencies ... [1s/1s] OK
  • checking whether the package can be unloaded cleanly ... [1s/1s] OK
  • checking whether the namespace can be loaded with stated dependencies ... [1s/1s] OK
  • checking whether the namespace can be unloaded cleanly ... [1s/1s] OK
  • checking loading without being on the library search path ... [1s/1s] OK
  • checking dependencies in R code ... OK
  • checking S3 generic/method consistency ... OK
  • checking replacement functions ... OK
  • checking foreign function calls ... OK
  • checking R code for possible problems ... [2s/3s] OK
  • checking Rd files ... [0s/0s] NOTE checkRd: (-1) read_aws.Rd:29: Lost braces in \itemize; meant \describe ? checkRd: (-1) read_aws.Rd:30-31: Lost braces in \itemize; meant \describe ? checkRd: (-1) read_aws.Rd:32-33: Lost braces in \itemize; meant \describe ? checkRd: (-1) read_aws.Rd:34-35: Lost braces in \itemize; meant \describe ? checkRd: (-1) read_aws.Rd:36: Lost braces in \itemize; meant \describe ? checkRd: (-1) read_aws.Rd:37: Lost braces in \itemize; meant \describe ? checkRd: (-1) read_aws.Rd:38: Lost braces in \itemize; meant \describe ? checkRd: (-1) read_aws.Rd:39: Lost braces in \itemize; meant \describe ? checkRd: (-1) read_aws.Rd:40: Lost braces in \itemize; meant \describe ? checkRd: (-1) read_aws.Rd:41: Lost braces in \itemize; meant \describe ? checkRd: (-1) read_aws.Rd:42: Lost braces in \itemize; meant \describe ? checkRd: (-1) read_aws.Rd:43-44: Lost braces in \itemize; meant \describe ? checkRd: (-1) read_aws.Rd:45-46: Lost braces in \itemize; meant \describe ? checkRd: (-1) read_aws.Rd:47-49: Lost braces in \itemize; meant \describe ? checkRd: (-1) read_aws.Rd:50: Lost braces in \itemize; meant \describe ? checkRd: (-1) read_aws.Rd:51-53: Lost braces in \itemize; meant \describe ? checkRd: (-1) read_aws.Rd:54: Lost braces in \itemize; meant \describe ? checkRd: (-1) read_aws.Rd:55: Lost braces in \itemize; meant \describe ? checkRd: (-1) read_aws.Rd:56-57: Lost braces in \itemize; meant \describe ? checkRd: (-1) read_clf.Rd:27-28: Lost braces in \itemize; meant \describe ? checkRd: (-1) read_clf.Rd:29-30: Lost braces in \itemize; meant \describe ? checkRd: (-1) read_clf.Rd:31: Lost braces in \itemize; meant \describe ? checkRd: (-1) read_clf.Rd:32-34: Lost braces in \itemize; meant \describe ? checkRd: (-1) read_clf.Rd:35-36: Lost braces in \itemize; meant \describe ? checkRd: (-1) read_clf.Rd:37: Lost braces in \itemize; meant \describe ? checkRd: (-1) read_clf.Rd:38: Lost braces in \itemize; meant \describe ? checkRd: (-1) read_combined.Rd:25: Lost braces in \itemize; meant \describe ? checkRd: (-1) read_combined.Rd:26: Lost braces in \itemize; meant \describe ? checkRd: (-1) read_s3.Rd:24: Lost braces in \itemize; meant \describe ? checkRd: (-1) read_s3.Rd:25: Lost braces in \itemize; meant \describe ? checkRd: (-1) read_s3.Rd:26-27: Lost braces in \itemize; meant \describe ? checkRd: (-1) read_s3.Rd:28: Lost braces in \itemize; meant \describe ? checkRd: (-1) read_s3.Rd:29-30: Lost braces in \itemize; meant \describe ? checkRd: (-1) read_s3.Rd:31: Lost braces in \itemize; meant \describe ? checkRd: (-1) read_s3.Rd:32-33: Lost braces in \itemize; meant \describe ? checkRd: (-1) read_s3.Rd:34-36: Lost braces in \itemize; meant \describe ? checkRd: (-1) read_s3.Rd:37: Lost braces in \itemize; meant \describe ? checkRd: (-1) read_s3.Rd:38-40: Lost braces in \itemize; meant \describe ? checkRd: (-1) read_s3.Rd:41: Lost braces in \itemize; meant \describe ? checkRd: (-1) read_s3.Rd:42: Lost braces in \itemize; meant \describe ? checkRd: (-1) read_s3.Rd:43-44: Lost braces in \itemize; meant \describe ? checkRd: (-1) read_s3.Rd:45-46: Lost braces in \itemize; meant \describe ? checkRd: (-1) read_s3.Rd:47: Lost braces in \itemize; meant \describe ? checkRd: (-1) read_s3.Rd:48: Lost braces in \itemize; meant \describe ? checkRd: (-1) read_s3.Rd:49-50: Lost braces in \itemize; meant \describe ? checkRd: (-1) read_squid.Rd:27-30: Lost braces in \itemize; meant \describe ? checkRd: (-1) read_squid.Rd:33: Lost braces in \itemize; meant \describe ? checkRd: (-1) read_squid.Rd:34-35: Lost braces in \itemize; meant \describe ? checkRd: (-1) read_squid.Rd:36: Lost braces in \itemize; meant \describe ? checkRd: (-1) read_squid.Rd:37: Lost braces in \itemize; meant \describe ? checkRd: (-1) read_squid.Rd:38: Lost braces in \itemize; meant \describe ? checkRd: (-1) read_squid.Rd:39-40: Lost braces in \itemize; meant \describe ? checkRd: (-1) read_squid.Rd:41-42: Lost braces in \itemize; meant \describe ?
  • checking Rd metadata ... OK
  • checking Rd cross-references ... OK
  • checking for missing documentation entries ... OK
  • checking for code/documentation mismatches ... OK
  • checking Rd \usage sections ... OK
  • checking Rd contents ... OK
  • checking for unstated dependencies in examples ... OK
  • checking line endings in C/C++/Fortran sources/headers ... OK
  • checking compiled code ... OK
  • checking installed files from ‘inst/doc’ ... OK
  • checking files in ‘vignettes’ ... OK
  • checking examples ... [1s/2s] OK
  • checking for unstated dependencies in ‘tests’ ... OK
  • checking tests ... [2s/3s] OK   Running ‘testthat.R’ [1s/2s]
  • checking for unstated dependencies in vignettes ... OK
  • checking package vignettes ... OK
  • checking re-building of vignette outputs ... [10s/18s] OK
  • checking PDF version of manual ... [6s/9s] OK
  • DONE Status: 1 NOTE
  • using check arguments '--no-clean-on-error '