• using R version 4.5.0 beta (2025-03-29 r88074)
  • using platform: x86_64-apple-darwin20
  • R was compiled by     Apple clang version 14.0.0 (clang-1400.0.29.202)     GNU Fortran (GCC) 14.2.0
  • running under: macOS Ventura 13.3.1
  • using session charset: UTF-8
  • checking for file ‘tensorregress/DESCRIPTION’ ... OK
  • this is package ‘tensorregress’ version ‘5.1’
  • package encoding: UTF-8
  • checking package namespace information ... OK
  • checking package dependencies ... OK
  • checking if this is a source package ... OK
  • checking if there is a namespace ... OK
  • checking for executable files ... OK
  • checking for hidden files and directories ... OK
  • checking for portable file names ... OK
  • checking for sufficient/correct file permissions ... OK
  • checking whether package ‘tensorregress’ can be installed ... [4s/5s] OK See the install log for details.
  • checking installed package size ... OK
  • checking package directory ... OK
  • checking DESCRIPTION meta-information ... OK
  • checking top-level files ... OK
  • checking for left-over files ... OK
  • checking index information ... OK
  • checking package subdirectories ... OK
  • checking code files for non-ASCII characters ... OK
  • checking R files for syntax errors ... OK
  • checking whether the package can be loaded ... [0s/0s] OK
  • checking whether the package can be loaded with stated dependencies ... [0s/0s] OK
  • checking whether the package can be unloaded cleanly ... [0s/0s] OK
  • checking whether the namespace can be loaded with stated dependencies ... [0s/0s] OK
  • checking whether the namespace can be unloaded cleanly ... [0s/0s] OK
  • checking loading without being on the library search path ... [0s/0s] OK
  • checking dependencies in R code ... OK
  • checking S3 generic/method consistency ... OK
  • checking replacement functions ... OK
  • checking foreign function calls ... OK
  • checking R code for possible problems ... [5s/6s] OK
  • checking Rd files ... [0s/0s] NOTE checkRd: (-1) sim_data.Rd:41: Lost braces     41 | \code{tsr} {a list of simulated tensors, with the number of replicates specified by \code{dup}}        | ^ checkRd: (-1) sim_data.Rd:43: Lost braces; missing escapes or markup?     43 | \code{X_covar1} {a matrix, side information on first mode}        | ^ checkRd: (-1) sim_data.Rd:45: Lost braces; missing escapes or markup?     45 | \code{X_covar2} {a matrix, side information on second mode}        | ^ checkRd: (-1) sim_data.Rd:47: Lost braces; missing escapes or markup?     47 | \code{X_covar3} {a matrix, side information on third mode}        | ^ checkRd: (-1) sim_data.Rd:49: Lost braces     49 | \code{W} {a list of orthogonal factor matrices - one for each mode, with the number of columns given by \code{core_shape}}        | ^ checkRd: (-1) sim_data.Rd:51: Lost braces     51 | \code{G} {an array, core tensor with size specified by \code{core_shape}}        | ^ checkRd: (-1) sim_data.Rd:53: Lost braces     53 | \code{C_ts} {an array, coefficient tensor, Tucker product of \code{G},\code{A},\code{B},\code{C}}        | ^ checkRd: (-1) sim_data.Rd:55: Lost braces     55 | \code{U} {an array, linear predictor,i.e. Tucker product of \code{C_ts},\code{X_covar1},\code{X_covar2},\code{X_covar3}}        | ^ checkRd: (-1) tensor_regress.Rd:53: Lost braces     53 | \code{W} {a list of orthogonal factor matrices - one for each mode, with the number of columns given by \code{core_shape}}        | ^ checkRd: (-1) tensor_regress.Rd:55: Lost braces     55 | \code{G} {an array, core tensor with the size specified by \code{core_shape}}        | ^ checkRd: (-1) tensor_regress.Rd:57: Lost braces     57 | \code{C_ts} {an array, coefficient tensor, Tucker product of \code{G},\code{A},\code{B},\code{C}}        | ^ checkRd: (-1) tensor_regress.Rd:59: Lost braces     59 | \code{U} {linear predictor,i.e. Tucker product of \code{C_ts},\code{X_covar1},\code{X_covar2},\code{X_covar3}}        | ^ checkRd: (-1) tensor_regress.Rd:61: Lost braces; missing escapes or markup?     61 | \code{lglk} {a vector containing loglikelihood at convergence}        | ^ checkRd: (-1) tensor_regress.Rd:63: Lost braces; missing escapes or markup?     63 | \code{sigma} {a scalar, estimated error variance (for Gaussian tensor) or dispersion parameter (for Bernoulli and Poisson tensors)}        | ^ checkRd: (-1) tensor_regress.Rd:65: Lost braces     65 | \code{violate} {a vector listing whether each iteration violates the max norm constraint on the linear predictor, \code{1} indicates violation}        | ^
  • checking Rd metadata ... OK
  • checking Rd cross-references ... OK
  • checking for missing documentation entries ... OK
  • checking for code/documentation mismatches ... OK
  • checking Rd \usage sections ... OK
  • checking Rd contents ... OK
  • checking for unstated dependencies in examples ... OK
  • checking contents of ‘data’ directory ... OK
  • checking data for non-ASCII characters ... [0s/0s] OK
  • checking LazyData ... OK
  • checking data for ASCII and uncompressed saves ... OK
  • checking examples ... [5s/6s] OK
  • checking PDF version of manual ... [8s/16s] OK
  • DONE Status: 1 NOTE
  • using check arguments '--no-clean-on-error '