• using R version 4.2.0 (2022-04-22)
  • using platform: x86_64-apple-darwin17.0 (64-bit)
  • using session charset: UTF-8
  • checking for file ‘tau/DESCRIPTION’ ... OK
  • this is package ‘tau’ version ‘0.0-24’
  • package encoding: UTF-8
  • checking package namespace information ... OK
  • checking package dependencies ... OK
  • checking if this is a source package ... OK
  • checking if there is a namespace ... OK
  • checking for executable files ... OK
  • checking for hidden files and directories ... OK
  • checking for portable file names ... OK
  • checking for sufficient/correct file permissions ... OK
  • checking whether package ‘tau’ can be installed ... [3s/3s] OK
  • checking installed package size ... OK
  • checking package directory ... OK
  • checking DESCRIPTION meta-information ... OK
  • checking top-level files ... OK
  • checking for left-over files ... OK
  • checking index information ... OK
  • checking package subdirectories ... OK
  • checking R files for non-ASCII characters ... OK
  • checking R files for syntax errors ... OK
  • checking whether the package can be loaded ... OK
  • checking whether the package can be loaded with stated dependencies ... OK
  • checking whether the package can be unloaded cleanly ... OK
  • checking whether the namespace can be loaded with stated dependencies ... OK
  • checking whether the namespace can be unloaded cleanly ... OK
  • checking loading without being on the library search path ... OK
  • checking dependencies in R code ... OK
  • checking S3 generic/method consistency ... OK
  • checking replacement functions ... OK
  • checking foreign function calls ... OK
  • checking R code for possible problems ... [2s/2s] OK
  • checking Rd files ... [0s/0s] OK
  • checking Rd metadata ... OK
  • checking Rd cross-references ... OK
  • checking for missing documentation entries ... OK
  • checking for code/documentation mismatches ... OK
  • checking Rd \usage sections ... OK
  • checking Rd contents ... OK
  • checking for unstated dependencies in examples ... OK
  • checking R/sysdata.rda ... OK
  • checking line endings in C/C++/Fortran sources/headers ... OK
  • checking compiled code ... OK
  • checking examples ... [1s/1s] OK
  • checking for unstated dependencies in ‘tests’ ... OK
  • checking tests ... [1s/1s] OK
      Running ‘counting.R’ [0s/0s]
      Comparing ‘counting.Rout’ to ‘counting.Rout.save’ ...26a27,28
    > counting ... 9 string(s) using 19 nodes [0.00s]
    > writing ... 16 strings [0.00s]
    47a50
    > counting ... 9 string(s) using 19 nodes [0.00s]
    49a53,54
    > counting ... 9 string(s) using 19 nodes [0.00s]
    > writing ... 16 strings [0.00s]
    70a76,77
    > counting ... 2 string(s) using 5 nodes [0.00s]
    > writing ... 2 strings [0.00s]
    77a85,86
    > counting ... 2 string(s) using 5 nodes [0.00s]
    > writing ... 4 strings [0.00s]
    86a96,97
    > counting ... 2 string(s) using 6 nodes [0.00s]
    > writing ... 5 strings [0.00s]
    96a108,109
    > counting ... 2 string(s) using 6 nodes [0.00s]
    > writing ... 5 strings [0.00s]
    106a120
    > counting ... 2 string(s) using 5 nodes [0.00s]
    108a123,124
    > counting ... 2 string(s) using 5 nodes [0.00s]
    > writing ... 2 strings [0.00s]
      Running ‘counting_useBytes.R’ [0s/0s]
      Comparing ‘counting_useBytes.Rout’ to ‘counting_useBytes.Rout.save’ ...32a33,34
    > counting ... 10 string(s) using 19 nodes [0.00s]
    > writing ... 19 strings [0.00s]
    56a59
    > counting ... 10 string(s) using 19 nodes [0.00s]
    58a62,63
    > counting ... 10 string(s) using 19 nodes [0.00s]
    > writing ... 19 strings [0.00s]
    82a88,89
    > counting ... 2 string(s) using 5 nodes [0.00s]
    > writing ... 2 strings [0.00s]
    89a97,98
    > counting ... 2 string(s) using 5 nodes [0.00s]
    > writing ... 5 strings [0.00s]
    99a109,110
    > counting ... 2 string(s) using 6 nodes [0.00s]
    > writing ... 6 strings [0.00s]
    110a122,123
    > counting ... 2 string(s) using 6 nodes [0.00s]
    > writing ... 6 strings [0.00s]
    121a135
    > counting ... 2 string(s) using 5 nodes [0.00s]
    123a138,139
    > counting ... 2 string(s) using 5 nodes [0.00s]
    > writing ... 2 strings [0.00s]
  • checking PDF version of manual ... OK
  • DONE
    Status: OK
  • using check arguments '--no-clean-on-error '