• using R version 4.3.0 beta (2023-04-08 r84203)
  • using platform: x86_64-apple-darwin20 (64-bit)
  • R was compiled by
        Apple clang version 14.0.3 (clang-1403.0.22.14.1)
        GNU Fortran (GCC) 12.2.0
  • running under: macOS Ventura 13.3
  • using session charset: UTF-8
  • checking for file ‘spup/DESCRIPTION’ ... OK
  • checking extension type ... Package
  • this is package ‘spup’ version ‘1.3-2’
  • package encoding: UTF-8
  • checking package namespace information ... OK
  • checking package dependencies ... OK
  • checking if this is a source package ... OK
  • checking if there is a namespace ... OK
  • checking for executable files ... OK
  • checking for hidden files and directories ... OK
  • checking for portable file names ... OK
  • checking for sufficient/correct file permissions ... OK
  • checking whether package ‘spup’ can be installed ... [17s/23s] OK
  • checking installed package size ... OK
  • checking package directory ... OK
  • checking ‘build’ directory ... OK
  • checking DESCRIPTION meta-information ... OK
  • checking top-level files ... OK
  • checking for left-over files ... OK
  • checking index information ... OK
  • checking package subdirectories ... OK
  • checking R files for non-ASCII characters ... OK
  • checking R files for syntax errors ... OK
  • checking whether the package can be loaded ... [5s/7s] OK
  • checking whether the package can be loaded with stated dependencies ... [5s/7s] OK
  • checking whether the package can be unloaded cleanly ... [5s/7s] OK
  • checking whether the namespace can be loaded with stated dependencies ... [5s/6s] OK
  • checking whether the namespace can be unloaded cleanly ... [5s/7s] OK
  • checking loading without being on the library search path ... [5s/7s] OK
  • checking dependencies in R code ... OK
  • checking S3 generic/method consistency ... OK
  • checking replacement functions ... OK
  • checking foreign function calls ... OK
  • checking R code for possible problems ... [13s/17s] OK
  • checking Rd files ... [0s/0s] OK
  • checking Rd metadata ... OK
  • checking Rd cross-references ... OK
  • checking for missing documentation entries ... OK
  • checking for code/documentation mismatches ... OK
  • checking Rd \usage sections ... OK
  • checking Rd contents ... OK
  • checking for unstated dependencies in examples ... OK
  • checking contents of ‘data’ directory ... OK
  • checking data for non-ASCII characters ... [5s/7s] OK
  • checking LazyData ... OK
  • checking data for ASCII and uncompressed saves ... OK
  • checking installed files from ‘inst/doc’ ... OK
  • checking files in ‘vignettes’ ... OK
  • checking examples ... [21s/30s] OK
  • checking for unstated dependencies in ‘tests’ ... OK
  • checking tests ... [45s/60s] OK
      Running ‘run_testthat.R’ [6s/7s]
      Running ‘test_defineMUM.R’ [5s/7s]
      Running ‘test_genSample_jointSPDF.R’ [6s/8s]
      Running ‘test_genSample_marginalRaster.R’ [6s/8s]
      Running ‘test_genSample_marginalSPDF.R’ [6s/7s]
      Running ‘test_makeCRM.R’ [5s/7s]
      Running ‘test_propagate_raster.R’ [6s/8s]
      Running ‘test_render.R’ [5s/7s]
  • checking for unstated dependencies in vignettes ... OK
  • checking package vignettes in ‘inst/doc’ ... OK
  • checking running R code from vignettes ... [1s/1s] NONE
      ‘CN_v2.Rmd’ using ‘UTF-8’... [0s/0s] OK
      ‘DEM_v3.Rmd’ using ‘UTF-8’... [0s/0s] OK
      ‘ExternalModel_v2.Rmd’ using ‘UTF-8’... [0s/0s] OK
      ‘Rotterdam.Rmd’ using ‘UTF-8’... [0s/0s] OK
  • checking re-building of vignette outputs ... [13s/18s] OK
  • checking PDF version of manual ... [4s/5s] OK
  • DONE
    Status: OK
  • using check arguments '--no-clean-on-error '