• using R version 4.3.0 (2023-04-21)
  • using platform: x86_64-apple-darwin20 (64-bit)
  • R was compiled by
        Apple clang version 14.0.3 (clang-1403.0.22.14.1)
        GNU Fortran (GCC) 12.2.0
  • running under: macOS Ventura 13.3.1
  • using session charset: UTF-8
  • checking for file ‘spatstat.geom/DESCRIPTION’ ... OK
  • this is package ‘spatstat.geom’ version ‘3.2-5’
  • checking package namespace information ... OK
  • checking package dependencies ... OK
  • checking if this is a source package ... OK
  • checking if there is a namespace ... OK
  • checking for executable files ... OK
  • checking for hidden files and directories ... OK
  • checking for portable file names ... OK
  • checking for sufficient/correct file permissions ... OK
  • checking whether package ‘spatstat.geom’ can be installed ... [36s/48s] OK
    See the install log for details.
  • used C compiler: ‘Apple clang version 14.0.3 (clang-1403.0.22.14.1)’
  • used SDK: ‘MacOSX11.3.sdk’
  • checking installed package size ... NOTE
      installed size is 5.5Mb
      sub-directories of 1Mb or more:
        R 2.0Mb
        help 2.1Mb
        libs 1.0Mb
  • checking package directory ... OK
  • checking DESCRIPTION meta-information ... OK
  • checking top-level files ... OK
  • checking for left-over files ... OK
  • checking index information ... OK
  • checking package subdirectories ... OK
  • checking R files for non-ASCII characters ... OK
  • checking R files for syntax errors ... OK
  • checking whether the package can be loaded ... [1s/1s] OK
  • checking whether the package can be loaded with stated dependencies ... [1s/2s] OK
  • checking whether the package can be unloaded cleanly ... [1s/2s] OK
  • checking whether the namespace can be loaded with stated dependencies ... [1s/2s] OK
  • checking whether the namespace can be unloaded cleanly ... [1s/2s] OK
  • checking loading without being on the library search path ... [1s/2s] OK
  • checking startup messages can be suppressed ... [1s/3s] OK
  • checking dependencies in R code ... OK
  • checking S3 generic/method consistency ... OK
  • checking replacement functions ... OK
  • checking foreign function calls ... OK
  • checking R code for possible problems ... [40s/66s] OK
  • checking Rd files ... [7s/13s] OK
  • checking Rd metadata ... OK
  • checking Rd cross-references ... OK
  • checking for missing documentation entries ... OK
  • checking for code/documentation mismatches ... OK
  • checking Rd \usage sections ... OK
  • checking Rd contents ... OK
  • checking for unstated dependencies in examples ... OK
  • checking line endings in C/C++/Fortran sources/headers ... OK
  • checking line endings in Makefiles ... OK
  • checking for GNU extensions in Makefiles ... OK
  • checking include directives in Makefiles ... OK
  • checking compiled code ... OK
  • checking installed files from ‘inst/doc’ ... OK
  • checking examples ... [18s/29s] OK
  • checking for unstated dependencies in ‘tests’ ... OK
  • checking tests ... [22s/36s] OK
      Running ‘testsAtoC.R’ [2s/4s]
      Running ‘testsD.R’ [2s/3s]
      Running ‘testsEtoF.R’ [1s/2s]
      Running ‘testsGtoJ.R’ [1s/2s]
      Running ‘testsK.R’ [1s/2s]
      Running ‘testsL.R’ [1s/2s]
      Running ‘testsM.R’ [1s/3s]
      Running ‘testsNtoO.R’ [2s/3s]
      Running ‘testsP1.R’ [1s/2s]
      Running ‘testsP2.R’ [1s/2s]
      Running ‘testsQ.R’ [1s/2s]
      Running ‘testsR.R’ [1s/2s]
      Running ‘testsS.R’ [2s/3s]
      Running ‘testsT.R’ [1s/2s]
      Running ‘testsUtoZ.R’ [1s/2s]
  • checking PDF version of manual ... [33s/49s] OK
  • DONE
    Status: 1 NOTE
  • using check arguments '--no-clean-on-error '