• using R Under development (unstable) (2025-01-24 r87627)
  • using platform: x86_64-apple-darwin20
  • R was compiled by     Apple clang version 14.0.0 (clang-1400.0.29.202)     GNU Fortran (GCC) 14.2.0
  • running under: macOS Ventura 13.3.1
  • using session charset: UTF-8
  • checking for file ‘qdap/DESCRIPTION’ ... OK
  • checking extension type ... Package
  • this is package ‘qdap’ version ‘2.4.6’
  • package encoding: UTF-8
  • checking package namespace information ... OK
  • checking package dependencies ... OK
  • checking if this is a source package ... OK
  • checking if there is a namespace ... OK
  • checking for executable files ... OK
  • checking for hidden files and directories ... OK
  • checking for portable file names ... OK
  • checking for sufficient/correct file permissions ... OK
  • checking whether package ‘qdap’ can be installed ... [22s/34s] OK See the install log for details.
  • checking installed package size ... OK
  • checking package directory ... OK
  • checking DESCRIPTION meta-information ... OK
  • checking top-level files ... OK
  • checking for left-over files ... OK
  • checking index information ... OK
  • checking package subdirectories ... OK
  • checking code files for non-ASCII characters ... OK
  • checking R files for syntax errors ... OK
  • checking whether the package can be loaded ... [2s/3s] OK
  • checking whether the package can be loaded with stated dependencies ... [2s/2s] OK
  • checking whether the package can be unloaded cleanly ... [2s/2s] OK
  • checking whether the namespace can be loaded with stated dependencies ... [2s/2s] OK
  • checking whether the namespace can be unloaded cleanly ... [2s/2s] OK
  • checking loading without being on the library search path ... [2s/3s] OK
  • checking dependencies in R code ... OK
  • checking S3 generic/method consistency ... OK
  • checking replacement functions ... OK
  • checking foreign function calls ... OK
  • checking R code for possible problems ... [31s/49s] OK
  • checking Rd files ... [2s/3s] NOTE checkRd: (-1) check_text.Rd:19: Lost braces in \itemize; \value handles \item{}{} directly checkRd: (-1) check_text.Rd:20: Lost braces in \itemize; \value handles \item{}{} directly checkRd: (-1) check_text.Rd:21: Lost braces in \itemize; \value handles \item{}{} directly checkRd: (-1) check_text.Rd:22: Lost braces in \itemize; \value handles \item{}{} directly checkRd: (-1) check_text.Rd:23: Lost braces in \itemize; \value handles \item{}{} directly checkRd: (-1) check_text.Rd:24: Lost braces in \itemize; \value handles \item{}{} directly checkRd: (-1) check_text.Rd:25: Lost braces in \itemize; \value handles \item{}{} directly checkRd: (-1) check_text.Rd:26: Lost braces in \itemize; \value handles \item{}{} directly checkRd: (-1) check_text.Rd:27: Lost braces in \itemize; \value handles \item{}{} directly checkRd: (-1) check_text.Rd:28: Lost braces in \itemize; \value handles \item{}{} directly checkRd: (-1) check_text.Rd:29: Lost braces in \itemize; \value handles \item{}{} directly checkRd: (-1) check_text.Rd:30: Lost braces in \itemize; \value handles \item{}{} directly checkRd: (-1) new_project.Rd:30-34: Lost braces in \itemize; meant \describe ? checkRd: (-1) new_project.Rd:32: Lost braces in \itemize; meant \describe ? checkRd: (-1) new_project.Rd:35-39: Lost braces in \itemize; meant \describe ? checkRd: (-1) new_project.Rd:37: Lost braces in \itemize; meant \describe ? checkRd: (-1) new_project.Rd:40: Lost braces in \itemize; meant \describe ? checkRd: (-1) new_project.Rd:42: Lost braces in \itemize; meant \describe ? checkRd: (-1) new_project.Rd:43: Lost braces in \itemize; meant \describe ? checkRd: (-1) new_project.Rd:44: Lost braces in \itemize; meant \describe ? checkRd: (-1) new_project.Rd:45-54: Lost braces in \itemize; meant \describe ? checkRd: (-1) new_project.Rd:47: Lost braces in \itemize; meant \describe ? checkRd: (-1) new_project.Rd:48: Lost braces in \itemize; meant \describe ? checkRd: (-1) new_project.Rd:49: Lost braces in \itemize; meant \describe ? checkRd: (-1) new_project.Rd:50: Lost braces in \itemize; meant \describe ? checkRd: (-1) new_project.Rd:51: Lost braces in \itemize; meant \describe ? checkRd: (-1) new_project.Rd:52: Lost braces in \itemize; meant \describe ? checkRd: (-1) new_project.Rd:55-60: Lost braces in \itemize; meant \describe ? checkRd: (-1) new_project.Rd:57: Lost braces in \itemize; meant \describe ? checkRd: (-1) new_project.Rd:58: Lost braces in \itemize; meant \describe ? checkRd: (-1) new_project.Rd:62: Lost braces in \itemize; meant \describe ? checkRd: (-1) new_project.Rd:63: Lost braces in \itemize; meant \describe ? checkRd: (-1) new_project.Rd:64: Lost braces in \itemize; meant \describe ? checkRd: (-1) new_project.Rd:65-71: Lost braces in \itemize; meant \describe ? checkRd: (-1) new_project.Rd:67: Lost braces in \itemize; meant \describe ? checkRd: (-1) new_project.Rd:68: Lost braces in \itemize; meant \describe ? checkRd: (-1) new_project.Rd:69: Lost braces in \itemize; meant \describe ? checkRd: (-1) new_project.Rd:72: Lost braces in \itemize; meant \describe ? checkRd: (-1) new_project.Rd:73: Lost braces in \itemize; meant \describe ? checkRd: (-1) new_project.Rd:74-79: Lost braces in \itemize; meant \describe ? checkRd: (-1) new_project.Rd:76: Lost braces in \itemize; meant \describe ? checkRd: (-1) new_project.Rd:77: Lost braces in \itemize; meant \describe ? checkRd: (-1) new_project.Rd:80: Lost braces in \itemize; meant \describe ? checkRd: (-1) new_project.Rd:81: Lost braces in \itemize; meant \describe ? checkRd: (-1) new_project.Rd:82: Lost braces in \itemize; meant \describe ? checkRd: (-1) new_project.Rd:83: Lost braces in \itemize; meant \describe ? checkRd: (-1) plot.lexical.Rd:24: Lost braces     24 | \item{random.order}{logical. If code{TRUE} plot words in random order. If \code{FALSE}, they will be plotted in decreasing frequency.}        | ^ checkRd: (-1) trans_venn.Rd:81: Lost braces     81 | \{code{\link[qdap]{Dissimilarity}} measures labeling the edges between nodes        | ^ checkRd: (-1) word_stats.Rd:54: Lost braces in \itemize; \value handles \item{}{} directly checkRd: (-1) word_stats.Rd:55: Lost braces in \itemize; \value handles \item{}{} directly checkRd: (-1) word_stats.Rd:56: Lost braces in \itemize; \value handles \item{}{} directly checkRd: (-1) word_stats.Rd:57: Lost braces in \itemize; \value handles \item{}{} directly checkRd: (-1) word_stats.Rd:58: Lost braces in \itemize; \value handles \item{}{} directly checkRd: (-1) word_stats.Rd:59: Lost braces in \itemize; \value handles \item{}{} directly checkRd: (-1) word_stats.Rd:60: Lost braces in \itemize; \value handles \item{}{} directly checkRd: (-1) word_stats.Rd:61: Lost braces in \itemize; \value handles \item{}{} directly checkRd: (-1) word_stats.Rd:62: Lost braces in \itemize; \value handles \item{}{} directly checkRd: (-1) word_stats.Rd:63: Lost braces in \itemize; \value handles \item{}{} directly checkRd: (-1) word_stats.Rd:64: Lost braces in \itemize; \value handles \item{}{} directly checkRd: (-1) word_stats.Rd:65: Lost braces in \itemize; \value handles \item{}{} directly checkRd: (-1) word_stats.Rd:66: Lost braces in \itemize; \value handles \item{}{} directly checkRd: (-1) word_stats.Rd:67: Lost braces in \itemize; \value handles \item{}{} directly checkRd: (-1) word_stats.Rd:68: Lost braces in \itemize; \value handles \item{}{} directly checkRd: (-1) word_stats.Rd:69: Lost braces in \itemize; \value handles \item{}{} directly checkRd: (-1) word_stats.Rd:70: Lost braces in \itemize; \value handles \item{}{} directly checkRd: (-1) word_stats.Rd:71: Lost braces in \itemize; \value handles \item{}{} directly checkRd: (-1) word_stats.Rd:72: Lost braces in \itemize; \value handles \item{}{} directly checkRd: (-1) word_stats.Rd:73: Lost braces in \itemize; \value handles \item{}{} directly checkRd: (-1) word_stats.Rd:74: Lost braces in \itemize; \value handles \item{}{} directly checkRd: (-1) word_stats.Rd:75: Lost braces in \itemize; \value handles \item{}{} directly checkRd: (-1) word_stats.Rd:76: Lost braces in \itemize; \value handles \item{}{} directly checkRd: (-1) word_stats.Rd:77: Lost braces in \itemize; \value handles \item{}{} directly checkRd: (-1) word_stats.Rd:78: Lost braces in \itemize; \value handles \item{}{} directly checkRd: (-1) word_stats.Rd:79: Lost braces in \itemize; \value handles \item{}{} directly
  • checking Rd metadata ... OK
  • checking Rd cross-references ... OK
  • checking for missing documentation entries ... OK
  • checking for code/documentation mismatches ... OK
  • checking Rd \usage sections ... OK
  • checking Rd contents ... OK
  • checking for unstated dependencies in examples ... OK
  • checking contents of ‘data’ directory ... OK
  • checking data for non-ASCII characters ... [1s/1s] OK
  • checking LazyData ... OK
  • checking data for ASCII and uncompressed saves ... OK
  • checking examples ... [3s/5s] OK
  • checking for unstated dependencies in ‘tests’ ... OK
  • checking tests ... [15s/19s] OK   Running ‘testthat.R’ [15s/18s]
  • checking PDF version of manual ... [17s/27s] OK
  • DONE Status: 1 NOTE
  • using check arguments '--no-clean-on-error '