• using R version 4.2.0 beta (2022-04-07 r82126)
  • using platform: x86_64-apple-darwin17.0 (64-bit)
  • using session charset: UTF-8
  • checking for file ‘psgp/DESCRIPTION’ ... OK
  • this is package ‘psgp’ version ‘0.3-19’
  • checking package namespace information ... OK
  • checking package dependencies ... OK
  • checking if this is a source package ... OK
  • checking if there is a namespace ... OK
  • checking for executable files ... OK
  • checking for hidden files and directories ... OK
  • checking for portable file names ... OK
  • checking for sufficient/correct file permissions ... OK
  • checking whether package ‘psgp’ can be installed ... [123s/133s] OK
  • checking installed package size ... NOTE
      installed size is 7.7Mb
      sub-directories of 1Mb or more:
        libs 7.6Mb
  • checking package directory ... OK
  • checking DESCRIPTION meta-information ... OK
  • checking top-level files ... OK
  • checking for left-over files ... OK
  • checking index information ... OK
  • checking package subdirectories ... OK
  • checking R files for non-ASCII characters ... OK
  • checking R files for syntax errors ... OK
  • checking whether the package can be loaded ... OK
  • checking whether the package can be loaded with stated dependencies ... OK
  • checking whether the package can be unloaded cleanly ... OK
  • checking whether the namespace can be loaded with stated dependencies ... OK
  • checking whether the namespace can be unloaded cleanly ... OK
  • checking loading without being on the library search path ... OK
  • checking dependencies in R code ... OK
  • checking S3 generic/method consistency ... OK
  • checking replacement functions ... OK
  • checking foreign function calls ... OK
  • checking R code for possible problems ... [6s/6s] OK
  • checking Rd files ... [1s/1s] OK
  • checking Rd metadata ... OK
  • checking Rd cross-references ... OK
  • checking for missing documentation entries ... OK
  • checking for code/documentation mismatches ... OK
  • checking Rd \usage sections ... OK
  • checking Rd contents ... OK
  • checking for unstated dependencies in examples ... OK
  • checking line endings in C/C++/Fortran sources/headers ... OK
  • checking line endings in Makefiles ... OK
  • checking compilation flags in Makevars ... OK
  • checking for GNU extensions in Makefiles ... OK
  • checking for portable use of $(BLAS_LIBS) and $(LAPACK_LIBS) ... OK
  • checking use of PKG_*FLAGS in Makefiles ... OK
  • checking compiled code ... OK
  • checking examples ... [4s/6s] OK
  • checking for unstated dependencies in ‘tests’ ... OK
  • checking tests ... [7s/11s] OK
      Running ‘meuse_psgp.R’ [3s/5s]
      Comparing ‘meuse_psgp.Rout’ to ‘meuse_psgp.Rout.save’ ...12,14d11
    < Warning message:
    < In showSRID(uprojargs, format = "PROJ", multiline = "NO", prefer_proj = prefer_proj) :
    < Discarded datum Amersfoort in Proj4 definition
    24,38d20
    < Warning messages:
    < 1: In proj4string(observations) :
    < CRS object has comment, which is lost in output; in tests, see
    < https://cran.r-project.org/web/packages/sp/vignettes/CRS_warnings.html
    < 2: In proj4string(observations) :
    < CRS object has comment, which is lost in output; in tests, see
    < https://cran.r-project.org/web/packages/sp/vignettes/CRS_warnings.html
    < 3: In showSRID(uprojargs, format = "PROJ", multiline = "NO", prefer_proj = prefer_proj) :
    < Discarded datum Unknown based on Bessel 1841 ellipsoid in Proj4 definition
    < 4: In proj4string(predictionLocations) :
    < CRS object has comment, which is lost in output; in tests, see
    < https://cran.r-project.org/web/packages/sp/vignettes/CRS_warnings.html
    < 5: In proj4string(predictionLocations) :
    < CRS object has comment, which is lost in output; in tests, see
    < https://cran.r-project.org/web/packages/sp/vignettes/CRS_warnings.html
    731,734d712
    < Warning message:
    < In proj4string(object$predictionLocations) :
    < CRS object has comment, which is lost in output; in tests, see
    < https://cran.r-project.org/web/packages/sp/vignettes/CRS_warnings.html
      Running ‘psgp.R’ [3s/6s]
      Comparing ‘psgp.Rout’ to ‘psgp.Rout.save’ ... OK
  • checking PDF version of manual ... OK
  • DONE
    Status: 1 NOTE
  • using check arguments '--no-clean-on-error '