• using R version 4.5.0 beta (2025-03-29 r88074)
  • using platform: x86_64-apple-darwin20
  • R was compiled by     Apple clang version 14.0.0 (clang-1400.0.29.202)     GNU Fortran (GCC) 14.2.0
  • running under: macOS Ventura 13.3.1
  • using session charset: UTF-8
  • checking for file ‘polySegratio/DESCRIPTION’ ... OK
  • checking extension type ... Package
  • this is package ‘polySegratio’ version ‘0.2-5’
  • checking package namespace information ... OK
  • checking package dependencies ... OK
  • checking if this is a source package ... OK
  • checking if there is a namespace ... OK
  • checking for executable files ... OK
  • checking for hidden files and directories ... OK
  • checking for portable file names ... OK
  • checking for sufficient/correct file permissions ... OK
  • checking whether package ‘polySegratio’ can be installed ... [2s/2s] OK See the install log for details.
  • checking installed package size ... OK
  • checking package directory ... OK
  • checking ‘build’ directory ... OK
  • checking DESCRIPTION meta-information ... OK
  • checking top-level files ... OK
  • checking for left-over files ... OK
  • checking index information ... OK
  • checking package subdirectories ... OK
  • checking code files for non-ASCII characters ... OK
  • checking R files for syntax errors ... OK
  • checking whether the package can be loaded ... [0s/0s] OK
  • checking whether the package can be loaded with stated dependencies ... [0s/0s] OK
  • checking whether the package can be unloaded cleanly ... [0s/0s] OK
  • checking whether the namespace can be loaded with stated dependencies ... [0s/0s] OK
  • checking whether the namespace can be unloaded cleanly ... [0s/0s] OK
  • checking loading without being on the library search path ... [0s/0s] OK
  • checking dependencies in R code ... OK
  • checking S3 generic/method consistency ... OK
  • checking replacement functions ... OK
  • checking foreign function calls ... OK
  • checking R code for possible problems ... [2s/3s] OK
  • checking Rd files ... [0s/0s] NOTE checkRd: (-1) addMisclass.Rd:37: Lost braces in \itemize; \value handles \item{}{} directly checkRd: (-1) addMisclass.Rd:38: Lost braces in \itemize; \value handles \item{}{} directly checkRd: (-1) addMisclass.Rd:39: Lost braces in \itemize; \value handles \item{}{} directly checkRd: (-1) addMisclass.Rd:40: Lost braces in \itemize; \value handles \item{}{} directly checkRd: (-1) addMisclass.Rd:41: Lost braces in \itemize; \value handles \item{}{} directly checkRd: (-1) addMisclass.Rd:42: Lost braces in \itemize; \value handles \item{}{} directly checkRd: (-1) addMisclass.Rd:43: Lost braces in \itemize; \value handles \item{}{} directly checkRd: (-1) divide.autoMarkers.Rd:33-34: Lost braces in \itemize; \value handles \item{}{} directly checkRd: (-1) divide.autoMarkers.Rd:35: Lost braces in \itemize; \value handles \item{}{} directly checkRd: (-1) divide.autoMarkers.Rd:36-37: Lost braces in \itemize; \value handles \item{}{} directly checkRd: (-1) divide.autoMarkers.Rd:38: Lost braces in \itemize; \value handles \item{}{} directly checkRd: (-1) divide.autoMarkers.Rd:39: Lost braces in \itemize; \value handles \item{}{} directly checkRd: (-1) divideAutoMarkers.Rd:13: Lost braces in \itemize; \value handles \item{}{} directly checkRd: (-1) divideAutoMarkers.Rd:14: Lost braces in \itemize; \value handles \item{}{} directly checkRd: (-1) divideAutoMarkers.Rd:15-16: Lost braces in \itemize; \value handles \item{}{} directly checkRd: (-1) divideAutoMarkers.Rd:17: Lost braces in \itemize; \value handles \item{}{} directly checkRd: (-1) divideAutoMarkers.Rd:18: Lost braces in \itemize; \value handles \item{}{} directly checkRd: (-1) expected.segRatio.Rd:33-34: Lost braces in \itemize; meant \describe ? checkRd: (-1) expected.segRatio.Rd:35-36: Lost braces in \itemize; meant \describe ? checkRd: (-1) plot.segRatio.Rd:34: Lost braces in \itemize; meant \describe ? checkRd: (-1) plot.segRatio.Rd:35: Lost braces in \itemize; meant \describe ? checkRd: (-1) plot.segRatio.Rd:36-37: Lost braces in \itemize; meant \describe ? checkRd: (-1) plot.segRatio.Rd:38: Lost braces in \itemize; meant \describe ? checkRd: (-1) polySegratio-package.Rd:42-43: Lost braces in \itemize; meant \describe ? checkRd: (-1) polySegratio-package.Rd:44-45: Lost braces in \itemize; meant \describe ? checkRd: (-1) sim.autoMarkers.Rd:56: Lost braces in \itemize; \value handles \item{}{} directly checkRd: (-1) sim.autoMarkers.Rd:57: Lost braces in \itemize; \value handles \item{}{} directly checkRd: (-1) sim.autoMarkers.Rd:58: Lost braces in \itemize; \value handles \item{}{} directly checkRd: (-1) sim.autoMarkers.Rd:67: Lost braces in \itemize; \value handles \item{}{} directly checkRd: (-1) sim.autoMarkers.Rd:68: Lost braces in \itemize; \value handles \item{}{} directly checkRd: (-1) sim.autoMarkers.Rd:69-70: Lost braces in \itemize; \value handles \item{}{} directly checkRd: (-1) simAutoCross.Rd:31: Lost braces     31 | with components sQuote{p01}, \sQuote{p10} and \sQuote{p11}}        | ^ checkRd: (-1) simAutoMarkers.Rd:27: Lost braces in \itemize; \value handles \item{}{} directly checkRd: (-1) simAutoMarkers.Rd:28: Lost braces in \itemize; \value handles \item{}{} directly checkRd: (-1) simAutoMarkers.Rd:29-30: Lost braces in \itemize; \value handles \item{}{} directly checkRd: (-1) test.segRatio.Rd:44-45: Lost braces in \itemize; meant \describe ? checkRd: (-1) test.segRatio.Rd:46-47: Lost braces in \itemize; meant \describe ? checkRd: (-1) testSegRatio.Rd:23-24: Lost braces in \itemize; meant \describe ? checkRd: (-1) testSegRatio.Rd:25-26: Lost braces in \itemize; meant \describe ?
  • checking Rd metadata ... OK
  • checking Rd cross-references ... OK
  • checking for missing documentation entries ... OK
  • checking for code/documentation mismatches ... OK
  • checking Rd \usage sections ... OK
  • checking Rd contents ... OK
  • checking for unstated dependencies in examples ... OK
  • checking sizes of PDF files under ‘inst/doc’ ... OK
  • checking installed files from ‘inst/doc’ ... OK
  • checking files in ‘vignettes’ ... OK
  • checking examples ... [1s/2s] OK
  • checking for unstated dependencies in vignettes ... OK
  • checking package vignettes ... OK
  • checking re-building of vignette outputs ... [14s/25s] OK
  • checking PDF version of manual ... [8s/12s] OK
  • DONE Status: 1 NOTE
  • using check arguments '--no-clean-on-error '