• using R version 4.2.0 (2022-04-22)
  • using platform: x86_64-apple-darwin17.0 (64-bit)
  • using session charset: UTF-8
  • checking for file ‘partykit/DESCRIPTION’ ... OK
  • this is package ‘partykit’ version ‘1.2-16’
  • checking package namespace information ... OK
  • checking package dependencies ... OK
  • checking if this is a source package ... OK
  • checking if there is a namespace ... OK
  • checking for executable files ... OK
  • checking for hidden files and directories ... OK
  • checking for portable file names ... OK
  • checking for sufficient/correct file permissions ... OK
  • checking whether package ‘partykit’ can be installed ... [9s/10s] OK
  • checking installed package size ... OK
  • checking package directory ... OK
  • checking ‘build’ directory ... OK
  • checking DESCRIPTION meta-information ... OK
  • checking top-level files ... OK
  • checking for left-over files ... OK
  • checking index information ... OK
  • checking package subdirectories ... OK
  • checking R files for non-ASCII characters ... OK
  • checking R files for syntax errors ... OK
  • checking whether the package can be loaded ... OK
  • checking whether the package can be loaded with stated dependencies ... OK
  • checking whether the package can be unloaded cleanly ... OK
  • checking whether the namespace can be loaded with stated dependencies ... OK
  • checking whether the namespace can be unloaded cleanly ... OK
  • checking loading without being on the library search path ... OK
  • checking dependencies in R code ... OK
  • checking S3 generic/method consistency ... OK
  • checking replacement functions ... OK
  • checking foreign function calls ... OK
  • checking R code for possible problems ... [11s/11s] OK
  • checking Rd files ... [1s/1s] OK
  • checking Rd metadata ... OK
  • checking Rd cross-references ... OK
  • checking for missing documentation entries ... OK
  • checking for code/documentation mismatches ... OK
  • checking Rd \usage sections ... OK
  • checking Rd contents ... OK
  • checking for unstated dependencies in examples ... OK
  • checking contents of ‘data’ directory ... OK
  • checking data for non-ASCII characters ... OK
  • checking LazyData ... OK
  • checking data for ASCII and uncompressed saves ... OK
  • checking line endings in shell scripts ... OK
  • checking line endings in C/C++/Fortran sources/headers ... OK
  • checking line endings in Makefiles ... OK
  • checking for GNU extensions in Makefiles ... OK
  • checking include directives in Makefiles ... OK
  • checking compiled code ... OK
  • checking sizes of PDF files under ‘inst/doc’ ... OK
  • checking installed files from ‘inst/doc’ ... OK
  • checking files in ‘vignettes’ ... OK
  • checking examples ... [11s/11s] OK
  • checking differences from ‘partykit-Ex.Rout’ to ‘partykit-Ex.Rout.save’ ... OK
  • checking for unstated dependencies in ‘tests’ ... OK
  • checking tests ... [58s/56s] OK
      Running ‘bugfixes.R’ [3s/3s]
      Comparing ‘bugfixes.Rout’ to ‘bugfixes.Rout.save’ ... OK
      Running ‘constparty.R’ [3s/3s]
      Comparing ‘constparty.Rout’ to ‘constparty.Rout.save’ ... OK
      Running ‘regtest-MIA.R’ [1s/1s]
      Comparing ‘regtest-MIA.Rout’ to ‘regtest-MIA.Rout.save’ ... OK
      Running ‘regtest-cforest.R’ [7s/6s]
      Comparing ‘regtest-cforest.Rout’ to ‘regtest-cforest.Rout.save’ ... OK
      Running ‘regtest-ctree.R’ [1s/1s]
      Comparing ‘regtest-ctree.Rout’ to ‘regtest-ctree.Rout.save’ ... OK
      Running ‘regtest-glmtree.R’ [27s/27s]
      Comparing ‘regtest-glmtree.Rout’ to ‘regtest-glmtree.Rout.save’ ... OK
      Running ‘regtest-honesty.R’ [1s/1s]
      Running ‘regtest-lmtree.R’ [2s/2s]
      Running ‘regtest-nmax.R’ [1s/1s]
      Comparing ‘regtest-nmax.Rout’ to ‘regtest-nmax.Rout.save’ ... OK
      Running ‘regtest-node.R’ [1s/1s]
      Comparing ‘regtest-node.Rout’ to ‘regtest-node.Rout.save’ ... OK
      Running ‘regtest-party-random.R’ [2s/2s]
      Running ‘regtest-party.R’ [4s/3s]
      Comparing ‘regtest-party.Rout’ to ‘regtest-party.Rout.save’ ... OK
      Running ‘regtest-split.R’ [1s/1s]
      Comparing ‘regtest-split.Rout’ to ‘regtest-split.Rout.save’ ... OK
      Running ‘regtest-weights.R’ [1s/1s]
      Comparing ‘regtest-weights.Rout’ to ‘regtest-weights.Rout.save’ ... OK
  • checking for unstated dependencies in vignettes ... OK
  • checking package vignettes in ‘inst/doc’ ... OK
  • checking running R code from vignettes ... [20s/19s] OK
      ‘constparty.Rnw’... [5s/5s] OK
      ‘ctree.Rnw’ using ‘UTF-8’... [5s/5s] OK
      ‘mob.Rnw’... [7s/7s] OK
      ‘partykit.Rnw’... [2s/2s] OK
  • checking re-building of vignette outputs ... [37s/37s] OK
  • checking PDF version of manual ... OK
  • DONE
    Status: OK
  • using check arguments '--no-clean-on-error '