• using R version 4.3.0 (2023-04-21)
  • using platform: x86_64-apple-darwin20 (64-bit)
  • R was compiled by
        Apple clang version 14.0.3 (clang-1403.0.22.14.1)
        GNU Fortran (GCC) 12.2.0
  • running under: macOS Ventura 13.3.1
  • using session charset: UTF-8
  • checking for file ‘nlraa/DESCRIPTION’ ... OK
  • this is package ‘nlraa’ version ‘1.9.3’
  • package encoding: UTF-8
  • checking package namespace information ... OK
  • checking package dependencies ... OK
  • checking if this is a source package ... OK
  • checking if there is a namespace ... OK
  • checking for executable files ... OK
  • checking for hidden files and directories ... OK
  • checking for portable file names ... OK
  • checking for sufficient/correct file permissions ... OK
  • checking whether package ‘nlraa’ can be installed ... [12s/27s] OK
    See the install log for details.
  • checking installed package size ... OK
  • checking package directory ... OK
  • checking ‘build’ directory ... OK
  • checking DESCRIPTION meta-information ... OK
  • checking top-level files ... OK
  • checking for left-over files ... OK
  • checking index information ... OK
  • checking package subdirectories ... OK
  • checking R files for non-ASCII characters ... OK
  • checking R files for syntax errors ... OK
  • checking whether the package can be loaded ... [1s/2s] OK
  • checking whether the package can be loaded with stated dependencies ... [1s/2s] OK
  • checking whether the package can be unloaded cleanly ... [1s/2s] OK
  • checking whether the namespace can be loaded with stated dependencies ... [1s/1s] OK
  • checking whether the namespace can be unloaded cleanly ... [1s/2s] OK
  • checking loading without being on the library search path ... [1s/3s] OK
  • checking dependencies in R code ... OK
  • checking S3 generic/method consistency ... OK
  • checking replacement functions ... OK
  • checking foreign function calls ... OK
  • checking R code for possible problems ... [14s/31s] OK
  • checking Rd files ... [1s/1s] OK
  • checking Rd metadata ... OK
  • checking Rd cross-references ... OK
  • checking for missing documentation entries ... OK
  • checking for code/documentation mismatches ... OK
  • checking Rd \usage sections ... OK
  • checking Rd contents ... OK
  • checking for unstated dependencies in examples ... OK
  • checking contents of ‘data’ directory ... OK
  • checking data for non-ASCII characters ... [1s/2s] OK
  • checking LazyData ... OK
  • checking data for ASCII and uncompressed saves ... OK
  • checking installed files from ‘inst/doc’ ... OK
  • checking files in ‘vignettes’ ... OK
  • checking examples ... [2s/3s] OK
  • checking for unstated dependencies in ‘tests’ ... OK
  • checking tests ... [32s/71s] OK
      Running ‘test_CV_response.R’ [0s/1s]
      Running ‘test_boot_nlme.R’ [1s/3s]
      Running ‘test_environments.R’ [0s/0s]
      Running ‘test_nlsLMList.R’ [3s/6s]
      Running ‘test_predict_gam.R’ [2s/5s]
      Running ‘test_predict_nlme.R’ [2s/5s]
      Running ‘test_predict_nls.R’ [2s/5s]
      Running ‘test_predict_summary_simulate.R’ [2s/4s]
      Running ‘test_predict_varFunc.R’ [2s/4s]
      Running ‘test_sim_boot_lfmc.R’ [2s/4s]
      Running ‘test_simulate_gam.R’ [2s/4s]
      Running ‘test_simulate_gls.R’ [2s/2s]
      Running ‘test_simulate_gnls.R’ [2s/3s]
      Running ‘test_simulate_lm.R’ [2s/4s]
      Running ‘test_simulate_lme.R’ [2s/5s]
      Running ‘test_simulate_nlme.R’ [2s/5s]
      Running ‘test_var_cov.R’ [1s/3s]
      Running ‘tests_SSall.R’ [3s/8s]
      Running ‘tests_SSother.R’ [0s/1s]
  • checking for unstated dependencies in vignettes ... OK
  • checking package vignettes in ‘inst/doc’ ... OK
  • checking running R code from vignettes ... [2s/3s] NONE
      ‘Bootstrapping.Rmd’ using ‘UTF-8’... [0s/1s] OK
      ‘Confidence-Bands.Rmd’ using ‘UTF-8’... [0s/1s] OK
      ‘Models-and-Functions.Rmd’ using ‘UTF-8’... [0s/1s] OK
      ‘nlraa-AgronJ-paper.Rmd’ using ‘UTF-8’... [0s/1s] OK
      ‘nlraa.Rmd’ using ‘UTF-8’... [0s/1s] OK
  • checking re-building of vignette outputs ... [133s/288s] OK
  • checking PDF version of manual ... [7s/15s] OK
  • DONE
    Status: OK
  • using check arguments '--no-clean-on-error '