• using R version 4.2.0 beta (2022-04-07 r82126)
  • using platform: x86_64-apple-darwin17.0 (64-bit)
  • using session charset: UTF-8
  • checking for file ‘model4you/DESCRIPTION’ ... OK
  • this is package ‘model4you’ version ‘0.9-7’
  • package encoding: UTF-8
  • checking package namespace information ... OK
  • checking package dependencies ... OK
  • checking if this is a source package ... OK
  • checking if there is a namespace ... OK
  • checking for executable files ... OK
  • checking for hidden files and directories ... OK
  • checking for portable file names ... OK
  • checking for sufficient/correct file permissions ... OK
  • checking whether package ‘model4you’ can be installed ... [9s/10s] OK
  • checking installed package size ... OK
  • checking package directory ... OK
  • checking DESCRIPTION meta-information ... OK
  • checking top-level files ... OK
  • checking for left-over files ... OK
  • checking index information ... OK
  • checking package subdirectories ... OK
  • checking R files for non-ASCII characters ... OK
  • checking R files for syntax errors ... OK
  • checking whether the package can be loaded ... OK
  • checking whether the package can be loaded with stated dependencies ... OK
  • checking whether the package can be unloaded cleanly ... OK
  • checking whether the namespace can be loaded with stated dependencies ... OK
  • checking whether the namespace can be unloaded cleanly ... OK
  • checking loading without being on the library search path ... OK
  • checking dependencies in R code ... OK
  • checking S3 generic/method consistency ... OK
  • checking replacement functions ... OK
  • checking foreign function calls ... OK
  • checking R code for possible problems ... [7s/10s] OK
  • checking Rd files ... [1s/1s] OK
  • checking Rd metadata ... OK
  • checking Rd cross-references ... OK
  • checking for missing documentation entries ... OK
  • checking for code/documentation mismatches ... OK
  • checking Rd \usage sections ... OK
  • checking Rd contents ... OK
  • checking for unstated dependencies in examples ... OK
  • checking line endings in shell scripts ... OK
  • checking line endings in Makefiles ... OK
  • checking for GNU extensions in Makefiles ... OK
  • checking include directives in Makefiles ... OK
  • checking examples ... [17s/21s] OK
  • checking for unstated dependencies in ‘tests’ ... OK
  • checking tests ... [43s/47s] OK
      Running ‘test-pmodel-test.R’ [13s/14s]
      Running ‘test-pmodel.R’ [19s/21s]
      Comparing ‘test-pmodel.Rout’ to ‘test-pmodel.Rout.save’ ... OK
      Running ‘test-pmtree.R’ [11s/12s]
      Comparing ‘test-pmtree.Rout’ to ‘test-pmtree.Rout.save’ ...350c350
    < | | [3] tests <= 57.69231: n = 122
    ---
    > | | [3] tests <= 57.69231: n = 124
    352,353c352,353
    < | | 41.514042 -5.399309
    < | | [4] tests > 57.69231: n = 422
    ---
    > | | 42.603550 -6.488818
    > | | [4] tests > 57.69231: n = 420
    355c355
    < | | 55.273592 -2.034726
    ---
    > | | 54.967949 -1.729082
    357c357
    < | | [6] tests <= 92.30769: n = 98
    ---
    > | | [6] tests <= 92.30769: n = 97
    359,360c359,360
    < | | 65.290807 -1.593101
    < | | [7] tests > 92.30769: n = 87
    ---
    > | | 66.730769 -3.033063
    > | | [7] tests > 92.30769: n = 88
    362c362
    < | | 89.52991 -12.45601
    ---
    > | | 87.73389 -10.65998
    367c367
    < Objective function: -279321
    ---
    > Objective function: -282919.6
    408c408
    < 170701.1
    ---
    > 184270
    420c420
    < 234737.534 69050.999 11758.219 1055.642 2806.542
    ---
    > 247262.1814 67543.0073 18595.5202 3297.5797 959.4839
  • checking PDF version of manual ... OK
  • DONE
    Status: OK
  • using check arguments '--no-clean-on-error '