• using R version 4.3.0 beta (2023-04-07 r84200)
  • using platform: x86_64-apple-darwin20 (64-bit)
  • R was compiled by
        Apple clang version 14.0.3 (clang-1403.0.22.14.1)
        GNU Fortran (GCC) 12.2.0
  • running under: macOS Ventura 13.3
  • using session charset: UTF-8
  • checking for file ‘lattice/DESCRIPTION’ ... OK
  • this is package ‘lattice’ version ‘0.21-8’
  • checking package namespace information ... OK
  • checking package dependencies ... OK
  • checking if this is a source package ... OK
  • checking if there is a namespace ... OK
  • checking for executable files ... OK
  • checking for hidden files and directories ... OK
  • checking for portable file names ... OK
  • checking for sufficient/correct file permissions ... OK
  • checking whether package ‘lattice’ can be installed ... [11s/21s] OK
  • used C compiler: ‘Apple clang version 14.0.3 (clang-1403.0.22.14.1)’
  • used SDK: ‘MacOSX11.3.sdk’
  • checking installed package size ... OK
  • checking package directory ... OK
  • checking ‘build’ directory ... OK
  • checking DESCRIPTION meta-information ... OK
  • checking top-level files ... OK
  • checking for left-over files ... OK
  • checking index information ... OK
  • checking package subdirectories ... OK
  • checking R files for non-ASCII characters ... OK
  • checking R files for syntax errors ... OK
  • checking whether the package can be loaded ... [0s/0s] OK
  • checking whether the package can be loaded with stated dependencies ... [0s/0s] OK
  • checking whether the package can be unloaded cleanly ... [0s/0s] OK
  • checking whether the namespace can be loaded with stated dependencies ... [0s/0s] OK
  • checking whether the namespace can be unloaded cleanly ... [0s/0s] OK
  • checking startup messages can be suppressed ... [0s/0s] OK
  • checking dependencies in R code ... OK
  • checking S3 generic/method consistency ... OK
  • checking replacement functions ... OK
  • checking foreign function calls ... OK
  • checking R code for possible problems ... [17s/25s] OK
  • checking Rd files ... [2s/3s] OK
  • checking Rd metadata ... OK
  • checking Rd cross-references ... OK
  • checking for missing documentation entries ... OK
  • checking for code/documentation mismatches ... OK
  • checking Rd \usage sections ... OK
  • checking Rd contents ... OK
  • checking for unstated dependencies in examples ... OK
  • checking contents of ‘data’ directory ... OK
  • checking data for non-ASCII characters ... [0s/0s] OK
  • checking LazyData ... OK
  • checking data for ASCII and uncompressed saves ... OK
  • checking line endings in C/C++/Fortran sources/headers ... OK
  • checking compiled code ... OK
  • checking sizes of PDF files under ‘inst/doc’ ... OK
  • checking installed files from ‘inst/doc’ ... OK
  • checking files in ‘vignettes’ ... OK
  • checking examples ... [12s/22s] OK
  • checking for unstated dependencies in ‘tests’ ... OK
  • checking tests ... [26s/40s] OK
      Running ‘MASSch04.R’ [2s/3s]
      Running ‘auto-key.R’ [2s/3s]
      Running ‘barchart-width.R’ [1s/1s]
      Running ‘call.R’ [2s/4s]
      Running ‘colorkey-title.R’ [1s/1s]
      Running ‘dates.R’ [1s/1s]
      Running ‘dotplotscoping.R’ [0s/0s]
      Running ‘fontsize.R’ [1s/1s]
      Running ‘levelplot.R’ [3s/5s]
      Running ‘scales.R’ [2s/3s]
      Running ‘shade-wireframe.R’ [3s/4s]
      Running ‘summary.R’ [0s/0s]
      Running ‘temp.R’ [2s/4s]
      Running ‘test.R’ [3s/5s]
      Running ‘wireframe.R’ [3s/4s]
  • checking for unstated dependencies in vignettes ... OK
  • checking package vignettes in ‘inst/doc’ ... OK
  • checking running R code from vignettes ... [1s/1s] OK
      ‘grid.Rnw’... [1s/1s] OK
  • checking re-building of vignette outputs ... [9s/13s] OK
  • checking PDF version of manual ... [11s/16s] OK
  • DONE
    Status: OK
  • using check arguments '--no-clean-on-error '