• using R Under development (unstable) (2025-01-24 r87627)
  • using platform: x86_64-apple-darwin20
  • R was compiled by     Apple clang version 14.0.0 (clang-1400.0.29.202)     GNU Fortran (GCC) 14.2.0
  • running under: macOS Ventura 13.3.1
  • using session charset: UTF-8
  • checking for file ‘hurricaneexposure/DESCRIPTION’ ... OK
  • checking extension type ... Package
  • this is package ‘hurricaneexposure’ version ‘0.1.1’
  • package encoding: UTF-8
  • checking package namespace information ... OK
  • checking package dependencies ... INFO Package suggested but not available for checking: ‘hurricaneexposuredata’
  • checking if this is a source package ... OK
  • checking if there is a namespace ... OK
  • checking for executable files ... OK
  • checking for hidden files and directories ... OK
  • checking for portable file names ... OK
  • checking for sufficient/correct file permissions ... OK
  • checking whether package ‘hurricaneexposure’ can be installed ... [3s/5s] OK See the install log for details.
  • checking installed package size ... OK
  • checking package directory ... OK
  • checking ‘build’ directory ... OK
  • checking DESCRIPTION meta-information ... OK
  • checking top-level files ... OK
  • checking for left-over files ... OK
  • checking index information ... OK
  • checking package subdirectories ... OK
  • checking code files for non-ASCII characters ... OK
  • checking R files for syntax errors ... OK
  • checking whether the package can be loaded ... [1s/1s] OK
  • checking whether the package can be loaded with stated dependencies ... [0s/1s] OK
  • checking whether the package can be unloaded cleanly ... [0s/1s] OK
  • checking whether the namespace can be loaded with stated dependencies ... [1s/1s] OK
  • checking whether the namespace can be unloaded cleanly ... [1s/1s] OK
  • checking loading without being on the library search path ... [1s/1s] OK
  • checking whether startup messages can be suppressed ... [1s/1s] OK
  • checking dependencies in R code ... OK
  • checking S3 generic/method consistency ... OK
  • checking replacement functions ... OK
  • checking foreign function calls ... OK
  • checking R code for possible problems ... [3s/4s] OK
  • checking Rd files ... [0s/0s] NOTE checkRd: (-1) county_distance.Rd:26-28: Lost braces in \itemize; \value handles \item{}{} directly checkRd: (-1) county_distance.Rd:29-30: Lost braces in \itemize; \value handles \item{}{} directly checkRd: (-1) county_distance.Rd:31-33: Lost braces in \itemize; \value handles \item{}{} directly checkRd: (-1) county_distance.Rd:34-35: Lost braces in \itemize; \value handles \item{}{} directly checkRd: (-1) county_distance.Rd:36-38: Lost braces in \itemize; \value handles \item{}{} directly checkRd: (-1) county_distance.Rd:39-42: Lost braces in \itemize; \value handles \item{}{} directly checkRd: (-1) county_events.Rd:26-27: Lost braces in \itemize; \value handles \item{}{} directly checkRd: (-1) county_events.Rd:28-30: Lost braces in \itemize; \value handles \item{}{} directly checkRd: (-1) county_events.Rd:31-32: Lost braces in \itemize; \value handles \item{}{} directly checkRd: (-1) county_events.Rd:33-36: Lost braces in \itemize; \value handles \item{}{} directly checkRd: (-1) county_events.Rd:37-38: Lost braces in \itemize; \value handles \item{}{} directly checkRd: (-1) county_events.Rd:39-41: Lost braces in \itemize; \value handles \item{}{} directly checkRd: (-1) county_events.Rd:42-44: Lost braces in \itemize; \value handles \item{}{} directly checkRd: (-1) county_rain.Rd:47-49: Lost braces in \itemize; \value handles \item{}{} directly checkRd: (-1) county_rain.Rd:50-51: Lost braces in \itemize; \value handles \item{}{} directly checkRd: (-1) county_rain.Rd:52-54: Lost braces in \itemize; \value handles \item{}{} directly checkRd: (-1) county_rain.Rd:55-56: Lost braces in \itemize; \value handles \item{}{} directly checkRd: (-1) county_rain.Rd:57-59: Lost braces in \itemize; \value handles \item{}{} directly checkRd: (-1) county_rain.Rd:60-62: Lost braces in \itemize; \value handles \item{}{} directly checkRd: (-1) county_rain.Rd:63-66: Lost braces in \itemize; \value handles \item{}{} directly checkRd: (-1) county_wind.Rd:55-57: Lost braces in \itemize; \value handles \item{}{} directly checkRd: (-1) county_wind.Rd:58-59: Lost braces in \itemize; \value handles \item{}{} directly checkRd: (-1) county_wind.Rd:60: Lost braces in \itemize; \value handles \item{}{} directly checkRd: (-1) county_wind.Rd:61: Lost braces in \itemize; \value handles \item{}{} directly checkRd: (-1) county_wind.Rd:62: Lost braces in \itemize; \value handles \item{}{} directly checkRd: (-1) county_wind.Rd:63-64: Lost braces in \itemize; \value handles \item{}{} directly checkRd: (-1) county_wind.Rd:65-66: Lost braces in \itemize; \value handles \item{}{} directly checkRd: (-1) county_wind.Rd:67-70: Lost braces in \itemize; \value handles \item{}{} directly checkRd: (-1) county_wind.Rd:71-72: Lost braces in \itemize; \value handles \item{}{} directly checkRd: (-1) county_wind.Rd:73-75: Lost braces in \itemize; \value handles \item{}{} directly checkRd: (-1) county_wind.Rd:76-78: Lost braces in \itemize; \value handles \item{}{} directly checkRd: (-1) multi_county_rain.Rd:48: Lost braces in \itemize; \value handles \item{}{} directly checkRd: (-1) multi_county_rain.Rd:49-51: Lost braces in \itemize; \value handles \item{}{} directly checkRd: (-1) multi_county_rain.Rd:52-54: Lost braces in \itemize; \value handles \item{}{} directly checkRd: (-1) multi_county_rain.Rd:55-57: Lost braces in \itemize; \value handles \item{}{} directly checkRd: (-1) multi_county_rain.Rd:58-61: Lost braces in \itemize; \value handles \item{}{} directly checkRd: (-1) multi_county_rain.Rd:62-65: Lost braces in \itemize; \value handles \item{}{} directly checkRd: (-1) multi_county_rain.Rd:66-68: Lost braces in \itemize; \value handles \item{}{} directly checkRd: (-1) multi_county_rain.Rd:69-72: Lost braces in \itemize; \value handles \item{}{} directly checkRd: (-1) multi_county_rain.Rd:73-76: Lost braces in \itemize; \value handles \item{}{} directly
  • checking Rd metadata ... OK
  • checking Rd cross-references ... OK
  • checking for missing documentation entries ... OK
  • checking for code/documentation mismatches ... OK
  • checking Rd \usage sections ... OK
  • checking Rd contents ... OK
  • checking for unstated dependencies in examples ... OK
  • checking LazyData ... INFO   'LazyData' is specified without a 'data' directory
  • checking installed files from ‘inst/doc’ ... OK
  • checking files in ‘vignettes’ ... OK
  • checking examples ... [1s/2s] OK
  • checking for unstated dependencies in vignettes ... OK
  • checking package vignettes ... OK
  • checking re-building of vignette outputs ... [10s/14s] OK
  • checking PDF version of manual ... [6s/9s] OK
  • DONE Status: 1 NOTE
  • using check arguments '--no-clean-on-error '