• using R version 4.0.2 (2020-06-22)
  • using platform: x86_64-apple-darwin17.0 (64-bit)
  • using session charset: UTF-8
  • checking for file ‘het.test/DESCRIPTION’ ... OK
  • checking extension type ... Package
  • this is package ‘het.test’ version ‘0.1’
  • checking package namespace information ... OK
  • checking package dependencies ... OK
  • checking if this is a source package ... OK
  • checking if there is a namespace ... OK
  • checking for executable files ... OK
  • checking for hidden files and directories ... OK
  • checking for portable file names ... OK
  • checking for sufficient/correct file permissions ... OK
  • checking whether package ‘het.test’ can be installed ... [3s/3s] OK
  • checking installed package size ... OK
  • checking package directory ... OK
  • checking DESCRIPTION meta-information ... OK
  • checking top-level files ... OK
  • checking for left-over files ... OK
  • checking index information ... OK
  • checking package subdirectories ... OK
  • checking R files for non-ASCII characters ... OK
  • checking R files for syntax errors ... OK
  • checking whether the package can be loaded ... OK
  • checking whether the package can be loaded with stated dependencies ... OK
  • checking whether the package can be unloaded cleanly ... OK
  • checking whether the namespace can be loaded with stated dependencies ... NOTE
    Warning: no function found corresponding to methods exports from ‘het.test’ for: ‘show’

    A namespace must be able to be loaded with just the base namespace
    loaded: otherwise if the namespace gets loaded by a saved object, the
    session will be unable to start.

    Probably some imports need to be declared in the NAMESPACE file.
  • checking whether the namespace can be unloaded cleanly ... OK
  • checking loading without being on the library search path ... OK
  • checking dependencies in R code ... NOTE
    Packages in Depends field not imported from:
      ‘methods’ ‘vars’
      These packages need to be imported from (in the NAMESPACE file)
      for when this namespace is loaded but not attached.
  • checking S3 generic/method consistency ... OK
  • checking replacement functions ... OK
  • checking foreign function calls ... OK
  • checking R code for possible problems ... [2s/3s] NOTE
    whites.htest: no visible global function definition for ‘residuals’
    whites.htest: no visible global function definition for ‘lm’
    whites.htest: no visible global function definition for ‘pchisq’
    whites.htest: no visible global function definition for ‘new’
    Undefined global functions or variables:
      lm new pchisq residuals
    Consider adding
      importFrom("methods", "new")
      importFrom("stats", "lm", "pchisq", "residuals")
    to your NAMESPACE file (and ensure that your DESCRIPTION Imports field
    contains 'methods').
  • checking Rd files ... OK
  • checking Rd metadata ... OK
  • checking Rd cross-references ... OK
  • checking for missing documentation entries ... OK
  • checking for code/documentation mismatches ... OK
  • checking Rd \usage sections ... OK
  • checking Rd contents ... OK
  • checking for unstated dependencies in examples ... OK
  • checking examples ... [1s/1s] OK
  • checking PDF version of manual ... OK
  • DONE
    Status: 3 NOTEs