• using R version 4.5.0 beta (2025-03-29 r88074)
  • using platform: x86_64-apple-darwin20
  • R was compiled by     Apple clang version 14.0.0 (clang-1400.0.29.202)     GNU Fortran (GCC) 14.2.0
  • running under: macOS Ventura 13.3.1
  • using session charset: UTF-8
  • checking for file ‘helsinki/DESCRIPTION’ ... OK
  • checking extension type ... Package
  • this is package ‘helsinki’ version ‘1.0.6’
  • package encoding: UTF-8
  • checking package namespace information ... OK
  • checking package dependencies ... OK
  • checking if this is a source package ... OK
  • checking if there is a namespace ... OK
  • checking for executable files ... OK
  • checking for hidden files and directories ... OK
  • checking for portable file names ... OK
  • checking for sufficient/correct file permissions ... OK
  • checking whether package ‘helsinki’ can be installed ... [4s/5s] OK See the install log for details.
  • checking installed package size ... OK
  • checking package directory ... OK
  • checking ‘build’ directory ... OK
  • checking DESCRIPTION meta-information ... OK
  • checking top-level files ... OK
  • checking for left-over files ... OK
  • checking index information ... OK
  • checking package subdirectories ... OK
  • checking code files for non-ASCII characters ... OK
  • checking R files for syntax errors ... OK
  • checking whether the package can be loaded ... [1s/1s] OK
  • checking whether the package can be loaded with stated dependencies ... [1s/2s] OK
  • checking whether the package can be unloaded cleanly ... [1s/2s] OK
  • checking whether the namespace can be loaded with stated dependencies ... [1s/2s] OK
  • checking whether the namespace can be unloaded cleanly ... [1s/2s] OK
  • checking loading without being on the library search path ... [1s/2s] OK
  • checking whether startup messages can be suppressed ... [1s/2s] OK
  • checking dependencies in R code ... OK
  • checking S3 generic/method consistency ... OK
  • checking replacement functions ... OK
  • checking foreign function calls ... OK
  • checking R code for possible problems ... [3s/4s] OK
  • checking Rd files ... [0s/0s] NOTE checkRd: (-1) get_hri_stats.Rd:40: Lost braces     40 | See \url{https://dev.hel.fi/apis/statistics/}{dev.hel.fi website} and        | ^ checkRd: (-1) get_hri_stats.Rd:41: Lost braces     41 | \url{http://dev.hel.fi/stats/}{API documentation} (in Finnish)        | ^ checkRd: (-1) get_linkedevents.Rd:39: Lost braces in \itemize; meant \describe ? checkRd: (-1) get_linkedevents.Rd:40: Lost braces in \itemize; meant \describe ? checkRd: (-1) get_linkedevents.Rd:41: Lost braces in \itemize; meant \describe ? checkRd: (-1) get_linkedevents.Rd:42: Lost braces in \itemize; meant \describe ? checkRd: (-1) get_linkedevents.Rd:43: Lost braces in \itemize; meant \describe ? checkRd: (-1) get_servicemap.Rd:40: Lost braces in \itemize; meant \describe ? checkRd: (-1) get_servicemap.Rd:41: Lost braces in \itemize; meant \describe ? checkRd: (-1) get_servicemap.Rd:42: Lost braces in \itemize; meant \describe ? checkRd: (-1) get_servicemap.Rd:43: Lost braces in \itemize; meant \describe ? checkRd: (-1) get_servicemap.Rd:44: Lost braces in \itemize; meant \describe ? checkRd: (-1) get_servicemap.Rd:45: Lost braces in \itemize; meant \describe ? checkRd: (-1) get_servicemap.Rd:52: Lost braces in \itemize; meant \describe ? checkRd: (-1) get_servicemap.Rd:53: Lost braces in \itemize; meant \describe ? checkRd: (-1) get_servicemap.Rd:54: Lost braces in \itemize; meant \describe ? checkRd: (-1) get_servicemap.Rd:55: Lost braces in \itemize; meant \describe ? checkRd: (-1) get_servicemap.Rd:56: Lost braces in \itemize; meant \describe ? checkRd: (-1) get_servicemap.Rd:57: Lost braces in \itemize; meant \describe ? checkRd: (-1) get_servicemap.Rd:58: Lost braces in \itemize; meant \describe ? checkRd: (-1) get_servicemap.Rd:59: Lost braces in \itemize; meant \describe ? checkRd: (-1) get_servicemap.Rd:60: Lost braces in \itemize; meant \describe ? checkRd: (-1) get_servicemap.Rd:61: Lost braces in \itemize; meant \describe ?
  • checking Rd metadata ... OK
  • checking Rd cross-references ... OK
  • checking for missing documentation entries ... OK
  • checking for code/documentation mismatches ... OK
  • checking Rd \usage sections ... OK
  • checking Rd contents ... OK
  • checking for unstated dependencies in examples ... OK
  • checking installed files from ‘inst/doc’ ... OK
  • checking files in ‘vignettes’ ... OK
  • checking examples ... [1s/2s] OK
  • checking for unstated dependencies in ‘tests’ ... OK
  • checking tests ... [2s/21s] OK   Running ‘testthat.R’ [1s/20s]
  • checking for unstated dependencies in vignettes ... OK
  • checking package vignettes ... OK
  • checking re-building of vignette outputs ... [11s/16s] OK
  • checking PDF version of manual ... [6s/8s] OK
  • DONE Status: 1 NOTE
  • using check arguments '--no-clean-on-error '