• using R version 4.0.2 (2020-06-22)
  • using platform: x86_64-apple-darwin17.0 (64-bit)
  • using session charset: UTF-8
  • checking for file ‘gstat/DESCRIPTION’ ... OK
  • this is package ‘gstat’ version ‘2.0-6’
  • package encoding: UTF-8
  • checking package namespace information ... OK
  • checking package dependencies ... NOTE
    Package suggested but not available for checking: ‘fields’
  • checking if this is a source package ... OK
  • checking if there is a namespace ... OK
  • checking for executable files ... OK
  • checking for hidden files and directories ... OK
  • checking for portable file names ... OK
  • checking for sufficient/correct file permissions ... OK
  • checking whether package ‘gstat’ can be installed ... [14s/18s] OK
  • checking installed package size ... OK
  • checking package directory ... OK
  • checking ‘build’ directory ... OK
  • checking DESCRIPTION meta-information ... OK
  • checking top-level files ... OK
  • checking for left-over files ... OK
  • checking index information ... OK
  • checking package subdirectories ... OK
  • checking R files for non-ASCII characters ... OK
  • checking R files for syntax errors ... OK
  • checking whether the package can be loaded ... OK
  • checking whether the package can be loaded with stated dependencies ... OK
  • checking whether the package can be unloaded cleanly ... OK
  • checking whether the namespace can be loaded with stated dependencies ... OK
  • checking whether the namespace can be unloaded cleanly ... OK
  • checking loading without being on the library search path ... OK
  • checking dependencies in R code ... OK
  • checking S3 generic/method consistency ... OK
  • checking replacement functions ... OK
  • checking foreign function calls ... OK
  • checking R code for possible problems ... [9s/13s] OK
  • checking Rd files ... OK
  • checking Rd metadata ... OK
  • checking Rd cross-references ... OK
  • checking for missing documentation entries ... OK
  • checking for code/documentation mismatches ... OK
  • checking Rd \usage sections ... OK
  • checking Rd contents ... OK
  • checking for unstated dependencies in examples ... OK
  • checking contents of ‘data’ directory ... OK
  • checking data for non-ASCII characters ... OK
  • checking data for ASCII and uncompressed saves ... OK
  • checking line endings in shell scripts ... OK
  • checking line endings in C/C++/Fortran sources/headers ... OK
  • checking line endings in Makefiles ... OK
  • checking compilation flags in Makevars ... OK
  • checking for GNU extensions in Makefiles ... OK
  • checking for portable use of $(BLAS_LIBS) and $(LAPACK_LIBS) ... OK
  • checking use of PKG_*FLAGS in Makefiles ... OK
  • checking compiled code ... OK
  • checking sizes of PDF files under ‘inst/doc’ ... OK
  • checking installed files from ‘inst/doc’ ... OK
  • checking files in ‘vignettes’ ... OK
  • checking examples ... [8s/11s] OK
  • checking for unstated dependencies in ‘tests’ ... OK
  • checking tests ... [29s/40s] OK
      Running ‘allier.R’ [1s/1s]
      Comparing ‘allier.Rout’ to ‘allier.Rout.save’ ... OK
      Running ‘blockkr.R’ [1s/1s]
      Comparing ‘blockkr.Rout’ to ‘blockkr.Rout.save’ ... OK
      Running ‘covtable.R’ [1s/1s]
      Comparing ‘covtable.Rout’ to ‘covtable.Rout.save’ ... OK
      Running ‘cv.R’ [1s/1s]
      Comparing ‘cv.Rout’ to ‘cv.Rout.save’ ... OK
      Running ‘cv3d.R’ [1s/2s]
      Comparing ‘cv3d.Rout’ to ‘cv3d.Rout.save’ ... OK
      Running ‘fit.R’ [1s/1s]
      Comparing ‘fit.Rout’ to ‘fit.Rout.save’ ... OK
      Running ‘krige0.R’ [2s/3s]
      Comparing ‘krige0.Rout’ to ‘krige0.Rout.save’ ... OK
      Running ‘line.R’ [1s/2s]
      Comparing ‘line.Rout’ to ‘line.Rout.save’ ... OK
      Running ‘merge.R’ [1s/1s]
      Comparing ‘merge.Rout’ to ‘merge.Rout.save’ ... OK
      Running ‘na.action.R’ [1s/1s]
      Comparing ‘na.action.Rout’ to ‘na.action.Rout.save’ ... OK
      Running ‘rings.R’ [1s/2s]
      Comparing ‘rings.Rout’ to ‘rings.Rout.save’ ... OK
      Running ‘sim.R’ [1s/1s]
      Comparing ‘sim.Rout’ to ‘sim.Rout.save’ ... OK
      Running ‘stars.R’ [4s/6s]
      Comparing ‘stars.Rout’ to ‘stars.Rout.save’ ...41,44d40
    < Warning message:
    < In showSRID(uprojargs, format = "PROJ", multiline = "NO") :
    < Discarded datum Unknown based on Bessel 1841 ellipsoid in CRS definition,
    < but +towgs84= values preserved
    53,62d48
    < Warning messages:
    < 1: In proj4string(d$data) :
    < CRS object has comment, which is lost in output
    < 2: In proj4string(newdata) :
    < CRS object has comment, which is lost in output
    < 3: In proj4string(newdata) :
    < CRS object has comment, which is lost in output
    < 4: In showSRID(uprojargs, format = "PROJ", multiline = "NO") :
    < Discarded datum Unknown based on Bessel 1841 ellipsoid in CRS definition,
    < but +towgs84= values preserved
    65,74d50
    < Warning messages:
    < 1: In proj4string(d$data) :
    < CRS object has comment, which is lost in output
    < 2: In proj4string(newdata) :
    < CRS object has comment, which is lost in output
    < 3: In proj4string(newdata) :
    < CRS object has comment, which is lost in output
    < 4: In showSRID(uprojargs, format = "PROJ", multiline = "NO") :
    < Discarded datum Unknown based on Bessel 1841 ellipsoid in CRS definition,
    < but +towgs84= values preserved
    115,118d90
    < Warning message:
    < In showSRID(uprojargs, format = "PROJ", multiline = "NO") :
    < Discarded datum Unknown based on Bessel 1841 ellipsoid in CRS definition,
    < but +towgs84= values preserved
    121,124d92
    < Warning message:
    < In showSRID(uprojargs, format = "PROJ", multiline = "NO") :
    < Discarded datum Unknown based on Bessel 1841 ellipsoid in CRS definition,
    < but +towgs84= values preserved
    134,137d101
    < Warning message:
    < In showSRID(uprojargs, format = "PROJ", multiline = "NO") :
    < Discarded datum Unknown based on Bessel 1841 ellipsoid in CRS definition,
    < but +towgs84= values preserved
    142,147c106,108
    < [4] "Attributes: < Component \"proj4string\": Attributes: < Component \"comment\": 1 string mismatch > >"
    < [5] "Attributes: < Component \"proj4string\": Attributes: < Component \"projargs\": 1 string mismatch > >"
    < Warning message:
    < In showSRID(uprojargs, format = "PROJ", multiline = "NO") :
    < Discarded datum Unknown based on Bessel 1841 ellipsoid in CRS definition,
    < but +towgs84= values preserved
    ---
    > [4] "Attributes: < Component \"proj4string\": Attributes: < Names: 1 string mismatch > >"
    > [5] "Attributes: < Component \"proj4string\": Attributes: < Length mismatch: comparison on first 2 components > >"
    > [6] "Attributes: < Component \"proj4string\": Attributes: < Component 2: 1 string mismatch > >"
    170,174d130
    < Warning messages:
    < 1: In sp::proj4string(.x) :
    < CRS object has comment, which is lost in output
    < 2: In sp::proj4string(.x) :
    < CRS object has comment, which is lost in output
    196,197d151
    < BOUNDCRS[
    < SOURCECRS[
    233,269c187
    < ID["EPSG",9001]]]]],
    < TARGETCRS[
    < GEOGCRS["WGS 84",
    < DATUM["World Geodetic System 1984",
    < ELLIPSOID["WGS 84",6378137,298.257223563,
    < LENGTHUNIT["metre",1]]],
    < PRIMEM["Greenwich",0,
    < ANGLEUNIT["degree",0.0174532925199433]],
    < CS[ellipsoidal,2],
    < AXIS["geodetic latitude (Lat)",north,
    < ORDER[1],
    < ANGLEUNIT["degree",0.0174532925199433]],
    < AXIS["geodetic longitude (Lon)",east,
    < ORDER[2],
    < ANGLEUNIT["degree",0.0174532925199433]],
    < USAGE[
    < SCOPE["unknown"],
    < AREA["World"],
    < BBOX[-90,-180,90,180]],
    < ID["EPSG",4326]]],
    < ABRIDGEDTRANSFORMATION["Transformation to WGS84",
    < METHOD["Position Vector transformation (geog2D domain)",
    < ID["EPSG",9606]],
    < PARAMETER["X-axis translation",565.2369,
    < ID["EPSG",8605]],
    < PARAMETER["Y-axis translation",50.0087,
    < ID["EPSG",8606]],
    < PARAMETER["Z-axis translation",465.658,
    < ID["EPSG",8607]],
    < PARAMETER["X-axis rotation",-0.406857,
    < ID["EPSG",8608]],
    < PARAMETER["Y-axis rotation",0.350733,
    < ID["EPSG",8609]],
    < PARAMETER["Z-axis rotation",-1.87035,
    < ID["EPSG",8610]],
    < PARAMETER["Scale difference",1.0000040812,
    < ID["EPSG",8611]]]]
    ---
    > ID["EPSG",9001]]]]
    272c190
    < User input: +proj=sterea +lat_0=52.1561605555556 +lon_0=5.38763888888889 +k=0.9999079 +x_0=155000 +y_0=463000 +ellps=bessel +towgs84=565.2369,50.0087,465.658,-0.406857,0.350733,-1.87035,4.08119999995016 +units=m +no_defs
    ---
    > User input: +proj=sterea +lat_0=52.1561605555556 +lon_0=5.38763888888889 +k=0.9999079 +x_0=155000 +y_0=463000 +ellps=bessel +units=m +no_defs
    274,275d191
    < BOUNDCRS[
    < SOURCECRS[
    311,343c227
    < ID["EPSG",9001]]]]],
    < TARGETCRS[
    < GEOGCRS["WGS 84",
    < DATUM["World Geodetic System 1984",
    < ELLIPSOID["WGS 84",6378137,298.257223563,
    < LENGTHUNIT["metre",1]]],
    < PRIMEM["Greenwich",0,
    < ANGLEUNIT["degree",0.0174532925199433]],
    < CS[ellipsoidal,2],
    < AXIS["latitude",north,
    < ORDER[1],
    < ANGLEUNIT["degree",0.0174532925199433]],
    < AXIS["longitude",east,
    < ORDER[2],
    < ANGLEUNIT["degree",0.0174532925199433]],
    < ID["EPSG",4326]]],
    < ABRIDGEDTRANSFORMATION["Transformation from unknown to WGS84",
    < METHOD["Position Vector transformation (geog2D domain)",
    < ID["EPSG",9606]],
    < PARAMETER["X-axis translation",565.2369,
    < ID["EPSG",8605]],
    < PARAMETER["Y-axis translation",50.0087,
    < ID["EPSG",8606]],
    < PARAMETER["Z-axis translation",465.658,
    < ID["EPSG",8607]],
    < PARAMETER["X-axis rotation",-0.406857,
    < ID["EPSG",8608]],
    < PARAMETER["Y-axis rotation",0.350733,
    < ID["EPSG",8609]],
    < PARAMETER["Z-axis rotation",-1.87035,
    < ID["EPSG",8610]],
    < PARAMETER["Scale difference",1.0000040812,
    < ID["EPSG",8611]]]]
    ---
    > ID["EPSG",9001]]]]
    347,350d230
    < Warning message:
    < In showSRID(uprojargs, format = "PROJ", multiline = "NO") :
    < Discarded datum Unknown based on Bessel 1841 ellipsoid in CRS definition,
    < but +towgs84= values preserved
    363c243
    < [8] "Attributes: < Component 5: Attributes: < Component 3: 1 string mismatch > >"
    ---
    > [8] "Attributes: < Component 5: Attributes: < Component 2: 1 string mismatch > >"
    406,410d285
    < Warning messages:
    < 1: In sp::proj4string(.x) :
    < CRS object has comment, which is lost in output
    < 2: In sp::proj4string(.x) :
    < CRS object has comment, which is lost in output
    424,425c299,300
    < x 1 78 178440 40 +proj=sterea +lat_0=52.15... NA NULL
    < y 1 104 333760 -40 +proj=sterea +lat_0=52.15... NA NULL
    ---
    > x 1 78 178440 40 +init=epsg:28992 +proj=st... NA NULL
    > y 1 104 333760 -40 +init=epsg:28992 +proj=st... NA NULL
    434,438d308
    < Warning messages:
    < 1: In sp::proj4string(.x) :
    < CRS object has comment, which is lost in output
    < 2: In sp::proj4string(.x) :
    < CRS object has comment, which is lost in output
    466c336
    < time 1 4 2019-02-25 10:37:25 EST 1 secs POSIXct NA NULL
    ---
    > time 1 4 2019-02-25 15:37:25 UTC 1 secs POSIXct NA NULL
    470,533c340,403
    < 1 10.25 -0.35 2019-02-25 10:37:25 1
    < 2 10.75 -0.35 2019-02-25 10:37:25 2
    < 3 11.25 -0.35 2019-02-25 10:37:25 3
    < 4 11.75 -0.35 2019-02-25 10:37:25 4
    < 5 10.25 -1.05 2019-02-25 10:37:25 5
    < 6 10.75 -1.05 2019-02-25 10:37:25 6
    < 7 11.25 -1.05 2019-02-25 10:37:25 7
    < 8 11.75 -1.05 2019-02-25 10:37:25 8
    < 9 10.25 -1.75 2019-02-25 10:37:25 9
    < 10 10.75 -1.75 2019-02-25 10:37:25 10
    < 11 11.25 -1.75 2019-02-25 10:37:25 11
    < 12 11.75 -1.75 2019-02-25 10:37:25 12
    < 13 10.25 -2.45 2019-02-25 10:37:25 13
    < 14 10.75 -2.45 2019-02-25 10:37:25 14
    < 15 11.25 -2.45 2019-02-25 10:37:25 15
    < 16 11.75 -2.45 2019-02-25 10:37:25 16
    < 17 10.25 -0.35 2019-02-25 10:37:26 17
    < 18 10.75 -0.35 2019-02-25 10:37:26 18
    < 19 11.25 -0.35 2019-02-25 10:37:26 19
    < 20 11.75 -0.35 2019-02-25 10:37:26 20
    < 21 10.25 -1.05 2019-02-25 10:37:26 21
    < 22 10.75 -1.05 2019-02-25 10:37:26 22
    < 23 11.25 -1.05 2019-02-25 10:37:26 23
    < 24 11.75 -1.05 2019-02-25 10:37:26 24
    < 25 10.25 -1.75 2019-02-25 10:37:26 25
    < 26 10.75 -1.75 2019-02-25 10:37:26 26
    < 27 11.25 -1.75 2019-02-25 10:37:26 27
    < 28 11.75 -1.75 2019-02-25 10:37:26 28
    < 29 10.25 -2.45 2019-02-25 10:37:26 29
    < 30 10.75 -2.45 2019-02-25 10:37:26 30
    < 31 11.25 -2.45 2019-02-25 10:37:26 31
    < 32 11.75 -2.45 2019-02-25 10:37:26 32
    < 33 10.25 -0.35 2019-02-25 10:37:27 33
    < 34 10.75 -0.35 2019-02-25 10:37:27 34
    < 35 11.25 -0.35 2019-02-25 10:37:27 35
    < 36 11.75 -0.35 2019-02-25 10:37:27 36
    < 37 10.25 -1.05 2019-02-25 10:37:27 37
    < 38 10.75 -1.05 2019-02-25 10:37:27 38
    < 39 11.25 -1.05 2019-02-25 10:37:27 39
    < 40 11.75 -1.05 2019-02-25 10:37:27 40
    < 41 10.25 -1.75 2019-02-25 10:37:27 41
    < 42 10.75 -1.75 2019-02-25 10:37:27 42
    < 43 11.25 -1.75 2019-02-25 10:37:27 43
    < 44 11.75 -1.75 2019-02-25 10:37:27 44
    < 45 10.25 -2.45 2019-02-25 10:37:27 45
    < 46 10.75 -2.45 2019-02-25 10:37:27 46
    < 47 11.25 -2.45 2019-02-25 10:37:27 47
    < 48 11.75 -2.45 2019-02-25 10:37:27 48
    < 49 10.25 -0.35 2019-02-25 10:37:28 49
    < 50 10.75 -0.35 2019-02-25 10:37:28 50
    < 51 11.25 -0.35 2019-02-25 10:37:28 51
    < 52 11.75 -0.35 2019-02-25 10:37:28 52
    < 53 10.25 -1.05 2019-02-25 10:37:28 53
    < 54 10.75 -1.05 2019-02-25 10:37:28 54
    < 55 11.25 -1.05 2019-02-25 10:37:28 55
    < 56 11.75 -1.05 2019-02-25 10:37:28 56
    < 57 10.25 -1.75 2019-02-25 10:37:28 57
    < 58 10.75 -1.75 2019-02-25 10:37:28 58
    < 59 11.25 -1.75 2019-02-25 10:37:28 59
    < 60 11.75 -1.75 2019-02-25 10:37:28 60
    < 61 10.25 -2.45 2019-02-25 10:37:28 61
    < 62 10.75 -2.45 2019-02-25 10:37:28 62
    < 63 11.25 -2.45 2019-02-25 10:37:28 63
    < 64 11.75 -2.45 2019-02-25 10:37:28 64
    ---
    > 1 10.25 -0.35 2019-02-25 15:37:25 1
    > 2 10.75 -0.35 2019-02-25 15:37:25 2
    > 3 11.25 -0.35 2019-02-25 15:37:25 3
    > 4 11.75 -0.35 2019-02-25 15:37:25 4
    > 5 10.25 -1.05 2019-02-25 15:37:25 5
    > 6 10.75 -1.05 2019-02-25 15:37:25 6
    > 7 11.25 -1.05 2019-02-25 15:37:25 7
    > 8 11.75 -1.05 2019-02-25 15:37:25 8
    > 9 10.25 -1.75 2019-02-25 15:37:25 9
    > 10 10.75 -1.75 2019-02-25 15:37:25 10
    > 11 11.25 -1.75 2019-02-25 15:37:25 11
    > 12 11.75 -1.75 2019-02-25 15:37:25 12
    > 13 10.25 -2.45 2019-02-25 15:37:25 13
    > 14 10.75 -2.45 2019-02-25 15:37:25 14
    > 15 11.25 -2.45 2019-02-25 15:37:25 15
    > 16 11.75 -2.45 2019-02-25 15:37:25 16
    > 17 10.25 -0.35 2019-02-25 15:37:26 17
    > 18 10.75 -0.35 2019-02-25 15:37:26 18
    > 19 11.25 -0.35 2019-02-25 15:37:26 19
    > 20 11.75 -0.35 2019-02-25 15:37:26 20
    > 21 10.25 -1.05 2019-02-25 15:37:26 21
    > 22 10.75 -1.05 2019-02-25 15:37:26 22
    > 23 11.25 -1.05 2019-02-25 15:37:26 23
    > 24 11.75 -1.05 2019-02-25 15:37:26 24
    > 25 10.25 -1.75 2019-02-25 15:37:26 25
    > 26 10.75 -1.75 2019-02-25 15:37:26 26
    > 27 11.25 -1.75 2019-02-25 15:37:26 27
    > 28 11.75 -1.75 2019-02-25 15:37:26 28
    > 29 10.25 -2.45 2019-02-25 15:37:26 29
    > 30 10.75 -2.45 2019-02-25 15:37:26 30
    > 31 11.25 -2.45 2019-02-25 15:37:26 31
    > 32 11.75 -2.45 2019-02-25 15:37:26 32
    > 33 10.25 -0.35 2019-02-25 15:37:27 33
    > 34 10.75 -0.35 2019-02-25 15:37:27 34
    > 35 11.25 -0.35 2019-02-25 15:37:27 35
    > 36 11.75 -0.35 2019-02-25 15:37:27 36
    > 37 10.25 -1.05 2019-02-25 15:37:27 37
    > 38 10.75 -1.05 2019-02-25 15:37:27 38
    > 39 11.25 -1.05 2019-02-25 15:37:27 39
    > 40 11.75 -1.05 2019-02-25 15:37:27 40
    > 41 10.25 -1.75 2019-02-25 15:37:27 41
    > 42 10.75 -1.75 2019-02-25 15:37:27 42
    > 43 11.25 -1.75 2019-02-25 15:37:27 43
    > 44 11.75 -1.75 2019-02-25 15:37:27 44
    > 45 10.25 -2.45 2019-02-25 15:37:27 45
    > 46 10.75 -2.45 2019-02-25 15:37:27 46
    > 47 11.25 -2.45 2019-02-25 15:37:27 47
    > 48 11.75 -2.45 2019-02-25 15:37:27 48
    > 49 10.25 -0.35 2019-02-25 15:37:28 49
    > 50 10.75 -0.35 2019-02-25 15:37:28 50
    > 51 11.25 -0.35 2019-02-25 15:37:28 51
    > 52 11.75 -0.35 2019-02-25 15:37:28 52
    > 53 10.25 -1.05 2019-02-25 15:37:28 53
    > 54 10.75 -1.05 2019-02-25 15:37:28 54
    > 55 11.25 -1.05 2019-02-25 15:37:28 55
    > 56 11.75 -1.05 2019-02-25 15:37:28 56
    > 57 10.25 -1.75 2019-02-25 15:37:28 57
    > 58 10.75 -1.75 2019-02-25 15:37:28 58
    > 59 11.25 -1.75 2019-02-25 15:37:28 59
    > 60 11.75 -1.75 2019-02-25 15:37:28 60
    > 61 10.25 -2.45 2019-02-25 15:37:28 61
    > 62 10.75 -2.45 2019-02-25 15:37:28 62
    > 63 11.25 -2.45 2019-02-25 15:37:28 63
    > 64 11.75 -2.45 2019-02-25 15:37:28 64
    632,635c502,505
    < 2019-02-25 10:37:25 1
    < 2019-02-25 10:37:26 2
    < 2019-02-25 10:37:27 3
    < 2019-02-25 10:37:28 4
    ---
    > 2019-02-25 15:37:25 1
    > 2019-02-25 15:37:26 2
    > 2019-02-25 15:37:27 3
    > 2019-02-25 15:37:28 4
    638,639c508,509
    < [1] "2019-02-25 10:37:26 EST" "2019-02-25 10:37:27 EST"
    < [3] "2019-02-25 10:37:28 EST" "2019-02-25 10:37:29 EST"
    ---
    > [1] "2019-02-25 15:37:26 UTC" "2019-02-25 15:37:27 UTC"
    > [3] "2019-02-25 15:37:28 UTC" "2019-02-25 15:37:29 UTC"
    657c527
    < time 1 4 2019-02-25 10:37:25 EST 1 secs POSIXct NA NULL
    ---
    > time 1 4 2019-02-25 15:37:25 UTC 1 secs POSIXct NA NULL
      Running ‘unproj.R’ [2s/3s]
      Comparing ‘unproj.Rout’ to ‘unproj.Rout.save’ ...13,16d12
    < Warning message:
    < In showSRID(uprojargs, format = "PROJ", multiline = "NO") :
    < Discarded datum Unknown based on Bessel 1841 ellipsoid in CRS definition,
    < but +towgs84= values preserved
    19,21d14
    < Warning message:
    < In showSRID(uprojargs, format = "PROJ", multiline = "NO") :
    < Discarded datum Unknown based on WGS84 ellipsoid in CRS definition
    92,94d84
    < Warning message:
    < In showSRID(uprojargs, format = "PROJ", multiline = "NO") :
    < Discarded datum Unknown based on WGS84 ellipsoid in CRS definition
      Running ‘variogram.R’ [1s/1s]
      Comparing ‘variogram.Rout’ to ‘variogram.Rout.save’ ... OK
      Running ‘vdist.R’ [1s/1s]
      Comparing ‘vdist.Rout’ to ‘vdist.Rout.save’ ...23c23
    < 1500 (180260, 331300) 5.647694 1.100095
    ---
    > 1500 (180260, 331300) 5.50671 1.100095
      Running ‘windst.R’ [6s/9s]
      Comparing ‘windst.Rout’ to ‘windst.Rout.save’ ...46,47d45
    < Warning message:
    < In proj4string(m) : CRS object has comment, which is lost in output
    67,71d64
    < Warning messages:
    < 1: In proj4string(obj@sp) :
    < CRS object has comment, which is lost in output
    < 2: In proj4string(obj@sp) :
    < CRS object has comment, which is lost in output
    81,86c74,75
    < Warning messages:
    < 1: In proj4string(data@sp) :
    < CRS object has comment, which is lost in output
    < 2: In proj4string(newdata@sp) :
    < CRS object has comment, which is lost in output
    < 3: In krigeST(sqrt(values) ~ 1, w, STF(grd, tgrd), v) :
    ---
    > Warning message:
    > In krigeST(sqrt(values) ~ 1, w, STF(grd, tgrd), v) :
    99,108c88,89
    < Warning messages:
    < 1: In sp::proj4string(.x@sp) :
    < CRS object has comment, which is lost in output
    < 2: In sp::proj4string(.x@sp) :
    < CRS object has comment, which is lost in output
    < 3: In proj4string(data@sp) :
    < CRS object has comment, which is lost in output
    < 4: In proj4string(newdata@sp) :
    < CRS object has comment, which is lost in output
    < 5: In krigeST(sqrt(values) ~ 1, st_as_stars(w), st_as_stars(newd), :
    ---
    > Warning message:
    > In krigeST(sqrt(values) ~ 1, st_as_stars(w), st_as_stars(newd), :
    111,112d91
    < 6: In sp::proj4string(.x@sp) :
    < CRS object has comment, which is lost in output
    115,116d93
    < Warning message:
    < In sp::proj4string(.x@sp) : CRS object has comment, which is lost in output
    126,127d102
    < Warning message:
    < In sp::proj4string(.x@sp) : CRS object has comment, which is lost in output
    142,143d116
    < Warning message:
    < In sp::proj4string(.x@sp) : CRS object has comment, which is lost in output
    147,148d119
    < Warning message:
    < In sp::proj4string(.x@sp) : CRS object has comment, which is lost in output
    158,159d128
    < Warning message:
    < In sp::proj4string(.x@sp) : CRS object has comment, which is lost in output
  • checking for unstated dependencies in vignettes ... OK
  • checking package vignettes in ‘inst/doc’ ... OK
  • checking running R code from vignettes ... [14s/21s] OK
      ‘gstat.Rnw’ using ‘UTF-8’... [3s/4s] OK
      ‘prs.Rnw’ using ‘UTF-8’... [1s/2s] OK
      ‘spatio-temporal-kriging.Rnw’ using ‘UTF-8’... [0s/0s] OK
      ‘st.Rnw’ using ‘UTF-8’... [10s/15s] OK
  • checking re-building of vignette outputs ... [40s/55s] OK
  • checking PDF version of manual ... OK
  • DONE
    Status: 1 NOTE