• using R version 4.5.0 beta (2025-03-29 r88074)
  • using platform: x86_64-apple-darwin20
  • R was compiled by     Apple clang version 14.0.0 (clang-1400.0.29.202)     GNU Fortran (GCC) 14.2.0
  • running under: macOS Ventura 13.3.1
  • using session charset: UTF-8
  • checking for file ‘git2r/DESCRIPTION’ ... OK
  • checking extension type ... Package
  • this is package ‘git2r’ version ‘0.36.2’
  • package encoding: UTF-8
  • checking package namespace information ... OK
  • checking package dependencies ... OK
  • checking if this is a source package ... OK
  • checking if there is a namespace ... OK
  • checking for executable files ... OK
  • checking for hidden files and directories ... OK
  • checking for portable file names ... OK
  • checking for sufficient/correct file permissions ... OK
  • checking whether package ‘git2r’ can be installed ... [13s/15s] OK See the install log for details.
  • used C compiler: ‘Apple clang version 14.0.3 (clang-1403.0.22.14.1)’
  • used SDK: ‘MacOSX11.3.sdk’
  • checking installed package size ... INFO   installed size is 8.0Mb   sub-directories of 1Mb or more:     libs 7.5Mb
  • checking package directory ... OK
  • checking DESCRIPTION meta-information ... OK
  • checking top-level files ... OK
  • checking for left-over files ... OK
  • checking index information ... OK
  • checking package subdirectories ... OK
  • checking code files for non-ASCII characters ... OK
  • checking R files for syntax errors ... OK
  • checking whether the package can be loaded ... [0s/0s] OK
  • checking whether the package can be loaded with stated dependencies ... [0s/0s] OK
  • checking whether the package can be unloaded cleanly ... [0s/0s] OK
  • checking whether the namespace can be loaded with stated dependencies ... [0s/0s] OK
  • checking whether the namespace can be unloaded cleanly ... [0s/0s] OK
  • checking loading without being on the library search path ... [0s/0s] OK
  • checking dependencies in R code ... OK
  • checking S3 generic/method consistency ... OK
  • checking replacement functions ... OK
  • checking foreign function calls ... OK
  • checking R code for possible problems ... [3s/4s] OK
  • checking Rd files ... [1s/1s] OK
  • checking Rd metadata ... OK
  • checking Rd cross-references ... OK
  • checking for missing documentation entries ... OK
  • checking for code/documentation mismatches ... OK
  • checking Rd \usage sections ... OK
  • checking Rd contents ... OK
  • checking for unstated dependencies in examples ... OK
  • checking line endings in shell scripts ... OK
  • checking line endings in C/C++/Fortran sources/headers ... OK
  • checking line endings in Makefiles ... OK
  • checking compilation flags in Makevars ... OK
  • checking for GNU extensions in Makefiles ... OK
  • checking for portable use of $(BLAS_LIBS) and $(LAPACK_LIBS) ... OK
  • checking use of PKG_*FLAGS in Makefiles ... OK
  • checking compiled code ... OK
  • checking examples ... [0s/0s] OK
  • checking for unstated dependencies in ‘tests’ ... OK
  • checking tests ... [18s/31s] OK   Running ‘add-force.R’ [0s/0s]   Running ‘bare_repository.R’ [0s/0s]   Running ‘blame.R’ [0s/0s]   Running ‘blob.R’ [0s/1s]   Running ‘branch.R’ [0s/0s]   Running ‘bundle.R’ [0s/0s]   Running ‘checkout-named-branch.R’ [0s/1s]   Running ‘checkout.R’ [0s/1s]   Running ‘checkout_branch.R’ [0s/0s]   Running ‘checkout_commit.R’ [0s/0s]   Running ‘checkout_tag.R’ [0s/0s]   Running ‘clone_bare.R’ [0s/0s]   Running ‘clone_branch.R’ [0s/0s]   Running ‘clone_checkout.R’ [0s/0s]   Running ‘commit.R’ [1s/1s]   Running ‘commits_path.R’ [1s/7s]   Running ‘config.R’ [0s/1s]   Running ‘diff.R’ [0s/1s]   Running ‘fast_forward_merge.R’ [0s/1s]   Running ‘fetch.R’ [0s/1s]   Running ‘graph.R’ [0s/1s]   Running ‘index.R’ [0s/1s]   Running ‘invalid-conf-var.R’ [0s/0s]   Running ‘libgit2.R’ [0s/0s]   Running ‘ls_tree.R’ [0s/0s]   Running ‘merge.R’ [0s/1s]   Running ‘merge_named_branch.R’ [0s/1s]   Running ‘normal_merge.R’ [0s/1s]   Running ‘note.R’ [0s/1s]   Running ‘odb_blobs.R’ [0s/0s]   Running ‘pre-process-path.R’ [0s/0s]   Running ‘pull.R’ [1s/1s]   Running ‘push-force.R’ [0s/1s]   Running ‘push.R’ [0s/1s]   Running ‘reference.R’ [0s/0s]   Running ‘reflog.R’ [0s/0s]   Running ‘refspec.R’ [0s/0s]   Running ‘remotes.R’ [0s/0s]   Running ‘remove.R’ [0s/0s]   Running ‘repository.R’ [0s/0s]   Running ‘reset.R’ [0s/0s]   Running ‘revparse.R’ [0s/0s]   Running ‘signature.R’ [0s/0s]   Running ‘stash.R’ [0s/0s]   Running ‘status.R’ [0s/0s]   Running ‘tag.R’ [0s/0s]   Running ‘time.R’ [0s/0s]   Running ‘tree.R’ [0s/0s]   Running ‘when.R’ [0s/0s]
  • checking PDF version of manual ... [8s/12s] OK
  • DONE Status: OK
  • using check arguments '--no-clean-on-error '