• using R version 4.0.2 (2020-06-22)
  • using platform: x86_64-apple-darwin17.0 (64-bit)
  • using session charset: UTF-8
  • checking for file ‘gaussquad/DESCRIPTION’ ... OK
  • this is package ‘gaussquad’ version ‘1.0-2’
  • checking package namespace information ... OK
  • checking package dependencies ... OK
  • checking if this is a source package ... OK
  • checking if there is a namespace ... OK
  • checking for executable files ... OK
  • checking for hidden files and directories ... OK
  • checking for portable file names ... OK
  • checking for sufficient/correct file permissions ... OK
  • checking whether package ‘gaussquad’ can be installed ... [3s/3s] OK
  • checking installed package size ... OK
  • checking package directory ... OK
  • checking DESCRIPTION meta-information ... OK
  • checking top-level files ... OK
  • checking for left-over files ... OK
  • checking index information ... OK
  • checking package subdirectories ... OK
  • checking R files for non-ASCII characters ... OK
  • checking R files for syntax errors ... OK
  • checking whether the package can be loaded ... OK
  • checking whether the package can be loaded with stated dependencies ... OK
  • checking whether the package can be unloaded cleanly ... OK
  • checking whether the namespace can be loaded with stated dependencies ... OK
  • checking whether the namespace can be unloaded cleanly ... OK
  • checking loading without being on the library search path ... OK
  • checking dependencies in R code ... NOTE
    'library' or 'require' call to ‘orthopolynom’ which was already attached by Depends.
      Please remove these calls from your code.
    Packages in Depends field not imported from:
      ‘orthopolynom’ ‘polynom’
      These packages need to be imported from (in the NAMESPACE file)
      for when this namespace is loaded but not attached.
  • checking S3 generic/method consistency ... OK
  • checking replacement functions ... OK
  • checking foreign function calls ... OK
  • checking R code for possible problems ... [3s/4s] NOTE
    chebyshev.c.quadrature : <anonymous>: no visible global function
      definition for ‘chebyshev.c.weight’
    chebyshev.c.quadrature.rules: no visible global function definition for
      ‘chebyshev.c.recurrences’
    chebyshev.c.quadrature.rules: no visible global function definition for
      ‘chebyshev.c.inner.products’
    chebyshev.s.quadrature : <anonymous>: no visible global function
      definition for ‘chebyshev.s.weight’
    chebyshev.s.quadrature.rules: no visible global function definition for
      ‘chebyshev.s.recurrences’
    chebyshev.s.quadrature.rules: no visible global function definition for
      ‘chebyshev.s.inner.products’
    chebyshev.t.quadrature : <anonymous>: no visible global function
      definition for ‘chebyshev.t.weight’
    chebyshev.t.quadrature.rules: no visible global function definition for
      ‘chebyshev.t.recurrences’
    chebyshev.t.quadrature.rules: no visible global function definition for
      ‘chebyshev.t.inner.products’
    chebyshev.u.quadrature : <anonymous>: no visible global function
      definition for ‘chebyshev.u.weight’
    chebyshev.u.quadrature.rules: no visible global function definition for
      ‘chebyshev.u.recurrences’
    chebyshev.u.quadrature.rules: no visible global function definition for
      ‘chebyshev.u.inner.products’
    gegenbauer.quadrature : <anonymous>: no visible global function
      definition for ‘gegenbauer.weight’
    gegenbauer.quadrature.rules: no visible global function definition for
      ‘gegenbauer.recurrences’
    gegenbauer.quadrature.rules: no visible global function definition for
      ‘gegenbauer.inner.products’
    ghermite.h.quadrature : <anonymous>: no visible global function
      definition for ‘ghermite.h.weight’
    ghermite.h.quadrature.rules: no visible global function definition for
      ‘ghermite.h.recurrences’
    ghermite.h.quadrature.rules: no visible global function definition for
      ‘ghermite.h.inner.products’
    glaguerre.quadrature : <anonymous>: no visible global function
      definition for ‘glaguerre.weight’
    glaguerre.quadrature.rules: no visible global function definition for
      ‘glaguerre.recurrences’
    glaguerre.quadrature.rules: no visible global function definition for
      ‘glaguerre.inner.products’
    hermite.h.quadrature : <anonymous>: no visible global function
      definition for ‘hermite.h.weight’
    hermite.h.quadrature.rules: no visible global function definition for
      ‘hermite.h.recurrences’
    hermite.h.quadrature.rules: no visible global function definition for
      ‘hermite.h.inner.products’
    hermite.he.quadrature : <anonymous>: no visible global function
      definition for ‘hermite.he.weight’
    hermite.he.quadrature.rules: no visible global function definition for
      ‘hermite.he.recurrences’
    hermite.he.quadrature.rules: no visible global function definition for
      ‘hermite.he.inner.products’
    jacobi.g.quadrature : <anonymous>: no visible global function
      definition for ‘jacobi.g.weight’
    jacobi.g.quadrature.rules: no visible global function definition for
      ‘jacobi.g.recurrences’
    jacobi.g.quadrature.rules: no visible global function definition for
      ‘jacobi.g.inner.products’
    jacobi.p.quadrature : <anonymous>: no visible global function
      definition for ‘jacobi.p.weight’
    jacobi.p.quadrature.rules: no visible global function definition for
      ‘jacobi.p.recurrences’
    jacobi.p.quadrature.rules: no visible global function definition for
      ‘jacobi.p.inner.products’
    laguerre.quadrature : <anonymous>: no visible global function
      definition for ‘laguerre.weight’
    legendre.quadrature : <anonymous>: no visible global function
      definition for ‘legendre.weight’
    legendre.quadrature.rules: no visible global function definition for
      ‘legendre.recurrences’
    legendre.quadrature.rules: no visible global function definition for
      ‘legendre.inner.products’
    quadrature.rules: no visible global function definition for
      ‘monic.polynomial.recurrences’
    quadrature.rules: no visible global function definition for
      ‘jacobi.matrices’
    quadrature.rules: no visible global function definition for
      ‘polynomial.roots’
    schebyshev.t.quadrature : <anonymous>: no visible global function
      definition for ‘schebyshev.t.weight’
    schebyshev.t.quadrature.rules: no visible global function definition
      for ‘schebyshev.t.recurrences’
    schebyshev.t.quadrature.rules: no visible global function definition
      for ‘schebyshev.t.inner.products’
    schebyshev.u.quadrature : <anonymous>: no visible global function
      definition for ‘schebyshev.u.weight’
    schebyshev.u.quadrature.rules: no visible global function definition
      for ‘schebyshev.u.recurrences’
    schebyshev.u.quadrature.rules: no visible global function definition
      for ‘schebyshev.u.inner.products’
    slegendre.quadrature : <anonymous>: no visible global function
      definition for ‘slegendre.weight’
    slegendre.quadrature.rules: no visible global function definition for
      ‘slegendre.recurrences’
    slegendre.quadrature.rules: no visible global function definition for
      ‘slegendre.inner.products’
    spherical.quadrature : <anonymous>: no visible global function
      definition for ‘spherical.weight’
    ultraspherical.quadrature : <anonymous>: no visible global function
      definition for ‘ultraspherical.weight’
    Undefined global functions or variables:
      chebyshev.c.inner.products chebyshev.c.recurrences chebyshev.c.weight
      chebyshev.s.inner.products chebyshev.s.recurrences chebyshev.s.weight
      chebyshev.t.inner.products chebyshev.t.recurrences chebyshev.t.weight
      chebyshev.u.inner.products chebyshev.u.recurrences chebyshev.u.weight
      gegenbauer.inner.products gegenbauer.recurrences gegenbauer.weight
      ghermite.h.inner.products ghermite.h.recurrences ghermite.h.weight
      glaguerre.inner.products glaguerre.recurrences glaguerre.weight
      hermite.h.inner.products hermite.h.recurrences hermite.h.weight
      hermite.he.inner.products hermite.he.recurrences hermite.he.weight
      jacobi.g.inner.products jacobi.g.recurrences jacobi.g.weight
      jacobi.matrices jacobi.p.inner.products jacobi.p.recurrences
      jacobi.p.weight laguerre.weight legendre.inner.products
      legendre.recurrences legendre.weight monic.polynomial.recurrences
      polynomial.roots schebyshev.t.inner.products schebyshev.t.recurrences
      schebyshev.t.weight schebyshev.u.inner.products
      schebyshev.u.recurrences schebyshev.u.weight slegendre.inner.products
      slegendre.recurrences slegendre.weight spherical.weight
      ultraspherical.weight
  • checking Rd files ... OK
  • checking Rd metadata ... OK
  • checking Rd cross-references ... OK
  • checking for missing documentation entries ... OK
  • checking for code/documentation mismatches ... OK
  • checking Rd \usage sections ... OK
  • checking Rd contents ... OK
  • checking for unstated dependencies in examples ... OK
  • checking examples ... [4s/5s] OK
  • checking PDF version of manual ... OK
  • DONE
    Status: 2 NOTEs