- using R version 4.3.0 beta (2023-04-08 r84203)
- using platform: x86_64-apple-darwin20 (64-bit)
- R was compiled by
Apple clang version 14.0.3 (clang-1403.0.22.14.1)
GNU Fortran (GCC) 12.2.0
- running under: macOS Ventura 13.3
- using session charset: UTF-8
- checking for file ‘dslice/DESCRIPTION’ ... OK
- checking extension type ... Package
- this is package ‘dslice’ version ‘1.2.0’
- checking package namespace information ... OK
- checking package dependencies ... OK
- checking if this is a source package ... OK
- checking if there is a namespace ... OK
- checking for executable files ... OK
- checking for hidden files and directories ... OK
- checking for portable file names ... OK
- checking for sufficient/correct file permissions ... OK
- checking whether package ‘dslice’ can be installed ... [36s/49s] OK
See the install log for details.
- used C++ compiler: ‘Apple clang version 14.0.3 (clang-1403.0.22.14.1)’
- used SDK: ‘MacOSX11.3.sdk’
- checking installed package size ... OK
- checking package directory ... OK
- checking ‘build’ directory ... OK
- checking DESCRIPTION meta-information ... OK
- checking top-level files ... OK
- checking for left-over files ... OK
- checking index information ... OK
- checking package subdirectories ... OK
- checking R files for non-ASCII characters ... OK
- checking R files for syntax errors ... OK
- checking whether the package can be loaded ... [1s/1s] OK
- checking whether the package can be loaded with stated dependencies ... [1s/1s] OK
- checking whether the package can be unloaded cleanly ... [1s/1s] OK
- checking whether the namespace can be loaded with stated dependencies ... [1s/1s] OK
- checking whether the namespace can be unloaded cleanly ... [1s/1s] OK
- checking loading without being on the library search path ... [1s/1s] OK
- checking dependencies in R code ... OK
- checking S3 generic/method consistency ... OK
- checking replacement functions ... OK
- checking foreign function calls ... OK
- checking R code for possible problems ... [3s/3s] OK
- checking Rd files ... [0s/0s] OK
- checking Rd metadata ... OK
- checking Rd cross-references ... OK
- checking for missing documentation entries ... OK
- checking for code/documentation mismatches ... OK
- checking Rd \usage sections ... OK
- checking Rd contents ... OK
- checking for unstated dependencies in examples ... OK
- checking contents of ‘data’ directory ... OK
- checking data for non-ASCII characters ... [0s/0s] OK
- checking data for ASCII and uncompressed saves ... OK
- checking line endings in C/C++/Fortran sources/headers ... OK
- checking compiled code ... OK
- checking sizes of PDF files under ‘inst/doc’ ... OK
- checking installed files from ‘inst/doc’ ... OK
- checking files in ‘vignettes’ ... OK
- checking examples ... [1s/2s] OK
- checking for unstated dependencies in vignettes ... OK
- checking package vignettes in ‘inst/doc’ ... OK
- checking running R code from vignettes ... [2s/2s] OK
‘dslice.Rnw’... [2s/2s] OK
- checking re-building of vignette outputs ... [9s/13s] NOTE
Error(s) in re-building vignettes:
--- re-building ‘dslice.Rnw’ using Sweave
Loading required package: Rcpp
Loading required package: ggplot2
Loading required package: scales
Data sets in package ‘datasets’:
AirPassengers Monthly Airline Passenger Numbers 1949-1960
BJsales Sales Data with Leading Indicator
BJsales.lead (BJsales)
Sales Data with Leading Indicator
BOD Biochemical Oxygen Demand
CO2 Carbon Dioxide Uptake in Grass Plants
ChickWeight Weight versus age of chicks on different diets
DNase Elisa assay of DNase
EuStockMarkets Daily Closing Prices of Major European Stock
Indices, 1991-1998
Formaldehyde Determination of Formaldehyde
HairEyeColor Hair and Eye Color of Statistics Students
Harman23.cor Harman Example 2.3
Harman74.cor Harman Example 7.4
Indometh Pharmacokinetics of Indomethacin
InsectSprays Effectiveness of Insect Sprays
JohnsonJohnson Quarterly Earnings per Johnson & Johnson Share
LakeHuron Level of Lake Huron 1875-1972
LifeCycleSavings Intercountry Life-Cycle Savings Data
Loblolly Growth of Loblolly pine trees
Nile Flow of the River Nile
Orange Growth of Orange Trees
OrchardSprays Potency of Orchard Sprays
PlantGrowth Results from an Experiment on Plant Growth
Puromycin Reaction Velocity of an Enzymatic Reaction
Seatbelts Road Casualties in Great Britain 1969-84
Theoph Pharmacokinetics of Theophylline
Titanic Survival of passengers on the Titanic
ToothGrowth The Effect of Vitamin C on Tooth Growth in
Guinea Pigs
UCBAdmissions Student Admissions at UC Berkeley
UKDriverDeaths Road Casualties in Great Britain 1969-84
UKgas UK Quarterly Gas Consumption
USAccDeaths Accidental Deaths in the US 1973-1978
USArrests Violent Crime Rates by US State
USJudgeRatings Lawyers' Ratings of State Judges in the US
Superior Court
USPersonalExpenditure Personal Expenditure Data
UScitiesD Distances Between European Cities and Between
US Cities
VADeaths Death Rates in Virginia (1940)
WWWusage Internet Usage per Minute
WorldPhones The World's Telephones
ability.cov Ability and Intelligence Tests
airmiles Passenger Miles on Commercial US Airlines,
1937-1960
airquality New York Air Quality Measurements
anscombe Anscombe's Quartet of 'Identical' Simple Linear
Regressions
attenu The Joyner-Boore Attenuation Data
attitude The Chatterjee-Price Attitude Data
austres Quarterly Time Series of the Number of
Australian Residents
beaver1 (beavers) Body Temperature Series of Two Beavers
beaver2 (beavers) Body Temperature Series of Two Beavers
cars Speed and Stopping Distances of Cars
chickwts Chicken Weights by Feed Type
co2 Mauna Loa Atmospheric CO2 Concentration
crimtab Student's 3000 Criminals Data
discoveries Yearly Numbers of Important Discoveries
esoph Smoking, Alcohol and (O)esophageal Cancer
euro Conversion Rates of Euro Currencies
euro.cross (euro) Conversion Rates of Euro Currencies
eurodist Distances Between European Cities and Between
US Cities
faithful Old Faithful Geyser Data
fdeaths (UKLungDeaths)
Monthly Deaths from Lung Diseases in the UK
freeny Freeny's Revenue Data
freeny.x (freeny) Freeny's Revenue Data
freeny.y (freeny) Freeny's Revenue Data
infert Infertility after Spontaneous and Induced
Abortion
iris Edgar Anderson's Iris Data
iris3 Edgar Anderson's Iris Data
islands Areas of the World's Major Landmasses
ldeaths (UKLungDeaths)
Monthly Deaths from Lung Diseases in the UK
lh Luteinizing Hormone in Blood Samples
longley Longley's Economic Regression Data
lynx Annual Canadian Lynx trappings 1821-1934
mdeaths (UKLungDeaths)
Monthly Deaths from Lung Diseases in the UK
morley Michelson Speed of Light Data
mtcars Motor Trend Car Road Tests
nhtemp Average Yearly Temperatures in New Haven
nottem Average Monthly Temperatures at Nottingham,
1920-1939
npk Classical N, P, K Factorial Experiment
occupationalStatus Occupational Status of Fathers and their Sons
precip Annual Precipitation in US Cities
presidents Quarterly Approval Ratings of US Presidents
pressure Vapor Pressure of Mercury as a Function of
Temperature
quakes Locations of Earthquakes off Fiji
randu Random Numbers from Congruential Generator
RANDU
rivers Lengths of Major North American Rivers
rock Measurements on Petroleum Rock Samples
sleep Student's Sleep Data
stack.loss (stackloss)
Brownlee's Stack Loss Plant Data
stack.x (stackloss) Brownlee's Stack Loss Plant Data
stackloss Brownlee's Stack Loss Plant Data
state.abb (state) US State Facts and Figures
state.area (state) US State Facts and Figures
state.center (state) US State Facts and Figures
state.division (state)
US State Facts and Figures
state.name (state) US State Facts and Figures
state.region (state) US State Facts and Figures
state.x77 (state) US State Facts and Figures
sunspot.month Monthly Sunspot Data, from 1749 to "Present"
sunspot.year Yearly Sunspot Data, 1700-1988
sunspots Monthly Sunspot Numbers, 1749-1983
swiss Swiss Fertility and Socioeconomic Indicators
(1888) Data
treering Yearly Treering Data, -6000-1979
trees Diameter, Height and Volume for Black Cherry
Trees
uspop Populations Recorded by the US Census
volcano Topographic Information on Auckland's Maunga
Whau Volcano
warpbreaks The Number of Breaks in Yarn during Weaving
women Average Heights and Weights for American Women
Data sets in package ‘dslice’:
gsa_exp Gene expression matrix in gene set analysis
gsa_label Sample labels in gene set analysis
gsa_set Gene set list in gene set analysis
Data sets in package ‘ggplot2’:
diamonds Prices of over 50,000 round cut diamonds
economics US economic time series
economics_long US economic time series
faithfuld 2d density estimate of Old Faithful data
luv_colours 'colors()' in Luv space
midwest Midwest demographics
mpg Fuel economy data from 1999 to 2008 for 38
popular models of cars
msleep An updated and expanded version of the mammals
sleep dataset
presidential Terms of 12 presidents from Eisenhower to Trump
seals Vector field of seal movements
txhousing Housing sales in TX
Use ‘data(package = .packages(all.available = TRUE))’
to list the data sets in all *available* packages.
Error: processing vignette 'dslice.Rnw' failed with diagnostics:
Running 'texi2dvi' on 'dslice.tex' failed.
LaTeX errors:
! LaTeX Error: File `tkz-euclide.sty' not found.
Type X to quit or <RETURN> to proceed,
or enter new name. (Default extension: sty)
! Emergency stop.
<read *>
l.14 \usetikzlibrary
{decorations.pathreplacing}^^M
! ==> Fatal error occurred, no output PDF file produced!
--- failed re-building ‘dslice.Rnw’
SUMMARY: processing the following file failed:
‘dslice.Rnw’
Error: Vignette re-building failed.
Execution halted
- checking PDF version of manual ... [4s/5s] OK
- DONE
Status: 1 NOTE
- using check arguments '--no-clean-on-error '