• using R version 4.3.0 RC (2023-04-13 r84266)
  • using platform: x86_64-apple-darwin20 (64-bit)
  • R was compiled by
        Apple clang version 14.0.3 (clang-1403.0.22.14.1)
        GNU Fortran (GCC) 12.2.0
  • running under: macOS Ventura 13.3
  • using session charset: UTF-8
  • checking for file ‘colorSpec/DESCRIPTION’ ... OK
  • checking extension type ... Package
  • this is package ‘colorSpec’ version ‘1.4-0’
  • package encoding: UTF-8
  • checking package namespace information ... OK
  • checking package dependencies ... OK
  • checking if this is a source package ... OK
  • checking if there is a namespace ... OK
  • checking for executable files ... OK
  • checking for hidden files and directories ... OK
  • checking for portable file names ... OK
  • checking for sufficient/correct file permissions ... OK
  • checking whether package ‘colorSpec’ can be installed ... [2s/5s] OK
    See the install log for details.
  • checking installed package size ... NOTE
      installed size is 5.3Mb
      sub-directories of 1Mb or more:
        doc 2.4Mb
        extdata 2.1Mb
  • checking package directory ... OK
  • checking ‘build’ directory ... OK
  • checking DESCRIPTION meta-information ... OK
  • checking top-level files ... OK
  • checking for left-over files ... OK
  • checking index information ... OK
  • checking package subdirectories ... OK
  • checking R files for non-ASCII characters ... OK
  • checking R files for syntax errors ... OK
  • checking whether the package can be loaded ... [0s/0s] OK
  • checking whether the package can be loaded with stated dependencies ... [0s/0s] OK
  • checking whether the package can be unloaded cleanly ... [0s/0s] OK
  • checking whether the namespace can be loaded with stated dependencies ... [0s/0s] OK
  • checking whether the namespace can be unloaded cleanly ... [0s/0s] OK
  • checking loading without being on the library search path ... [0s/0s] OK
  • checking startup messages can be suppressed ... [0s/0s] OK
  • checking dependencies in R code ... OK
  • checking S3 generic/method consistency ... OK
  • checking replacement functions ... OK
  • checking foreign function calls ... OK
  • checking R code for possible problems ... [15s/20s] OK
  • checking Rd files ... [1s/1s] OK
  • checking Rd metadata ... OK
  • checking Rd cross-references ... OK
  • checking for missing documentation entries ... OK
  • checking for code/documentation mismatches ... OK
  • checking Rd \usage sections ... OK
  • checking Rd contents ... OK
  • checking for unstated dependencies in examples ... OK
  • checking contents of ‘data’ directory ... OK
  • checking data for non-ASCII characters ... [0s/0s] OK
  • checking LazyData ... OK
  • checking data for ASCII and uncompressed saves ... OK
  • checking R/sysdata.rda ... OK
  • checking sizes of PDF files under ‘inst/doc’ ... OK
  • checking installed files from ‘inst/doc’ ... OK
  • checking files in ‘vignettes’ ... OK
  • checking examples ... [4s/5s] OK
  • checking for unstated dependencies in ‘tests’ ... OK
  • checking tests ... [11s/14s] OK
      Running ‘test-CGATS.R’ [1s/1s]
      Running ‘test-atmos.R’ [0s/0s]
      Running ‘test-bands.R’ [1s/1s]
      Running ‘test-emulate.R’ [1s/1s]
      Running ‘test-inventory.R’ [0s/0s]
      Running ‘test-invert.R’ [2s/3s]
      Running ‘test-optimals.R’ [1s/1s]
      Running ‘test-organization.R’ [0s/0s]
      Running ‘test-product.R’ [1s/1s]
      Running ‘test-read.R’ [2s/3s]
      Running ‘test-sink.R’ [0s/1s]
  • checking for unstated dependencies in vignettes ... OK
  • checking package vignettes in ‘inst/doc’ ... OK
  • checking running R code from vignettes ... [3s/4s] NONE
      ‘colorSpec-guide.Rmd’ using ‘UTF-8’... [0s/0s] OK
      ‘phenolred.Rmd’ using ‘UTF-8’... [0s/0s] OK
      ‘photoncounting.Rmd’ using ‘UTF-8’... [0s/0s] OK
      ‘blueflame.rnw’ using ‘UTF-8’... [0s/0s] OK
      ‘convexity.rnw’ using ‘UTF-8’... [0s/0s] OK
      ‘emulation.rnw’ using ‘UTF-8’... [0s/0s] OK
      ‘gallery.rnw’ using ‘UTF-8’... [0s/0s] OK
      ‘inversion.rnw’ using ‘UTF-8’... [0s/0s] OK
      ‘lens-aging.rnw’ using ‘UTF-8’... [0s/0s] OK
      ‘optimals.rnw’ using ‘UTF-8’... [0s/0s] OK
  • checking re-building of vignette outputs ... [73s/106s] OK
  • checking PDF version of manual ... [9s/12s] OK
  • DONE
    Status: 1 NOTE
  • using check arguments '--no-clean-on-error '