• using R version 4.3.0 beta (2023-04-08 r84203)
  • using platform: x86_64-apple-darwin20 (64-bit)
  • R was compiled by
        Apple clang version 14.0.3 (clang-1403.0.22.14.1)
        GNU Fortran (GCC) 12.2.0
  • running under: macOS Ventura 13.3
  • using session charset: UTF-8
  • checking for file ‘coin/DESCRIPTION’ ... OK
  • this is package ‘coin’ version ‘1.4-2’
  • checking package namespace information ... OK
  • checking package dependencies ... OK
  • checking if this is a source package ... OK
  • checking if there is a namespace ... OK
  • checking for executable files ... OK
  • checking for hidden files and directories ... OK
  • checking for portable file names ... OK
  • checking for sufficient/correct file permissions ... OK
  • checking whether package ‘coin’ can be installed ... [11s/14s] OK
    See the install log for details.
  • used C compiler: ‘Apple clang version 14.0.3 (clang-1403.0.22.14.1)’
  • used SDK: ‘MacOSX11.3.sdk’
  • checking installed package size ... OK
  • checking package directory ... OK
  • checking ‘build’ directory ... OK
  • checking DESCRIPTION meta-information ... OK
  • checking top-level files ... OK
  • checking for left-over files ... OK
  • checking index information ... OK
  • checking package subdirectories ... OK
  • checking R files for non-ASCII characters ... OK
  • checking R files for syntax errors ... OK
  • checking whether the package can be loaded ... [1s/2s] OK
  • checking whether the package can be loaded with stated dependencies ... [1s/2s] OK
  • checking whether the package can be unloaded cleanly ... [1s/2s] OK
  • checking whether the namespace can be loaded with stated dependencies ... [1s/2s] OK
  • checking whether the namespace can be unloaded cleanly ... [1s/2s] OK
  • checking loading without being on the library search path ... [1s/2s] OK
  • checking startup messages can be suppressed ... [1s/2s] OK
  • checking dependencies in R code ... OK
  • checking S3 generic/method consistency ... OK
  • checking replacement functions ... OK
  • checking foreign function calls ... OK
  • checking R code for possible problems ... [9s/12s] OK
  • checking Rd files ... [1s/2s] OK
  • checking Rd metadata ... OK
  • checking Rd cross-references ... OK
  • checking for missing documentation entries ... OK
  • checking for code/documentation mismatches ... OK
  • checking Rd \usage sections ... OK
  • checking Rd contents ... OK
  • checking for unstated dependencies in examples ... OK
  • checking contents of ‘data’ directory ... OK
  • checking data for non-ASCII characters ... [0s/0s] OK
  • checking LazyData ... OK
  • checking data for ASCII and uncompressed saves ... OK
  • checking line endings in shell scripts ... OK
  • checking line endings in C/C++/Fortran sources/headers ... OK
  • checking line endings in Makefiles ... OK
  • checking compilation flags in Makevars ... OK
  • checking for GNU extensions in Makefiles ... OK
  • checking for portable use of $(BLAS_LIBS) and $(LAPACK_LIBS) ... OK
  • checking use of PKG_*FLAGS in Makefiles ... OK
  • checking compiled code ... OK
  • checking sizes of PDF files under ‘inst/doc’ ... OK
  • checking installed files from ‘inst/doc’ ... OK
  • checking files in ‘vignettes’ ... OK
  • checking examples ... [13s/17s] OK
  • checking differences from ‘coin-Ex.Rout’ to ‘coin-Ex.Rout.save’ ... OK
  • checking for unstated dependencies in ‘tests’ ... OK
  • checking tests ... [38s/48s] OK
      Running ‘bugfixes.R’ [3s/4s]
      Comparing ‘bugfixes.Rout’ to ‘bugfixes.Rout.save’ ... OK
      Running ‘comparisons.R’ [3s/4s]
      Comparing ‘comparisons.Rout’ to ‘comparisons.Rout.save’ ... OK
      Running ‘regtest_2sample.R’ [3s/4s]
      Comparing ‘regtest_2sample.Rout’ to ‘regtest_2sample.Rout.save’ ... OK
      Running ‘regtest_Ksample.R’ [2s/3s]
      Comparing ‘regtest_Ksample.Rout’ to ‘regtest_Ksample.Rout.save’ ... OK
      Running ‘regtest_MTP.R’ [3s/4s]
      Comparing ‘regtest_MTP.Rout’ to ‘regtest_MTP.Rout.save’ ... OK
      Running ‘regtest_contingency.R’ [2s/3s]
      Comparing ‘regtest_contingency.Rout’ to ‘regtest_contingency.Rout.save’ ... OK
      Running ‘regtest_correlation.R’ [2s/2s]
      Comparing ‘regtest_correlation.Rout’ to ‘regtest_correlation.Rout.save’ ... OK
      Running ‘regtest_distribution.R’ [7s/9s]
      Comparing ‘regtest_distribution.Rout’ to ‘regtest_distribution.Rout.save’ ... OK
      Running ‘regtest_helpers.R’ [2s/2s]
      Comparing ‘regtest_helpers.Rout’ to ‘regtest_helpers.Rout.save’ ... OK
      Running ‘regtest_midpvalue.R’ [2s/3s]
      Comparing ‘regtest_midpvalue.Rout’ to ‘regtest_midpvalue.Rout.save’ ... OK
      Running ‘regtest_names.R’ [4s/5s]
      Comparing ‘regtest_names.Rout’ to ‘regtest_names.Rout.save’ ... OK
      Running ‘regtest_size.R’ [2s/3s]
      Comparing ‘regtest_size.Rout’ to ‘regtest_size.Rout.save’ ... OK
      Running ‘regtest_trafo.R’ [2s/2s]
      Comparing ‘regtest_trafo.Rout’ to ‘regtest_trafo.Rout.save’ ...127c127
    < [1] 1.274162e+00 8.817477e-01 NA 1.110223e-16 1.110223e-16
    ---
    > [1] 1.274162e+00 8.817477e-01 NA 5.551115e-17 5.551115e-17
    130c130
    < [1] 1.274162e+00 8.817477e-01 1.110223e-16 1.110223e-16 -8.817477e-01
    ---
    > [1] 1.274162e+00 8.817477e-01 5.551115e-17 5.551115e-17 -8.817477e-01
  • checking for unstated dependencies in vignettes ... OK
  • checking package vignettes in ‘inst/doc’ ... OK
  • checking running R code from vignettes ... [22s/29s] OK
      ‘Implementation.Rnw’... [2s/3s] OK
      ‘LegoCondInf.Rnw’... [3s/3s] OK
      ‘MAXtest.Rnw’... [14s/20s] OK
      ‘coin.Rnw’... [2s/2s] OK
  • checking re-building of vignette outputs ... [54s/69s] NOTE
    Error(s) in re-building vignettes:
    --- re-building ‘Implementation.Rnw’ using Sweave
    Loading required package: survival
    Loading required package: grid
    --- finished re-building ‘Implementation.Rnw’

    --- re-building ‘LegoCondInf.Rnw’ using Sweave
    Loading required package: coin
    Loading required package: survival
    Error: processing vignette 'LegoCondInf.Rnw' failed with diagnostics:
    Running 'texi2dvi' on 'LegoCondInf.tex' failed.
    LaTeX errors:
    ! LaTeX Error: File `relsize.sty' not found.

    Type X to quit or <RETURN> to proceed,
    or enter new name. (Default extension: sty)

    ! Emergency stop.
    <read *>
             
    l.77 ^^M
            
    ! ==> Fatal error occurred, no output PDF file produced!
    --- failed re-building ‘LegoCondInf.Rnw’

    --- re-building ‘MAXtest.Rnw’ using Sweave
    Loading required package: survival
    --- finished re-building ‘MAXtest.Rnw’

    --- re-building ‘coin.Rnw’ using Sweave
    Loading required package: coin
    Loading required package: survival
    Warning in .local(object, ...) :
      p-values may be incorrect due to violation
      of the subset pivotality condition
    --- finished re-building ‘coin.Rnw’

    SUMMARY: processing the following file failed:
      ‘LegoCondInf.Rnw’

    Error: Vignette re-building failed.
    Execution halted
  • checking PDF version of manual ... [8s/11s] OK
  • DONE
    Status: 1 NOTE
  • using check arguments '--no-clean-on-error '