• using R version 4.2.0 (2022-04-22)
  • using platform: x86_64-apple-darwin17.0 (64-bit)
  • using session charset: UTF-8
  • checking for file ‘cobs/DESCRIPTION’ ... OK
  • this is package ‘cobs’ version ‘1.3-4’
  • checking package namespace information ... OK
  • checking package dependencies ... OK
  • checking if this is a source package ... OK
  • checking if there is a namespace ... OK
  • checking for executable files ... OK
  • checking for hidden files and directories ... OK
  • checking for portable file names ... OK
  • checking for sufficient/correct file permissions ... OK
  • checking whether package ‘cobs’ can be installed ... [7s/7s] OK
  • checking installed package size ... OK
  • checking package directory ... OK
  • checking DESCRIPTION meta-information ... OK
  • checking top-level files ... OK
  • checking for left-over files ... OK
  • checking index information ... OK
  • checking package subdirectories ... OK
  • checking R files for non-ASCII characters ... OK
  • checking R files for syntax errors ... OK
  • checking whether the package can be loaded ... OK
  • checking whether the package can be loaded with stated dependencies ... OK
  • checking whether the package can be unloaded cleanly ... OK
  • checking whether the namespace can be loaded with stated dependencies ... OK
  • checking whether the namespace can be unloaded cleanly ... OK
  • checking loading without being on the library search path ... OK
  • checking dependencies in R code ... OK
  • checking S3 generic/method consistency ... OK
  • checking replacement functions ... OK
  • checking foreign function calls ... OK
  • checking R code for possible problems ... [5s/6s] OK
  • checking Rd files ... [1s/1s] OK
  • checking Rd metadata ... OK
  • checking Rd cross-references ... OK
  • checking for missing documentation entries ... OK
  • checking for code/documentation mismatches ... OK
  • checking Rd \usage sections ... OK
  • checking Rd contents ... OK
  • checking for unstated dependencies in examples ... OK
  • checking contents of ‘data’ directory ... OK
  • checking data for non-ASCII characters ... OK
  • checking LazyData ... OK
  • checking data for ASCII and uncompressed saves ... OK
  • checking line endings in C/C++/Fortran sources/headers ... OK
  • checking line endings in Makefiles ... OK
  • checking compilation flags in Makevars ... OK
  • checking for GNU extensions in Makefiles ... OK
  • checking for portable use of $(BLAS_LIBS) and $(LAPACK_LIBS) ... OK
  • checking use of PKG_*FLAGS in Makefiles ... OK
  • checking compiled code ... OK
  • checking examples ... [6s/6s] OK
  • checking for unstated dependencies in ‘tests’ ... OK
  • checking tests ... [29s/29s] OK
      Running ‘0_pt-ex.R’ [2s/2s]
      Running ‘ex1.R’ [4s/4s]
      Running ‘ex2-long.R’ [4s/4s]
      Running ‘ex3.R’ [2s/2s]
      Comparing ‘ex3.Rout’ to ‘ex3.Rout.save’ ... OK
      Running ‘multi-constr.R’ [2s/2s]
      Comparing ‘multi-constr.Rout’ to ‘multi-constr.Rout.save’ ...236a237
    > NULL
      Running ‘roof.R’ [2s/3s]
      Comparing ‘roof.Rout’ to ‘roof.Rout.save’ ... OK
      Running ‘small-ex.R’ [2s/2s]
      Comparing ‘small-ex.Rout’ to ‘small-ex.Rout.save’ ... OK
      Running ‘spline-ex.R’ [2s/2s]
      Comparing ‘spline-ex.Rout’ to ‘spline-ex.Rout.save’ ... OK
      Running ‘temp.R’ [2s/2s]
      Comparing ‘temp.Rout’ to ‘temp.Rout.save’ ... OK
      Running ‘wind.R’ [6s/6s]
  • checking PDF version of manual ... OK
  • DONE
    Status: OK
  • using check arguments '--no-clean-on-error '