• using R version 4.5.0 beta (2025-03-29 r88074)
  • using platform: x86_64-apple-darwin20
  • R was compiled by     Apple clang version 14.0.0 (clang-1400.0.29.202)     GNU Fortran (GCC) 14.2.0
  • running under: macOS Ventura 13.3.1
  • using session charset: UTF-8
  • checking for file ‘chords/DESCRIPTION’ ... OK
  • checking extension type ... Package
  • this is package ‘chords’ version ‘0.95.4’
  • checking package namespace information ... OK
  • checking package dependencies ... OK
  • checking if this is a source package ... OK
  • checking if there is a namespace ... OK
  • checking for executable files ... OK
  • checking for hidden files and directories ... OK
  • checking for portable file names ... OK
  • checking for sufficient/correct file permissions ... OK
  • checking whether package ‘chords’ can be installed ... [4s/7s] OK See the install log for details.
  • checking installed package size ... OK
  • checking package directory ... OK
  • checking DESCRIPTION meta-information ... OK
  • checking top-level files ... OK
  • checking for left-over files ... OK
  • checking index information ... OK
  • checking package subdirectories ... OK
  • checking code files for non-ASCII characters ... OK
  • checking R files for syntax errors ... OK
  • checking whether the package can be loaded ... [1s/2s] OK
  • checking whether the package can be loaded with stated dependencies ... [1s/2s] OK
  • checking whether the package can be unloaded cleanly ... [1s/2s] OK
  • checking whether the namespace can be loaded with stated dependencies ... [1s/2s] OK
  • checking whether the namespace can be unloaded cleanly ... [1s/2s] OK
  • checking loading without being on the library search path ... [1s/2s] OK
  • checking dependencies in R code ... OK
  • checking S3 generic/method consistency ... OK
  • checking replacement functions ... OK
  • checking foreign function calls ... OK
  • checking R code for possible problems ... [4s/5s] OK
  • checking Rd files ... [0s/0s] NOTE checkRd: (-1) Estimate.b.k.Rd:23: Lost braces in \itemize; meant \describe ? checkRd: (-1) Estimate.b.k.Rd:24: Lost braces in \itemize; meant \describe ? checkRd: (-1) Estimate.b.k.Rd:25: Lost braces in \itemize; meant \describe ? checkRd: (-1) Estimate.b.k.Rd:26: Lost braces in \itemize; meant \describe ? checkRd: (-1) Estimate.b.k.Rd:27: Lost braces in \itemize; meant \describe ? checkRd: (-1) Estimate.b.k.Rd:28: Lost braces in \itemize; meant \describe ? checkRd: (-1) Estimate.b.k.Rd:29: Lost braces in \itemize; meant \describe ? checkRd: (-1) initializeRdsObject.Rd:28: Lost braces in \enumerate; meant \describe ? checkRd: (-1) initializeRdsObject.Rd:29: Lost braces in \enumerate; meant \describe ? checkRd: (-1) initializeRdsObject.Rd:30: Lost braces in \enumerate; meant \describe ? checkRd: (-1) initializeRdsObject.Rd:31: Lost braces in \enumerate; meant \describe ? checkRd: (-1) initializeRdsObject.Rd:32: Lost braces in \enumerate; meant \describe ? checkRd: (-1) initializeRdsObject.Rd:33: Lost braces in \enumerate; meant \describe ? checkRd: (-1) initializeRdsObject.Rd:46: Lost braces in \itemize; \value handles \item{}{} directly checkRd: (-1) initializeRdsObject.Rd:47-50: Lost braces in \itemize; \value handles \item{}{} directly checkRd: (-1) initializeRdsObject.Rd:48: Lost braces     48 | \item{I.t}{An integer of the count of the sampling individuals at the moments of recruitment.}        | ^ checkRd: (-1) initializeRdsObject.Rd:48: Lost braces     48 | \item{I.t}{An integer of the count of the sampling individuals at the moments of recruitment.}        | ^ checkRd: (-1) initializeRdsObject.Rd:49: Lost braces     49 | \item{degree.in}{An integer with the degree of an added recruiter at the moments of recruitment.}        | ^ checkRd: (-1) initializeRdsObject.Rd:49: Lost braces     49 | \item{degree.in}{An integer with the degree of an added recruiter at the moments of recruitment.}        | ^ checkRd: (-1) initializeRdsObject.Rd:50: Lost braces     50 | \item{degree.out}{An integer with the degree of a removed recruiter at the moment of recruitment.}}        | ^ checkRd: (-1) initializeRdsObject.Rd:50: Lost braces     50 | \item{degree.out}{An integer with the degree of a removed recruiter at the moment of recruitment.}}        | ^ checkRd: (-1) initializeRdsObject.Rd:51: Lost braces in \itemize; \value handles \item{}{} directly checkRd: (-1) initializeRdsObject.Rd:52: Lost braces in \itemize; \value handles \item{}{} directly
  • checking Rd metadata ... OK
  • checking Rd cross-references ... OK
  • checking for missing documentation entries ... OK
  • checking for code/documentation mismatches ... OK
  • checking Rd \usage sections ... OK
  • checking Rd contents ... OK
  • checking for unstated dependencies in examples ... OK
  • checking contents of ‘data’ directory ... OK
  • checking data for non-ASCII characters ... [0s/0s] OK
  • checking data for ASCII and uncompressed saves ... OK
  • checking examples ... [3s/4s] OK
  • checking for unstated dependencies in ‘tests’ ... OK
  • checking tests ... [3s/4s] OK   Running ‘testthat.R’ [3s/3s]
  • checking PDF version of manual ... [6s/8s] OK
  • DONE Status: 1 NOTE
  • using check arguments '--no-clean-on-error '