- using R version 4.3.0 beta (2023-04-08 r84203)
- using platform: x86_64-apple-darwin20 (64-bit)
- R was compiled by
Apple clang version 14.0.3 (clang-1403.0.22.14.1)
GNU Fortran (GCC) 12.2.0
- running under: macOS Ventura 13.3
- using session charset: UTF-8
- checking for file ‘RAQSAPI/DESCRIPTION’ ... OK
- checking extension type ... Package
- this is package ‘RAQSAPI’ version ‘2.0.3’
- package encoding: UTF-8
- checking package namespace information ... OK
- checking package dependencies ... OK
- checking if this is a source package ... OK
- checking if there is a namespace ... OK
- checking for executable files ... OK
- checking for hidden files and directories ... OK
- checking for portable file names ... OK
- checking for sufficient/correct file permissions ... OK
- checking whether package ‘RAQSAPI’ can be installed ... [5s/6s] OK
- checking installed package size ... OK
- checking package directory ... OK
- checking ‘build’ directory ... OK
- checking DESCRIPTION meta-information ... OK
- checking top-level files ... OK
- checking for left-over files ... OK
- checking index information ... OK
- checking package subdirectories ... OK
- checking R files for non-ASCII characters ... OK
- checking R files for syntax errors ... OK
- checking whether the package can be loaded ... [1s/1s] OK
- checking whether the package can be loaded with stated dependencies ... [1s/1s] OK
- checking whether the package can be unloaded cleanly ... [1s/1s] OK
- checking whether the namespace can be loaded with stated dependencies ... [1s/1s] OK
- checking whether the namespace can be unloaded cleanly ... [1s/1s] OK
- checking loading without being on the library search path ... [1s/1s] OK
- checking startup messages can be suppressed ... [1s/1s] OK
- checking dependencies in R code ... OK
- checking S3 generic/method consistency ... OK
- checking replacement functions ... OK
- checking foreign function calls ... OK
- checking R code for possible problems ... [4s/5s] OK
- checking Rd files ... [1s/2s] NOTE
checkRd: (-1) aqs_annualsummary_by_box.Rd:73: Escaped LaTeX specials: \$
checkRd: (-1) aqs_annualsummary_by_box.Rd:75: Escaped LaTeX specials: \$
checkRd: (-1) aqs_annualsummary_by_cbsa.Rd:54: Escaped LaTeX specials: \$
checkRd: (-1) aqs_annualsummary_by_cbsa.Rd:55: Escaped LaTeX specials: \$
checkRd: (-1) aqs_annualsummary_by_county.Rd:64: Escaped LaTeX specials: \$
checkRd: (-1) aqs_annualsummary_by_county.Rd:65: Escaped LaTeX specials: \$
checkRd: (-1) aqs_annualsummary_by_site.Rd:69: Escaped LaTeX specials: \$
checkRd: (-1) aqs_annualsummary_by_site.Rd:70: Escaped LaTeX specials: \$
checkRd: (-1) aqs_annualsummary_by_state.Rd:56: Escaped LaTeX specials: \$
checkRd: (-1) aqs_annualsummary_by_state.Rd:57: Escaped LaTeX specials: \$
checkRd: (-1) aqs_dailysummary_by_box.Rd:75: Escaped LaTeX specials: \$
checkRd: (-1) aqs_dailysummary_by_box.Rd:76: Escaped LaTeX specials: \$
checkRd: (-1) aqs_dailysummary_by_cbsa.Rd:55: Escaped LaTeX specials: \$
checkRd: (-1) aqs_dailysummary_by_cbsa.Rd:56: Escaped LaTeX specials: \$
checkRd: (-1) aqs_dailysummary_by_county.Rd:64: Escaped LaTeX specials: \$
checkRd: (-1) aqs_dailysummary_by_county.Rd:65: Escaped LaTeX specials: \$
checkRd: (-1) aqs_dailysummary_by_site.Rd:68: Escaped LaTeX specials: \$
checkRd: (-1) aqs_dailysummary_by_site.Rd:69: Escaped LaTeX specials: \$
checkRd: (-1) aqs_dailysummary_by_state.Rd:57: Escaped LaTeX specials: \$
checkRd: (-1) aqs_dailysummary_by_state.Rd:58: Escaped LaTeX specials: \$
checkRd: (-1) aqs_monitors_by_cbsa.Rd:55: Escaped LaTeX specials: \$
checkRd: (-1) aqs_monitors_by_cbsa.Rd:56: Escaped LaTeX specials: \$
checkRd: (-1) aqs_qa_flowrateaudit_by_MA.Rd:55: Escaped LaTeX specials: \$
checkRd: (-1) aqs_qa_flowrateaudit_by_MA.Rd:56: Escaped LaTeX specials: \$
checkRd: (-1) aqs_qa_flowrateaudit_by_county.Rd:64: Escaped LaTeX specials: \$
checkRd: (-1) aqs_qa_flowrateaudit_by_county.Rd:65: Escaped LaTeX specials: \$
checkRd: (-1) aqs_qa_flowrateaudit_by_pqao.Rd:55: Escaped LaTeX specials: \$
checkRd: (-1) aqs_qa_flowrateaudit_by_pqao.Rd:56: Escaped LaTeX specials: \$
checkRd: (-1) aqs_qa_flowrateaudit_by_site.Rd:68: Escaped LaTeX specials: \$
checkRd: (-1) aqs_qa_flowrateaudit_by_site.Rd:69: Escaped LaTeX specials: \$
checkRd: (-1) aqs_qa_flowrateaudit_by_state.Rd:57: Escaped LaTeX specials: \$
checkRd: (-1) aqs_qa_flowrateaudit_by_state.Rd:58: Escaped LaTeX specials: \$
checkRd: (-1) aqs_qa_one_point_qc_by_MA.Rd:54: Escaped LaTeX specials: \$
checkRd: (-1) aqs_qa_one_point_qc_by_MA.Rd:56: Escaped LaTeX specials: \$
checkRd: (-1) aqs_qa_one_point_qc_by_county.Rd:63: Escaped LaTeX specials: \$
checkRd: (-1) aqs_qa_one_point_qc_by_county.Rd:65: Escaped LaTeX specials: \$
checkRd: (-1) aqs_qa_one_point_qc_by_pqao.Rd:54: Escaped LaTeX specials: \$
checkRd: (-1) aqs_qa_one_point_qc_by_site.Rd:67: Escaped LaTeX specials: \$
checkRd: (-1) aqs_qa_one_point_qc_by_site.Rd:69: Escaped LaTeX specials: \$
checkRd: (-1) aqs_qa_one_point_qc_by_state.Rd:56: Escaped LaTeX specials: \$
checkRd: (-1) aqs_qa_one_point_qc_by_state.Rd:58: Escaped LaTeX specials: \$
checkRd: (-1) aqs_qa_pep_audit_by_MA.Rd:55: Escaped LaTeX specials: \$
checkRd: (-1) aqs_qa_pep_audit_by_MA.Rd:56: Escaped LaTeX specials: \$
checkRd: (-1) aqs_qa_pep_audit_by_county.Rd:63: Escaped LaTeX specials: \$
checkRd: (-1) aqs_qa_pep_audit_by_county.Rd:65: Escaped LaTeX specials: \$
checkRd: (-1) aqs_qa_pep_audit_by_pqao.Rd:55: Escaped LaTeX specials: \$
checkRd: (-1) aqs_qa_pep_audit_by_pqao.Rd:56: Escaped LaTeX specials: \$
checkRd: (-1) aqs_qa_pep_audit_by_site.Rd:67: Escaped LaTeX specials: \$
checkRd: (-1) aqs_qa_pep_audit_by_site.Rd:69: Escaped LaTeX specials: \$
checkRd: (-1) aqs_qa_pep_audit_by_state.Rd:56: Escaped LaTeX specials: \$
checkRd: (-1) aqs_qa_pep_audit_by_state.Rd:58: Escaped LaTeX specials: \$
checkRd: (-1) aqs_quarterlysummary_by_box.Rd:75: Escaped LaTeX specials: \$
checkRd: (-1) aqs_quarterlysummary_by_box.Rd:76: Escaped LaTeX specials: \$
checkRd: (-1) aqs_quarterlysummary_by_cbsa.Rd:56: Escaped LaTeX specials: \$
checkRd: (-1) aqs_quarterlysummary_by_cbsa.Rd:57: Escaped LaTeX specials: \$
checkRd: (-1) aqs_quarterlysummary_by_county.Rd:64: Escaped LaTeX specials: \$
checkRd: (-1) aqs_quarterlysummary_by_county.Rd:65: Escaped LaTeX specials: \$
checkRd: (-1) aqs_quarterlysummary_by_site.Rd:68: Escaped LaTeX specials: \$
checkRd: (-1) aqs_quarterlysummary_by_site.Rd:69: Escaped LaTeX specials: \$
checkRd: (-1) aqs_quarterlysummary_by_state.Rd:57: Escaped LaTeX specials: \$
checkRd: (-1) aqs_quarterlysummary_by_state.Rd:58: Escaped LaTeX specials: \$
- checking Rd metadata ... OK
- checking Rd cross-references ... OK
- checking for missing documentation entries ... OK
- checking for code/documentation mismatches ... OK
- checking Rd \usage sections ... OK
- checking Rd contents ... OK
- checking for unstated dependencies in examples ... OK
- checking installed files from ‘inst/doc’ ... OK
- checking files in ‘vignettes’ ... OK
- checking examples ... [1s/1s] OK
- checking for unstated dependencies in ‘tests’ ... OK
- checking tests ... [2s/2s] OK
Running ‘spelling.R’ [0s/0s]
Running ‘testthat.R’ [1s/2s]
- checking for unstated dependencies in vignettes ... OK
- checking package vignettes in ‘inst/doc’ ... OK
- checking running R code from vignettes ... [4s/4s] NONE
‘Acknowledgements.Rmd’ using ‘UTF-8’... [0s/0s] OK
‘EPA_Disclaimer.Rmd’ using ‘UTF-8’... [0s/0s] OK
‘InstallandSetup.Rmd’ using ‘UTF-8’... [0s/0s] OK
‘Intro.Rmd’ using ‘UTF-8’... [0s/0s] OK
‘RAQSAPIFunctions-Brief.Rmd’ using ‘UTF-8’... [0s/0s] OK
‘RAQSAPIFunctions-Long.Rmd’ using ‘UTF-8’... [0s/0s] OK
‘RAQSAPIPurpose.Rmd’ using ‘UTF-8’... [0s/0s] OK
‘RAQSAPIusagetipsandprecautions.Rmd’ using ‘UTF-8’... [0s/0s] OK
‘RAQSAPIvignette.Rmd’ using ‘UTF-8’... [0s/0s] OK
‘TimelinessofAQSData.Rmd’ using ‘UTF-8’... [0s/0s] OK
‘Troubleshooting.Rmd’ using ‘UTF-8’... [0s/0s] OK
‘UsingRAQSAPI.Rmd’ using ‘UTF-8’... [0s/0s] OK
- checking re-building of vignette outputs ... [21s/29s] OK
- checking PDF version of manual ... [8s/11s] OK
- DONE
Status: 1 NOTE
- using check arguments '--no-clean-on-error '