• using R version 4.5.0 (2025-04-11)
  • using platform: x86_64-apple-darwin20
  • R was compiled by     Apple clang version 14.0.0 (clang-1400.0.29.202)     GNU Fortran (GCC) 14.2.0
  • running under: macOS Ventura 13.3.1
  • using session charset: UTF-8
  • checking for file ‘R.oo/DESCRIPTION’ ... OK
  • this is package ‘R.oo’ version ‘1.27.1’
  • checking package namespace information ... OK
  • checking package dependencies ... OK
  • checking if this is a source package ... OK
  • checking if there is a namespace ... OK
  • checking for executable files ... OK
  • checking for hidden files and directories ... OK
  • checking for portable file names ... OK
  • checking for sufficient/correct file permissions ... OK
  • checking whether package ‘R.oo’ can be installed ... [6s/8s] OK See the install log for details.
  • checking installed package size ... OK
  • checking package directory ... OK
  • checking DESCRIPTION meta-information ... OK
  • checking top-level files ... OK
  • checking for left-over files ... OK
  • checking index information ... OK
  • checking package subdirectories ... OK
  • checking code files for non-ASCII characters ... OK
  • checking R files for syntax errors ... OK
  • checking whether the package can be loaded ... [0s/0s] OK
  • checking whether the package can be loaded with stated dependencies ... [0s/0s] OK
  • checking whether the package can be unloaded cleanly ... [0s/0s] OK
  • checking whether the namespace can be loaded with stated dependencies ... [0s/0s] OK
  • checking whether the namespace can be unloaded cleanly ... [0s/0s] OK
  • checking loading without being on the library search path ... [0s/0s] OK
  • checking whether startup messages can be suppressed ... [0s/0s] OK
  • checking dependencies in R code ... OK
  • checking S3 generic/method consistency ... OK
  • checking replacement functions ... OK
  • checking foreign function calls ... OK
  • checking R code for possible problems ... [7s/10s] OK
  • checking Rd files ... [1s/1s] OK
  • checking Rd metadata ... OK
  • checking Rd cross-references ... OK
  • checking for missing documentation entries ... OK
  • checking for code/documentation mismatches ... OK
  • checking Rd \usage sections ... OK
  • checking Rd contents ... OK
  • checking for unstated dependencies in examples ... OK
  • checking sizes of PDF files under ‘inst/doc’ ... OK
  • checking installed files from ‘inst/doc’ ... OK
  • checking examples ... [1s/2s] OK
  • checking for unstated dependencies in ‘tests’ ... OK
  • checking tests ... [18s/28s] OK   Running ‘ASCII.R’ [0s/1s]   Running ‘BasicObject.R’ [0s/0s]   Running ‘Class.R’ [1s/1s]   Running ‘Exception.R’ [0s/0s]   Running ‘Interface.R’ [0s/1s]   Running ‘InternalErrorException.reportBug.R’ [0s/1s]   Running ‘Object.R’ [0s/0s]   Running ‘Object.finalize,noattach.R’ [0s/0s]   Running ‘Object.finalize,onoff.R’ [0s/1s]   Running ‘Object.finalize.R’ [0s/0s]   Running ‘Package.R’ [9s/16s]   Running ‘Package.unload.R’ [0s/0s]   Running ‘StaticMethodsAndNamespaces.R’ [0s/0s]   Running ‘abort.R’ [0s/0s]   Running ‘attachLocally.Object.R’ [0s/0s]   Running ‘equals.R’ [0s/0s]   Running ‘extend.default.R’ [0s/0s]   Running ‘getConstructorS3.R’ [0s/0s]   Running ‘hashCode.R’ [0s/0s]   Running ‘isBeingCreated.Class.R’ [0s/0s]   Running ‘ll.R’ [0s/1s]   Running ‘local.R’ [0s/0s]   Running ‘objectSize.R’ [0s/0s]   Running ‘throw.R’ [0s/0s]   Running ‘trim.R’ [0s/0s]   Running ‘typeOfClass.R’ [0s/0s]   Running ‘zzz.Object.finalize,reentrant.R’ [0s/0s]
  • checking PDF version of manual ... [12s/18s] OK
  • DONE Status: OK
  • using check arguments '--no-clean-on-error '