• using R version 4.2.0 (2022-04-22)
  • using platform: x86_64-apple-darwin17.0 (64-bit)
  • using session charset: UTF-8
  • checking for file ‘EpiILMCT/DESCRIPTION’ ... OK
  • this is package ‘EpiILMCT’ version ‘1.1.7’
  • checking package namespace information ... OK
  • checking package dependencies ... OK
  • checking if this is a source package ... OK
  • checking if there is a namespace ... OK
  • checking for executable files ... OK
  • checking for hidden files and directories ... OK
  • checking for portable file names ... OK
  • checking for sufficient/correct file permissions ... OK
  • checking whether package ‘EpiILMCT’ can be installed ... [15s/16s] OK
  • checking installed package size ... OK
  • checking package directory ... OK
  • checking DESCRIPTION meta-information ... OK
  • checking top-level files ... OK
  • checking for left-over files ... OK
  • checking index information ... OK
  • checking package subdirectories ... OK
  • checking R files for non-ASCII characters ... OK
  • checking R files for syntax errors ... OK
  • checking whether the package can be loaded ... OK
  • checking whether the package can be loaded with stated dependencies ... OK
  • checking whether the package can be unloaded cleanly ... OK
  • checking whether the namespace can be loaded with stated dependencies ... OK
  • checking whether the namespace can be unloaded cleanly ... OK
  • checking loading without being on the library search path ... OK
  • checking dependencies in R code ... OK
  • checking S3 generic/method consistency ... OK
  • checking replacement functions ... OK
  • checking foreign function calls ... OK
  • checking R code for possible problems ... [6s/6s] OK
  • checking Rd files ... [0s/0s] OK
  • checking Rd metadata ... OK
  • checking Rd cross-references ... OK
  • checking for missing documentation entries ... OK
  • checking for code/documentation mismatches ... OK
  • checking Rd \usage sections ... OK
  • checking Rd contents ... OK
  • checking for unstated dependencies in examples ... OK
  • checking contents of ‘data’ directory ... OK
  • checking data for non-ASCII characters ... OK
  • checking data for ASCII and uncompressed saves ... OK
  • checking line endings in C/C++/Fortran sources/headers ... OK
  • checking compiled code ... OK
  • checking examples ... [1s/1s] OK
  • checking for unstated dependencies in ‘tests’ ... OK
  • checking tests ... [4s/4s] OK
      Running ‘as.datagen.R’ [0s/0s]
      Comparing ‘as.datagen.Rout’ to ‘as.datagen.Rout.save’ ... OK
      Running ‘contactnet.R’ [0s/0s]
      Comparing ‘contactnet.Rout’ to ‘contactnet.Rout.save’ ... OK
      Running ‘datagen.R’ [0s/0s]
      Comparing ‘datagen.Rout’ to ‘datagen.Rout.save’ ... OK
      Running ‘epictmcmc.R’ [2s/2s]
      Comparing ‘epictmcmc.Rout’ to ‘epictmcmc.Rout.save’ ... OK
  • checking PDF version of manual ... OK
  • DONE
    Status: OK
  • using check arguments '--no-clean-on-error '