• using R version 4.3.0 beta (2023-04-08 r84203)
  • using platform: x86_64-apple-darwin20 (64-bit)
  • R was compiled by
        Apple clang version 14.0.3 (clang-1403.0.22.14.1)
        GNU Fortran (GCC) 12.2.0
  • running under: macOS Ventura 13.3
  • using session charset: UTF-8
  • checking for file ‘DescrTab2/DESCRIPTION’ ... OK
  • checking extension type ... Package
  • this is package ‘DescrTab2’ version ‘2.1.16’
  • package encoding: UTF-8
  • checking package namespace information ... OK
  • checking package dependencies ... OK
  • checking if this is a source package ... OK
  • checking if there is a namespace ... OK
  • checking for executable files ... OK
  • checking for hidden files and directories ... OK
  • checking for portable file names ... OK
  • checking for sufficient/correct file permissions ... OK
  • checking whether package ‘DescrTab2’ can be installed ... [7s/8s] OK
    See the install log for details.
  • checking installed package size ... OK
  • checking package directory ... OK
  • checking ‘build’ directory ... OK
  • checking DESCRIPTION meta-information ... OK
  • checking top-level files ... OK
  • checking for left-over files ... OK
  • checking index information ... OK
  • checking package subdirectories ... OK
  • checking R files for non-ASCII characters ... OK
  • checking R files for syntax errors ... OK
  • checking whether the package can be loaded ... [1s/2s] OK
  • checking whether the package can be loaded with stated dependencies ... [1s/2s] OK
  • checking whether the package can be unloaded cleanly ... [1s/2s] OK
  • checking whether the namespace can be loaded with stated dependencies ... [1s/2s] OK
  • checking whether the namespace can be unloaded cleanly ... [1s/2s] OK
  • checking loading without being on the library search path ... [1s/2s] OK
  • checking startup messages can be suppressed ... [1s/2s] OK
  • checking dependencies in R code ... NOTE
    There are ::: calls to the package's namespace in its code. A package
      almost never needs to use ::: for its own objects:
      ‘.N’ ‘.Nmiss’ ‘.Q1’ ‘.Q3’ ‘.factorN’ ‘.factorNmiss’ ‘.factorQ1’
      ‘.factorQ3’ ‘.factormax’ ‘.factormean’ ‘.factormedian’ ‘.factormin’
      ‘.factorsd’ ‘.max’ ‘.mean’ ‘.median’ ‘.min’ ‘.sd’
  • checking S3 generic/method consistency ... OK
  • checking replacement functions ... OK
  • checking foreign function calls ... OK
  • checking R code for possible problems ... [7s/11s] OK
  • checking Rd files ... [0s/0s] OK
  • checking Rd metadata ... OK
  • checking Rd cross-references ... OK
  • checking for missing documentation entries ... OK
  • checking for code/documentation mismatches ... OK
  • checking Rd \usage sections ... OK
  • checking Rd contents ... OK
  • checking for unstated dependencies in examples ... OK
  • checking sizes of PDF files under ‘inst/doc’ ... OK
  • checking installed files from ‘inst/doc’ ... OK
  • checking files in ‘vignettes’ ... OK
  • checking examples ... [4s/7s] OK
  • checking for unstated dependencies in ‘tests’ ... OK
  • checking tests ... [36s/54s] OK
      Running ‘testthat.R’ [36s/54s]
  • checking for unstated dependencies in vignettes ... OK
  • checking package vignettes in ‘inst/doc’ ... OK
  • checking running R code from vignettes ... [2s/2s] NONE
      ‘a_usage_guide.Rmd’ using ‘UTF-8’... [0s/0s] OK
      ‘b_test_choice_tree_pdf.Rmd’ using ‘UTF-8’... [0s/0s] OK
      ‘c_other_software_comparison.Rmd’ using ‘UTF-8’... [0s/0s] OK
      ‘d_validation_statement.Rmd’ using ‘UTF-8’... [0s/0s] OK
      ‘e_maintenance_guide.Rmd’ using ‘UTF-8’... [0s/0s] OK
  • checking re-building of vignette outputs ... [30s/49s] OK
  • checking PDF version of manual ... [4s/7s] OK
  • DONE
    Status: 1 NOTE
  • using check arguments '--no-clean-on-error '