• using R version 4.2.0 beta (2022-04-07 r82126)
  • using platform: x86_64-apple-darwin17.0 (64-bit)
  • using session charset: UTF-8
  • checking for file ‘AntMAN/DESCRIPTION’ ... OK
  • checking extension type ... Package
  • this is package ‘AntMAN’ version ‘1.1.0’
  • package encoding: UTF-8
  • checking package namespace information ... OK
  • checking package dependencies ... OK
  • checking if this is a source package ... OK
  • checking if there is a namespace ... OK
  • checking for executable files ... OK
  • checking for hidden files and directories ... OK
  • checking for portable file names ... OK
  • checking for sufficient/correct file permissions ... OK
  • checking whether package ‘AntMAN’ can be installed ... [33s/34s] OK
  • checking installed package size ... NOTE
      installed size is 5.9Mb
      sub-directories of 1Mb or more:
        libs 5.6Mb
  • checking package directory ... OK
  • checking DESCRIPTION meta-information ... OK
  • checking top-level files ... OK
  • checking for left-over files ... OK
  • checking index information ... OK
  • checking package subdirectories ... OK
  • checking R files for non-ASCII characters ... OK
  • checking R files for syntax errors ... OK
  • checking whether the package can be loaded ... OK
  • checking whether the package can be loaded with stated dependencies ... OK
  • checking whether the package can be unloaded cleanly ... OK
  • checking whether the namespace can be loaded with stated dependencies ... OK
  • checking whether the namespace can be unloaded cleanly ... OK
  • checking loading without being on the library search path ... OK
  • checking dependencies in R code ... NOTE
    Namespaces in Imports field not imported from:
      ‘Rdpack’ ‘mcclust’
      All declared Imports should be used.
  • checking S3 generic/method consistency ... OK
  • checking replacement functions ... OK
  • checking foreign function calls ... OK
  • checking R code for possible problems ... [5s/5s] OK
  • checking Rd files ... [1s/1s] OK
  • checking Rd metadata ... OK
  • checking Rd cross-references ... OK
  • checking for missing documentation entries ... OK
  • checking for code/documentation mismatches ... OK
  • checking Rd \usage sections ... OK
  • checking Rd contents ... OK
  • checking for unstated dependencies in examples ... OK
  • checking contents of ‘data’ directory ... OK
  • checking data for non-ASCII characters ... OK
  • checking LazyData ... OK
  • checking data for ASCII and uncompressed saves ... OK
  • checking line endings in C/C++/Fortran sources/headers ... OK
  • checking line endings in Makefiles ... OK
  • checking compilation flags in Makevars ... OK
  • checking for GNU extensions in Makefiles ... OK
  • checking for portable use of $(BLAS_LIBS) and $(LAPACK_LIBS) ... OK
  • checking use of PKG_*FLAGS in Makefiles ... OK
  • checking compiled code ... OK
  • checking examples ... [12s/12s] OK
  • checking for unstated dependencies in ‘tests’ ... OK
  • checking tests ... [104s/112s] OK
      Running ‘UnitTest_AM_binder.R’ [2s/2s]
      Running ‘UnitTest_AM_coclustering.R’ [3s/3s]
      Running ‘UnitTest_AM_demo.R’ [4s/4s]
      Running ‘UnitTest_AM_extract.R’ [5s/5s]
      Running ‘UnitTest_AM_mcmc.R’ [4s/4s]
      Running ‘UnitTest_AM_mix_components_prior.R’ [1s/1s]
      Running ‘UnitTest_AM_mix_hyperparams.R’ [2s/2s]
      Running ‘UnitTest_AM_mix_weights_prior.R’ [1s/1s]
      Running ‘UnitTest_AM_plot.R’ [36s/41s]
      Running ‘UnitTest_AM_prior.R’ [2s/2s]
      Running ‘UnitTest_AM_sample.R’ [1s/1s]
      Running ‘UnitTest_AntMANDatasets.R’ [2s/2s]
      Running ‘UnitTest_AntMANPackage.R’ [1s/1s]
      Running ‘UnitTest_INTERNAL_functions_antman_uninorm.R’ [1s/1s]
      Running ‘UnitTest_INTERNAL_utilities.R’ [1s/1s]
      Running ‘UseCaseCarcinoma.R’ [0s/0s]
      Running ‘UseCaseGalaxy.R’ [0s/0s]
      Running ‘UseCaseSegmentation.R’ [0s/0s]
      Running ‘UseCaseWordCount.R’ [3s/3s]
      Running ‘UserCaseIris.R’ [8s/9s]
      Running ‘template.R’ [1s/1s]
      Running ‘testBasicMultiBer.R’ [5s/6s]
      Running ‘testBasicMultiNorm.R’ [0s/0s]
      Running ‘testBasicUniNormNegBin.R’ [6s/7s]
      Running ‘testBasicUniNormPois.R’ [3s/3s]
      Running ‘testBasicUniPoisDirac.R’ [4s/4s]
      Running ‘testBasicUniPoisGamma.R’ [4s/4s]
  • checking PDF version of manual ... OK
  • DONE
    Status: 2 NOTEs
  • using check arguments '--no-clean-on-error '