• using R version 4.3.0 beta (2023-04-08 r84203)
  • using platform: x86_64-apple-darwin20 (64-bit)
  • R was compiled by
        Apple clang version 14.0.3 (clang-1403.0.22.14.1)
        GNU Fortran (GCC) 12.2.0
  • running under: macOS Ventura 13.3
  • using session charset: UTF-8
  • checking for file ‘AMCP/DESCRIPTION’ ... OK
  • checking extension type ... Package
  • this is package ‘AMCP’ version ‘1.0.1’
  • package encoding: UTF-8
  • checking package namespace information ... OK
  • checking package dependencies ... OK
  • checking if this is a source package ... OK
  • checking if there is a namespace ... OK
  • checking for executable files ... OK
  • checking for hidden files and directories ... OK
  • checking for portable file names ... OK
  • checking for sufficient/correct file permissions ... OK
  • checking whether package ‘AMCP’ can be installed ... [3s/4s] OK
    See the install log for details.
  • checking installed package size ... OK
  • checking package directory ... OK
  • checking DESCRIPTION meta-information ... OK
  • checking top-level files ... OK
  • checking for left-over files ... OK
  • checking index information ... OK
  • checking package subdirectories ... OK
  • checking R files for non-ASCII characters ... OK
  • checking R files for syntax errors ... OK
  • checking whether the package can be loaded ... [0s/0s] OK
  • checking whether the package can be loaded with stated dependencies ... [0s/0s] OK
  • checking whether the package can be unloaded cleanly ... [0s/0s] OK
  • checking whether the namespace can be loaded with stated dependencies ... [0s/0s] OK
  • checking whether the namespace can be unloaded cleanly ... [0s/0s] OK
  • checking loading without being on the library search path ... [0s/0s] OK
  • checking dependencies in R code ... OK
  • checking S3 generic/method consistency ... OK
  • checking replacement functions ... OK
  • checking foreign function calls ... OK
  • checking R code for possible problems ... [1s/1s] OK
  • checking Rd files ... [1s/1s] NOTE
    checkRd: (-1) AMCP-package.Rd:34: Escaped LaTeX specials: \&
    checkRd: (-1) chapter_10_table_5.Rd:58: Escaped LaTeX specials: \&
    checkRd: (-1) chapter_10_table_9.Rd:54: Escaped LaTeX specials: \&
    checkRd: (-1) chapter_11_table_1.Rd:55: Escaped LaTeX specials: \&
    checkRd: (-1) chapter_11_table_19.Rd:56: Escaped LaTeX specials: \&
    checkRd: (-1) chapter_11_table_20.Rd:57: Escaped LaTeX specials: \&
    checkRd: (-1) chapter_11_table_4.Rd:55: Escaped LaTeX specials: \&
    checkRd: (-1) chapter_11_table_5.Rd:55: Escaped LaTeX specials: \&
    checkRd: (-1) chapter_12_table_1.Rd:58: Escaped LaTeX specials: \&
    checkRd: (-1) chapter_12_table_11.Rd:52: Escaped LaTeX specials: \&
    checkRd: (-1) chapter_12_table_15.Rd:54: Escaped LaTeX specials: \&
    checkRd: (-1) chapter_12_table_21.Rd:58: Escaped LaTeX specials: \&
    checkRd: (-1) chapter_12_table_7.Rd:54: Escaped LaTeX specials: \&
    checkRd: (-1) chapter_12_table_9.Rd:53: Escaped LaTeX specials: \&
    checkRd: (-1) chapter_13_table_1.Rd:55: Escaped LaTeX specials: \&
    checkRd: (-1) chapter_13_table_12.Rd:86: Escaped LaTeX specials: \&
    checkRd: (-1) chapter_13_table_12.Rd:89: Escaped LaTeX specials: \&
    checkRd: (-1) chapter_13_table_14.Rd:53: Escaped LaTeX specials: \&
    checkRd: (-1) chapter_13_table_2.Rd:54: Escaped LaTeX specials: \&
    checkRd: (-1) chapter_13_table_5.Rd:55: Escaped LaTeX specials: \&
    checkRd: (-1) chapter_14_table_1.Rd:55: Escaped LaTeX specials: \&
    checkRd: (-1) chapter_14_table_10.Rd:55: Escaped LaTeX specials: \&
    checkRd: (-1) chapter_14_table_3.Rd:56: Escaped LaTeX specials: \&
    checkRd: (-1) chapter_14_table_4.Rd:57: Escaped LaTeX specials: \&
    checkRd: (-1) chapter_14_table_5.Rd:56: Escaped LaTeX specials: \&
    checkRd: (-1) chapter_14_table_8.Rd:56: Escaped LaTeX specials: \&
    checkRd: (-1) chapter_15_table_1.Rd:54: Escaped LaTeX specials: \&
    checkRd: (-1) chapter_16_table_1.Rd:53: Escaped LaTeX specials: \&
    checkRd: (-1) chapter_16_table_4.Rd:58: Escaped LaTeX specials: \&
    checkRd: (-1) chapter_1_exercise_18.Rd:51: Escaped LaTeX specials: \&
    checkRd: (-1) chapter_1_exercise_19.Rd:50: Escaped LaTeX specials: \&
    checkRd: (-1) chapter_1_exercise_21.Rd:50: Escaped LaTeX specials: \&
    checkRd: (-1) chapter_1_exercise_22.Rd:51: Escaped LaTeX specials: \&
    checkRd: (-1) chapter_1_exercise_23.Rd:51: Escaped LaTeX specials: \&
    checkRd: (-1) chapter_1_table_1.Rd:55: Escaped LaTeX specials: \&
    checkRd: (-1) chapter_3_exercise_10.Rd:51: Escaped LaTeX specials: \&
    checkRd: (-1) chapter_3_exercise_11.Rd:50: Escaped LaTeX specials: \&
    checkRd: (-1) chapter_3_exercise_9.Rd:50: Escaped LaTeX specials: \&
    checkRd: (-1) chapter_3_table_1.Rd:51: Escaped LaTeX specials: \&
    checkRd: (-1) chapter_3_table_3.Rd:52: Escaped LaTeX specials: \&
    checkRd: (-1) chapter_3_table_7_raw.Rd:53: Escaped LaTeX specials: \&
    checkRd: (-1) chapter_3_table_7_raw.Rd:56: Escaped LaTeX specials: \&
    checkRd: (-1) chapter_3_table_9_raw.Rd:53: Escaped LaTeX specials: \&
    checkRd: (-1) chapter_3_table_9_raw.Rd:56: Escaped LaTeX specials: \&
    checkRd: (-1) chapter_4_table_1.Rd:52: Escaped LaTeX specials: \&
    checkRd: (-1) chapter_4_table_7.Rd:52: Escaped LaTeX specials: \&
    checkRd: (-1) chapter_5_table_4.Rd:52: Escaped LaTeX specials: \&
    checkRd: (-1) chapter_6_table_1.Rd:52: Escaped LaTeX specials: \&
    checkRd: (-1) chapter_7_table_1.Rd:56: Escaped LaTeX specials: \&
    checkRd: (-1) chapter_7_table_11.Rd:55: Escaped LaTeX specials: \&
    checkRd: (-1) chapter_7_table_15.Rd:39: Escaped LaTeX specials: \$ \$
    checkRd: (-1) chapter_7_table_15.Rd:92: Escaped LaTeX specials: \&
    checkRd: (-1) chapter_7_table_15.Rd:95: Escaped LaTeX specials: \&
    checkRd: (-1) chapter_7_table_23.Rd:56: Escaped LaTeX specials: \&
    checkRd: (-1) chapter_7_table_5.Rd:55: Escaped LaTeX specials: \&
    checkRd: (-1) chapter_7_table_9.Rd:53: Escaped LaTeX specials: \&
    checkRd: (-1) chapter_8_table_12.Rd:55: Escaped LaTeX specials: \&
    checkRd: (-1) chapter_9_extension_exercise_1.Rd:19: Escaped LaTeX specials: \&
    checkRd: (-1) chapter_9_extension_table_1.Rd:54: Escaped LaTeX specials: \&
    checkRd: (-1) chapter_9_table_1.Rd:55: Escaped LaTeX specials: \&
    checkRd: (-1) chapter_9_table_11.Rd:55: Escaped LaTeX specials: \&
    checkRd: (-1) chapter_9_table_7.Rd:54: Escaped LaTeX specials: \&
  • checking Rd metadata ... OK
  • checking Rd cross-references ... OK
  • checking for missing documentation entries ... OK
  • checking for code/documentation mismatches ... OK
  • checking Rd \usage sections ... OK
  • checking Rd contents ... OK
  • checking for unstated dependencies in examples ... OK
  • checking contents of ‘data’ directory ... OK
  • checking data for non-ASCII characters ... [1s/1s] OK
  • checking data for ASCII and uncompressed saves ... OK
  • checking examples ... [1s/2s] OK
  • checking PDF version of manual ... [8s/11s] OK
  • DONE
    Status: 1 NOTE
  • using check arguments '--no-clean-on-error '