• using R version 4.2.0 (2022-04-22)
  • using platform: aarch64-apple-darwin20 (64-bit)
  • using session charset: UTF-8
  • checking for file ‘unitizer/DESCRIPTION’ ... OK
  • this is package ‘unitizer’ version ‘1.4.18’
  • checking package namespace information ... OK
  • checking package dependencies ... OK
  • checking if this is a source package ... OK
  • checking if there is a namespace ... OK
  • checking for executable files ... OK
  • checking for hidden files and directories ... OK
  • checking for portable file names ... OK
  • checking for sufficient/correct file permissions ... OK
  • checking whether package ‘unitizer’ can be installed ... [6s/6s] OK
  • checking installed package size ... OK
  • checking package directory ... OK
  • checking ‘build’ directory ... OK
  • checking DESCRIPTION meta-information ... OK
  • checking top-level files ... OK
  • checking for left-over files ... OK
  • checking index information ... OK
  • checking package subdirectories ... OK
  • checking R files for non-ASCII characters ... OK
  • checking R files for syntax errors ... OK
  • checking whether the package can be loaded ... OK
  • checking whether the package can be loaded with stated dependencies ... OK
  • checking whether the package can be unloaded cleanly ... OK
  • checking whether the namespace can be loaded with stated dependencies ... OK
  • checking whether the namespace can be unloaded cleanly ... OK
  • checking loading without being on the library search path ... OK
  • checking dependencies in R code ... OK
  • checking S3 generic/method consistency ... OK
  • checking replacement functions ... OK
  • checking foreign function calls ... OK
  • checking R code for possible problems ... [5s/6s] OK
  • checking Rd files ... [0s/0s] OK
  • checking Rd metadata ... OK
  • checking Rd cross-references ... OK
  • checking for missing documentation entries ... OK
  • checking for code/documentation mismatches ... OK
  • checking Rd \usage sections ... OK
  • checking Rd contents ... OK
  • checking for unstated dependencies in examples ... OK
  • checking installed files from ‘inst/doc’ ... OK
  • checking files in ‘vignettes’ ... OK
  • checking examples ... [0s/0s] OK
  • checking for unstated dependencies in ‘tests’ ... OK
  • checking tests ... [64s/72s] OK
      Running ‘not-cran.R’ [0s/0s]
      Running ‘t-browser.R’ [1s/1s]
      Comparing ‘t-browser.Rout’ to ‘t-browser.Rout.save’ ... OK
      Running ‘t-capture.R’ [0s/0s]
      Comparing ‘t-capture.Rout’ to ‘t-capture.Rout.save’ ... OK
      Running ‘t-change.R’ [0s/0s]
      Comparing ‘t-change.Rout’ to ‘t-change.Rout.save’ ... OK
      Running ‘t-demo.R’ [10s/11s]
      Comparing ‘t-demo.Rout’ to ‘t-demo.Rout.save’ ... OK
      Running ‘t-error.R’ [0s/1s]
      Comparing ‘t-error.Rout’ to ‘t-error.Rout.save’ ... OK
      Running ‘t-exec.R’ [0s/1s]
      Comparing ‘t-exec.Rout’ to ‘t-exec.Rout.save’ ... OK
      Running ‘t-get.R’ [1s/1s]
      Comparing ‘t-get.Rout’ to ‘t-get.Rout.save’ ... OK
      Running ‘t-global.R’ [0s/0s]
      Comparing ‘t-global.Rout’ to ‘t-global.Rout.save’ ... OK
      Running ‘t-handledruns.R’ [1s/1s]
      Comparing ‘t-handledruns.Rout’ to ‘t-handledruns.Rout.save’ ... OK
      Running ‘t-ischecks.R’ [0s/0s]
      Comparing ‘t-ischecks.Rout’ to ‘t-ischecks.Rout.save’ ... OK
      Running ‘t-item.R’ [1s/1s]
      Comparing ‘t-item.Rout’ to ‘t-item.Rout.save’ ... OK
      Running ‘t-list.R’ [0s/0s]
      Comparing ‘t-list.Rout’ to ‘t-list.Rout.save’ ... OK
      Running ‘t-misc.R’ [1s/1s]
      Comparing ‘t-misc.Rout’ to ‘t-misc.Rout.save’ ... OK
      Running ‘t-nav.R’ [1s/2s]
      Comparing ‘t-nav.Rout’ to ‘t-nav.Rout.save’ ... OK
      Running ‘t-parse.R’ [1s/1s]
      Comparing ‘t-parse.Rout’ to ‘t-parse.Rout.save’ ... OK
      Running ‘t-prompt.R’ [0s/0s]
      Comparing ‘t-prompt.Rout’ to ‘t-prompt.Rout.save’ ... OK
      Running ‘t-random.R’ [1s/1s]
      Comparing ‘t-random.Rout’ to ‘t-random.Rout.save’ ... OK
      Running ‘t-rename.R’ [0s/0s]
      Comparing ‘t-rename.Rout’ to ‘t-rename.Rout.save’ ... OK
      Running ‘t-repairenvs.R’ [1s/1s]
      Comparing ‘t-repairenvs.Rout’ to ‘t-repairenvs.Rout.save’ ... OK
      Running ‘t-search.R’ [6s/7s]
      Comparing ‘t-search.Rout’ to ‘t-search.Rout.save’ ... OK
      Running ‘t-section.R’ [1s/1s]
      Comparing ‘t-section.Rout’ to ‘t-section.Rout.save’ ... OK
      Running ‘t-shim.R’ [7s/7s]
      Comparing ‘t-shim.Rout’ to ‘t-shim.Rout.save’ ... OK
      Running ‘t-state.R’ [1s/1s]
      Comparing ‘t-state.Rout’ to ‘t-state.Rout.save’ ... OK
      Running ‘t-text.R’ [0s/1s]
      Comparing ‘t-text.Rout’ to ‘t-text.Rout.save’ ... OK
      Running ‘t-translate.R’ [1s/1s]
      Comparing ‘t-translate.Rout’ to ‘t-translate.Rout.save’ ... OK
      Running ‘t-upgrade.R’ [2s/2s]
      Comparing ‘t-upgrade.Rout’ to ‘t-upgrade.Rout.save’ ... OK
      Running ‘t-utz1.R’ [14s/16s]
      Comparing ‘t-utz1.Rout’ to ‘t-utz1.Rout.save’ ... OK
      Running ‘t-utz2.R’ [10s/13s]
      Comparing ‘t-utz2.Rout’ to ‘t-utz2.Rout.save’ ... OK
      Running ‘zz-check.R’ [0s/1s]
  • checking for unstated dependencies in vignettes ... OK
  • checking package vignettes in ‘inst/doc’ ... OK
  • checking running R code from vignettes ... [1s/1s] NONE
      ‘u0_unitizer_index.Rmd’... [0s/0s] OK
      ‘u1_intro.Rmd’... [0s/0s] OK
      ‘u2_tests.Rmd’... [0s/0s] OK
      ‘u3_interactive-env.Rmd’... [0s/0s] OK
      ‘u4_reproducible-tests.Rmd’... [0s/0s] OK
      ‘u5_miscellaneous.Rmd’... [0s/0s] OK
  • checking re-building of vignette outputs ... [3s/5s] OK
  • checking PDF version of manual ... OK
  • DONE
    Status: OK
  • using check arguments '--no-clean-on-error '