• using R version 4.5.0 beta (2025-03-29 r88069)
  • using platform: aarch64-apple-darwin20
  • R was compiled by     Apple clang version 14.0.0 (clang-1400.0.29.202)     GNU Fortran (GCC) 14.2.0
  • running under: macOS Ventura 13.4
  • using session charset: UTF-8
  • checking for file ‘tfaddons/DESCRIPTION’ ... OK
  • checking extension type ... Package
  • this is package ‘tfaddons’ version ‘0.10.0’
  • package encoding: UTF-8
  • checking package namespace information ... OK
  • checking package dependencies ... OK
  • checking if this is a source package ... OK
  • checking if there is a namespace ... OK
  • checking for executable files ... OK
  • checking for hidden files and directories ... OK
  • checking for portable file names ... OK
  • checking for sufficient/correct file permissions ... OK
  • checking whether package ‘tfaddons’ can be installed ... [4s/6s] OK See the install log for details.
  • checking installed package size ... OK
  • checking package directory ... OK
  • checking ‘build’ directory ... OK
  • checking DESCRIPTION meta-information ... OK
  • checking top-level files ... OK
  • checking for left-over files ... OK
  • checking index information ... OK
  • checking package subdirectories ... OK
  • checking code files for non-ASCII characters ... OK
  • checking R files for syntax errors ... OK
  • checking whether the package can be loaded ... [1s/1s] OK
  • checking whether the package can be loaded with stated dependencies ... [1s/1s] OK
  • checking whether the package can be unloaded cleanly ... [1s/1s] OK
  • checking whether the namespace can be loaded with stated dependencies ... [1s/1s] OK
  • checking whether the namespace can be unloaded cleanly ... [1s/1s] OK
  • checking loading without being on the library search path ... [1s/1s] OK
  • checking whether startup messages can be suppressed ... [1s/1s] OK
  • checking dependencies in R code ... OK
  • checking S3 generic/method consistency ... OK
  • checking replacement functions ... OK
  • checking foreign function calls ... OK
  • checking R code for possible problems ... [4s/5s] OK
  • checking Rd files ... [1s/1s] NOTE checkRd: (-1) callback_average_model_checkpoint.Rd:30: Lost braces; missing escapes or markup?     30 | formatting options like `{epoch}` then `filepath` will be overwritten by each new        | ^ checkRd: (-1) callback_average_model_checkpoint.Rd:36: Lost braces; missing escapes or markup?     36 | \item{mode}{one of {auto, min, max}. If `save_best_only=TRUE`, the decision to        | ^ checkRd: (-1) callback_average_model_checkpoint.Rd:63: Lost braces; missing escapes or markup?     63 | if `filepath` is `weights.{epoch:02d}-{val_loss:.2f}.hdf5`,:        | ^ checkRd: (-1) callback_average_model_checkpoint.Rd:63: Lost braces; missing escapes or markup?     63 | if `filepath` is `weights.{epoch:02d}-{val_loss:.2f}.hdf5`,:        | ^ checkRd: (-1) callback_tqdm_progress_bar.Rd:23: Lost braces; missing escapes or markup?     23 | By default: '{l_bar}{bar} {n_fmt}/{total_fmt} ETA: {remaining}s, {rate_fmt}{postfix}'}        | ^ checkRd: (-1) callback_tqdm_progress_bar.Rd:23: Lost braces     23 | By default: '{l_bar}{bar} {n_fmt}/{total_fmt} ETA: {remaining}s, {rate_fmt}{postfix}'}        | ^ checkRd: (-1) callback_tqdm_progress_bar.Rd:23: Lost braces; missing escapes or markup?     23 | By default: '{l_bar}{bar} {n_fmt}/{total_fmt} ETA: {remaining}s, {rate_fmt}{postfix}'}        | ^ checkRd: (-1) callback_tqdm_progress_bar.Rd:23: Lost braces; missing escapes or markup?     23 | By default: '{l_bar}{bar} {n_fmt}/{total_fmt} ETA: {remaining}s, {rate_fmt}{postfix}'}        | ^ checkRd: (-1) callback_tqdm_progress_bar.Rd:23: Lost braces; missing escapes or markup?     23 | By default: '{l_bar}{bar} {n_fmt}/{total_fmt} ETA: {remaining}s, {rate_fmt}{postfix}'}        | ^ checkRd: (-1) callback_tqdm_progress_bar.Rd:23: Lost braces; missing escapes or markup?     23 | By default: '{l_bar}{bar} {n_fmt}/{total_fmt} ETA: {remaining}s, {rate_fmt}{postfix}'}        | ^ checkRd: (-1) callback_tqdm_progress_bar.Rd:23: Lost braces     23 | By default: '{l_bar}{bar} {n_fmt}/{total_fmt} ETA: {remaining}s, {rate_fmt}{postfix}'}        | ^ checkRd: (-1) img_interpolate_spline.Rd:46: Lost braces; missing escapes or markup?     46 | f(x) = `\\sum_{i = 1}^n w_i \\phi(||x - c_i||) + v^T x + b`. This is a sum of two terms:        | ^ checkRd: (-1) loss_npairs_multilabel.Rd:26: Lost braces; missing escapes or markup?     26 | L_{i,j} = | set_of_labels_for(i) `\\cap` set_of_labels_for(j) |        | ^
  • checking Rd metadata ... OK
  • checking Rd cross-references ... OK
  • checking for missing documentation entries ... OK
  • checking for code/documentation mismatches ... OK
  • checking Rd \usage sections ... OK
  • checking Rd contents ... OK
  • checking for unstated dependencies in examples ... OK
  • checking LazyData ... INFO   'LazyData' is specified without a 'data' directory
  • checking installed files from ‘inst/doc’ ... OK
  • checking files in ‘vignettes’ ... OK
  • checking examples ... [1s/1s] OK
  • checking for unstated dependencies in ‘tests’ ... OK
  • checking tests ... [5s/5s] OK   Running ‘testthat.R’ [5s/5s]
  • checking for unstated dependencies in vignettes ... OK
  • checking package vignettes ... OK
  • checking re-building of vignette outputs ... [9s/35s] OK
  • checking PDF version of manual ... [6s/8s] OK
  • DONE Status: 1 NOTE
  • using check arguments '--no-clean-on-error '