• using R version 4.5.0 beta (2025-03-29 r88069)
  • using platform: aarch64-apple-darwin20
  • R was compiled by     Apple clang version 14.0.0 (clang-1400.0.29.202)     GNU Fortran (GCC) 14.2.0
  • running under: macOS Ventura 13.4
  • using session charset: UTF-8
  • checking for file ‘survey/DESCRIPTION’ ... OK
  • this is package ‘survey’ version ‘4.4-2’
  • checking package namespace information ... OK
  • checking package dependencies ... OK
  • checking if this is a source package ... OK
  • checking if there is a namespace ... OK
  • checking for executable files ... OK
  • checking for hidden files and directories ... OK
  • checking for portable file names ... OK
  • checking for sufficient/correct file permissions ... OK
  • checking whether package ‘survey’ can be installed ... [16s/24s] OK See the install log for details.
  • used C++ compiler: ‘Apple clang version 14.0.0 (clang-1400.0.29.202)’
  • used SDK: ‘MacOSX11.3.sdk’
  • checking installed package size ... INFO   installed size is 5.9Mb   sub-directories of 1Mb or more:     R 1.1Mb     doc 1.5Mb     libs 2.0Mb
  • checking package directory ... OK
  • checking ‘build’ directory ... OK
  • checking DESCRIPTION meta-information ... OK
  • checking top-level files ... OK
  • checking for left-over files ... OK
  • checking index information ... OK
  • checking package subdirectories ... OK
  • checking code files for non-ASCII characters ... OK
  • checking R files for syntax errors ... OK
  • checking whether the package can be loaded ... [1s/1s] OK
  • checking whether the package can be loaded with stated dependencies ... [1s/1s] OK
  • checking whether the package can be unloaded cleanly ... [1s/1s] OK
  • checking whether the namespace can be loaded with stated dependencies ... [1s/1s] OK
  • checking whether the namespace can be unloaded cleanly ... [1s/1s] OK
  • checking loading without being on the library search path ... [1s/1s] OK
  • checking whether startup messages can be suppressed ... [1s/1s] OK
  • checking dependencies in R code ... OK
  • checking S3 generic/method consistency ... OK
  • checking replacement functions ... OK
  • checking foreign function calls ... OK
  • checking R code for possible problems ... [14s/17s] OK
  • checking Rd files ... [0s/1s] OK
  • checking Rd metadata ... OK
  • checking Rd cross-references ... OK
  • checking for missing documentation entries ... OK
  • checking for code/documentation mismatches ... OK
  • checking Rd \usage sections ... OK
  • checking Rd contents ... OK
  • checking for unstated dependencies in examples ... OK
  • checking contents of ‘data’ directory ... OK
  • checking data for non-ASCII characters ... [0s/0s] OK
  • checking data for ASCII and uncompressed saves ... OK
  • checking R/sysdata.rda ... OK
  • checking line endings in C/C++/Fortran sources/headers ... OK
  • checking use of PKG_*FLAGS in Makefiles ... OK
  • checking compiled code ... OK
  • checking sizes of PDF files under ‘inst/doc’ ... OK
  • checking installed files from ‘inst/doc’ ... OK
  • checking files in ‘vignettes’ ... OK
  • checking examples ... [9s/11s] OK
  • checking for unstated dependencies in ‘tests’ ... OK
  • checking tests ... [52s/63s] OK   Running ‘3stage2phase.R’ [1s/1s]   Running ‘DBIcheck.R’ [1s/1s]   Running ‘anova-svycoxph.R’ [1s/1s]   Running ‘api.R’ [1s/1s]   Running ‘badcal.R’ [1s/1s]   Comparing ‘badcal.Rout’ to ‘badcal.Rout.save’ ... OK   Running ‘brewer_cpp.R’ [1s/1s]   Running ‘bycovmat.R’ [1s/1s]   Running ‘caleg.R’ [1s/1s]   Running ‘check.R’ [1s/1s]   Comparing ‘check.Rout’ to ‘check.Rout.save’ ... OK   Running ‘confintrep.R’ [1s/1s]   Running ‘contrast-replicates.R’ [1s/1s]   Running ‘coxph-termtest.R’ [1s/1s]   Running ‘deff.R’ [1s/1s]   Comparing ‘deff.Rout’ to ‘deff.Rout.save’ ... OK   Running ‘defftest.R’ [1s/1s]   Running ‘degf-svrepdesign.R’ [1s/1s]   Running ‘domain.R’ [1s/1s]   Comparing ‘domain.Rout’ to ‘domain.Rout.save’ ... OK   Running ‘fpc.R’ [1s/1s]   Running ‘glm-scoping.R’ [1s/1s]   Running ‘kalton.R’ [1s/1s]   Comparing ‘kalton.Rout’ to ‘kalton.Rout.save’ ... OK   Running ‘logranktest.R’ [1s/1s]   Running ‘lonely.psu.R’ [1s/1s]   Comparing ‘lonely.psu.Rout’ to ‘lonely.psu.Rout.save’ ... OK   Running ‘mtcars-var.R’ [1s/1s]   Running ‘multistage-rcpp.R’ [1s/1s]   Running ‘multistage.R’ [1s/1s]   Running ‘na_action.R’ [1s/1s]   Running ‘newquantile.R’ [1s/1s]   Running ‘nwts-cch.R’ [1s/2s]   Running ‘nwts.R’ [1s/2s]   Comparing ‘nwts.Rout’ to ‘nwts.Rout.save’ ... OK   Running ‘poisson.R’ [1s/1s]   Running ‘pps.R’ [1s/1s]   Running ‘qrule-swiss.R’ [1s/1s]   Running ‘quantile.R’ [2s/2s]   Comparing ‘quantile.Rout’ to ‘quantile.Rout.save’ ... OK   Running ‘quantiles-chile.R’ [1s/1s]   Running ‘rakecheck.R’ [1s/1s]   Comparing ‘rakecheck.Rout’ to ‘rakecheck.Rout.save’ ... OK   Running ‘raowuboot.R’ [1s/1s]   Comparing ‘raowuboot.Rout’ to ‘raowuboot.Rout.save’ ... OK   Running ‘regTermTest-missing.R’ [1s/1s]   Running ‘regpredict.R’ [1s/1s]   Comparing ‘regpredict.Rout’ to ‘regpredict.Rout.save’ ... OK   Running ‘rss_scores.R’ [1s/1s]   Running ‘scoping.R’ [1s/1s]   Running ‘survcurve.R’ [2s/3s]   Comparing ‘survcurve.Rout’ to ‘survcurve.Rout.save’ ... OK   Running ‘svyby-strings.R’ [1s/1s]   Running ‘svyby_bug.R’ [1s/1s]   Running ‘svyby_se.R’ [1s/2s]   Running ‘svycontrast.R’ [1s/1s]   Running ‘svyivreg-var.R’ [1s/1s]   Running ‘svyivreg.R’ [1s/2s]   Running ‘svyolr-rake-subset.R’ [1s/1s]   Running ‘svyolr.R’ [1s/1s]   Running ‘toy_example_for_postStratify.R’ [1s/1s]   Running ‘twophase.R’ [2s/2s]   Comparing ‘twophase.Rout’ to ‘twophase.Rout.save’ ... OK
  • checking for unstated dependencies in vignettes ... OK
  • checking package vignettes ... OK
  • checking re-building of vignette outputs ... [28s/45s] OK
  • checking PDF version of manual ... [10s/12s] OK
  • DONE Status: OK
  • using check arguments '--no-clean-on-error '